BEGIN:VCALENDAR
VERSION:2.0
PRODID:-//Knowle Cricket Club - ECPv6.15.20//NONSGML v1.0//EN
CALSCALE:GREGORIAN
METHOD:PUBLISH
X-ORIGINAL-URL:https://www.knowle-cricketclub.co.uk
X-WR-CALDESC:Events for Knowle Cricket Club
REFRESH-INTERVAL;VALUE=DURATION:PT1H
X-Robots-Tag:noindex
X-PUBLISHED-TTL:PT1H
BEGIN:VTIMEZONE
TZID:Europe/London
BEGIN:DAYLIGHT
TZOFFSETFROM:+0000
TZOFFSETTO:+0100
TZNAME:BST
DTSTART:20210328T010000
END:DAYLIGHT
BEGIN:STANDARD
TZOFFSETFROM:+0100
TZOFFSETTO:+0000
TZNAME:GMT
DTSTART:20211031T010000
END:STANDARD
BEGIN:DAYLIGHT
TZOFFSETFROM:+0000
TZOFFSETTO:+0100
TZNAME:BST
DTSTART:20220327T010000
END:DAYLIGHT
BEGIN:STANDARD
TZOFFSETFROM:+0100
TZOFFSETTO:+0000
TZNAME:GMT
DTSTART:20221030T010000
END:STANDARD
BEGIN:DAYLIGHT
TZOFFSETFROM:+0000
TZOFFSETTO:+0100
TZNAME:BST
DTSTART:20230326T010000
END:DAYLIGHT
BEGIN:STANDARD
TZOFFSETFROM:+0100
TZOFFSETTO:+0000
TZNAME:GMT
DTSTART:20231029T010000
END:STANDARD
END:VTIMEZONE
BEGIN:VEVENT
DTSTART;TZID=Europe/London:20220814T133000
DTEND;TZID=Europe/London:20220814T190000
DTSTAMP:20260425T035237
CREATED:20220413T221334Z
LAST-MODIFIED:20220413T221334Z
UID:3759-1660483800-1660503600@www.knowle-cricketclub.co.uk
SUMMARY:Knowle CC Sunday North Somerset XI v Carsons & Mangotsfield CC Sunday 1st XI
DESCRIPTION:Sunday Conference Division 2
URL:https://www.knowle-cricketclub.co.uk/event-details/knowle-cc-sunday-north-somerset-xi-v-carsons-mangotsfield-cc-sunday-1st-xi-2/
CATEGORIES:Senior Cricket
END:VEVENT
BEGIN:VEVENT
DTSTART;TZID=Europe/London:20220814T140000
DTEND;TZID=Europe/London:20220814T160000
DTSTAMP:20260425T035237
CREATED:20220413T221334Z
LAST-MODIFIED:20220413T221334Z
UID:3760-1660485600-1660492800@www.knowle-cricketclub.co.uk
SUMMARY:Knowle CC Womens 1st XI v Weston-super-Mare CC Womens 1st XI
DESCRIPTION:Women’s Softball League Division 2 North
URL:https://www.knowle-cricketclub.co.uk/event-details/knowle-cc-womens-1st-xi-v-weston-super-mare-cc-womens-1st-xi-2/
CATEGORIES:Senior Cricket
END:VEVENT
END:VCALENDAR