BEGIN:VCALENDAR
VERSION:2.0
PRODID:-//Knowle Cricket Club - ECPv6.15.20//NONSGML v1.0//EN
CALSCALE:GREGORIAN
METHOD:PUBLISH
X-ORIGINAL-URL:https://www.knowle-cricketclub.co.uk
X-WR-CALDESC:Events for Knowle Cricket Club
REFRESH-INTERVAL;VALUE=DURATION:PT1H
X-Robots-Tag:noindex
X-PUBLISHED-TTL:PT1H
BEGIN:VTIMEZONE
TZID:Europe/London
BEGIN:DAYLIGHT
TZOFFSETFROM:+0000
TZOFFSETTO:+0100
TZNAME:BST
DTSTART:20250330T010000
END:DAYLIGHT
BEGIN:STANDARD
TZOFFSETFROM:+0100
TZOFFSETTO:+0000
TZNAME:GMT
DTSTART:20251026T010000
END:STANDARD
BEGIN:DAYLIGHT
TZOFFSETFROM:+0000
TZOFFSETTO:+0100
TZNAME:BST
DTSTART:20260329T010000
END:DAYLIGHT
BEGIN:STANDARD
TZOFFSETFROM:+0100
TZOFFSETTO:+0000
TZNAME:GMT
DTSTART:20261025T010000
END:STANDARD
BEGIN:DAYLIGHT
TZOFFSETFROM:+0000
TZOFFSETTO:+0100
TZNAME:BST
DTSTART:20270328T010000
END:DAYLIGHT
BEGIN:STANDARD
TZOFFSETFROM:+0100
TZOFFSETTO:+0000
TZNAME:GMT
DTSTART:20271031T010000
END:STANDARD
END:VTIMEZONE
BEGIN:VEVENT
DTSTART;TZID=Europe/London:20260704T120000
DTEND;TZID=Europe/London:20260704T190000
DTSTAMP:20260420T184758
CREATED:20260206T184853Z
LAST-MODIFIED:20260206T184853Z
UID:4216-1783166400-1783191600@www.knowle-cricketclub.co.uk
SUMMARY:Knowle CC 1st XI v Bath CC 2nd XI
DESCRIPTION:League
URL:https://www.knowle-cricketclub.co.uk/event-details/knowle-cc-1st-xi-v-bath-cc-2nd-xi-3/
CATEGORIES:Senior Cricket
END:VEVENT
BEGIN:VEVENT
DTSTART;TZID=Europe/London:20260704T130000
DTEND;TZID=Europe/London:20260704T190000
DTSTAMP:20260420T184758
CREATED:20260206T184854Z
LAST-MODIFIED:20260206T184854Z
UID:4217-1783170000-1783191600@www.knowle-cricketclub.co.uk
SUMMARY:Old Down CC 1st XI v Knowle CC 2nd XI
DESCRIPTION:League
URL:https://www.knowle-cricketclub.co.uk/event-details/old-down-cc-1st-xi-v-knowle-cc-2nd-xi/
CATEGORIES:Senior Cricket
END:VEVENT
BEGIN:VEVENT
DTSTART;TZID=Europe/London:20260704T130000
DTEND;TZID=Europe/London:20260704T190000
DTSTAMP:20260420T184758
CREATED:20260206T184854Z
LAST-MODIFIED:20260206T184854Z
UID:4218-1783170000-1783191600@www.knowle-cricketclub.co.uk
SUMMARY:Stapleton CC\, Bristol 2nd XI v Knowle CC 3rd XI
DESCRIPTION:League
URL:https://www.knowle-cricketclub.co.uk/event-details/stapleton-cc-bristol-2nd-xi-v-knowle-cc-3rd-xi/
CATEGORIES:Senior Cricket
END:VEVENT
BEGIN:VEVENT
DTSTART;TZID=Europe/London:20260704T130000
DTEND;TZID=Europe/London:20260704T190000
DTSTAMP:20260420T184758
CREATED:20260206T184854Z
LAST-MODIFIED:20260206T184854Z
UID:4219-1783170000-1783191600@www.knowle-cricketclub.co.uk
SUMMARY:Chilcompton Sports CC 2nd XI v Knowle CC 4th XI
DESCRIPTION:League
URL:https://www.knowle-cricketclub.co.uk/event-details/chilcompton-sports-cc-2nd-xi-v-knowle-cc-4th-xi/
CATEGORIES:Senior Cricket
END:VEVENT
END:VCALENDAR