BEGIN:VCALENDAR
VERSION:2.0
PRODID:-//Knowle Cricket Club - ECPv6.15.20//NONSGML v1.0//EN
CALSCALE:GREGORIAN
METHOD:PUBLISH
X-WR-CALNAME:Knowle Cricket Club
X-ORIGINAL-URL:https://www.knowle-cricketclub.co.uk
X-WR-CALDESC:Events for Knowle Cricket Club
REFRESH-INTERVAL;VALUE=DURATION:PT1H
X-Robots-Tag:noindex
X-PUBLISHED-TTL:PT1H
BEGIN:VTIMEZONE
TZID:Europe/London
BEGIN:DAYLIGHT
TZOFFSETFROM:+0000
TZOFFSETTO:+0100
TZNAME:BST
DTSTART:20250330T010000
END:DAYLIGHT
BEGIN:STANDARD
TZOFFSETFROM:+0100
TZOFFSETTO:+0000
TZNAME:GMT
DTSTART:20251026T010000
END:STANDARD
BEGIN:DAYLIGHT
TZOFFSETFROM:+0000
TZOFFSETTO:+0100
TZNAME:BST
DTSTART:20260329T010000
END:DAYLIGHT
BEGIN:STANDARD
TZOFFSETFROM:+0100
TZOFFSETTO:+0000
TZNAME:GMT
DTSTART:20261025T010000
END:STANDARD
BEGIN:DAYLIGHT
TZOFFSETFROM:+0000
TZOFFSETTO:+0100
TZNAME:BST
DTSTART:20270328T010000
END:DAYLIGHT
BEGIN:STANDARD
TZOFFSETFROM:+0100
TZOFFSETTO:+0000
TZNAME:GMT
DTSTART:20271031T010000
END:STANDARD
END:VTIMEZONE
BEGIN:VEVENT
DTSTART;TZID=Europe/London:20260801T120000
DTEND;TZID=Europe/London:20260801T190000
DTSTAMP:20260420T200550
CREATED:20260206T184956Z
LAST-MODIFIED:20260206T184956Z
UID:4239-1785585600-1785610800@www.knowle-cricketclub.co.uk
SUMMARY:Keynsham CC 1st XI v Knowle CC 1st XI
DESCRIPTION:League
URL:https://www.knowle-cricketclub.co.uk/event-details/keynsham-cc-1st-xi-v-knowle-cc-1st-xi-7/
CATEGORIES:Senior Cricket
END:VEVENT
BEGIN:VEVENT
DTSTART;TZID=Europe/London:20260801T130000
DTEND;TZID=Europe/London:20260801T190000
DTSTAMP:20260420T200550
CREATED:20260206T184956Z
LAST-MODIFIED:20260206T184956Z
UID:4240-1785589200-1785610800@www.knowle-cricketclub.co.uk
SUMMARY:Knowle CC 2nd XI v Pakistani Express CC 1st XI
DESCRIPTION:League
URL:https://www.knowle-cricketclub.co.uk/event-details/knowle-cc-2nd-xi-v-pakistani-express-cc-1st-xi/
CATEGORIES:Senior Cricket
END:VEVENT
BEGIN:VEVENT
DTSTART;TZID=Europe/London:20260801T130000
DTEND;TZID=Europe/London:20260801T190000
DTSTAMP:20260420T200550
CREATED:20260206T185011Z
LAST-MODIFIED:20260206T185011Z
UID:4241-1785589200-1785610800@www.knowle-cricketclub.co.uk
SUMMARY:Dyrham & Hinton CC 1st XI v Knowle CC 3rd XI
DESCRIPTION:League
URL:https://www.knowle-cricketclub.co.uk/event-details/dyrham-hinton-cc-1st-xi-v-knowle-cc-3rd-xi/
CATEGORIES:Senior Cricket
END:VEVENT
BEGIN:VEVENT
DTSTART;TZID=Europe/London:20260801T130000
DTEND;TZID=Europe/London:20260801T190000
DTSTAMP:20260420T200550
CREATED:20260206T185011Z
LAST-MODIFIED:20260206T185011Z
UID:4242-1785589200-1785610800@www.knowle-cricketclub.co.uk
SUMMARY:Knowle CC 4th XI v Whitchurch CC\, Somerset 3rd XI
DESCRIPTION:League
URL:https://www.knowle-cricketclub.co.uk/event-details/knowle-cc-4th-xi-v-whitchurch-cc-somerset-3rd-xi/
CATEGORIES:Senior Cricket
END:VEVENT
END:VCALENDAR