BEGIN:VCALENDAR
VERSION:2.0
PRODID:-//Knowle Cricket Club - ECPv6.15.20//NONSGML v1.0//EN
CALSCALE:GREGORIAN
METHOD:PUBLISH
X-WR-CALNAME:Knowle Cricket Club
X-ORIGINAL-URL:https://www.knowle-cricketclub.co.uk
X-WR-CALDESC:Events for Knowle Cricket Club
REFRESH-INTERVAL;VALUE=DURATION:PT1H
X-Robots-Tag:noindex
X-PUBLISHED-TTL:PT1H
BEGIN:VTIMEZONE
TZID:Europe/London
BEGIN:DAYLIGHT
TZOFFSETFROM:+0000
TZOFFSETTO:+0100
TZNAME:BST
DTSTART:20210328T010000
END:DAYLIGHT
BEGIN:STANDARD
TZOFFSETFROM:+0100
TZOFFSETTO:+0000
TZNAME:GMT
DTSTART:20211031T010000
END:STANDARD
BEGIN:DAYLIGHT
TZOFFSETFROM:+0000
TZOFFSETTO:+0100
TZNAME:BST
DTSTART:20220327T010000
END:DAYLIGHT
BEGIN:STANDARD
TZOFFSETFROM:+0100
TZOFFSETTO:+0000
TZNAME:GMT
DTSTART:20221030T010000
END:STANDARD
BEGIN:DAYLIGHT
TZOFFSETFROM:+0000
TZOFFSETTO:+0100
TZNAME:BST
DTSTART:20230326T010000
END:DAYLIGHT
BEGIN:STANDARD
TZOFFSETFROM:+0100
TZOFFSETTO:+0000
TZNAME:GMT
DTSTART:20231029T010000
END:STANDARD
BEGIN:DAYLIGHT
TZOFFSETFROM:+0000
TZOFFSETTO:+0100
TZNAME:BST
DTSTART:20240331T010000
END:DAYLIGHT
BEGIN:STANDARD
TZOFFSETFROM:+0100
TZOFFSETTO:+0000
TZNAME:GMT
DTSTART:20241027T010000
END:STANDARD
BEGIN:DAYLIGHT
TZOFFSETFROM:+0000
TZOFFSETTO:+0100
TZNAME:BST
DTSTART:20250330T010000
END:DAYLIGHT
BEGIN:STANDARD
TZOFFSETFROM:+0100
TZOFFSETTO:+0000
TZNAME:GMT
DTSTART:20251026T010000
END:STANDARD
BEGIN:DAYLIGHT
TZOFFSETFROM:+0000
TZOFFSETTO:+0100
TZNAME:BST
DTSTART:20260329T010000
END:DAYLIGHT
BEGIN:STANDARD
TZOFFSETFROM:+0100
TZOFFSETTO:+0000
TZNAME:GMT
DTSTART:20261025T010000
END:STANDARD
END:VTIMEZONE
BEGIN:VEVENT
DTSTART;TZID=Europe/London:20251102T163000
DTEND;TZID=Europe/London:20251102T210000
DTSTAMP:20260421T004152
CREATED:20250929T221554Z
LAST-MODIFIED:20251022T175130Z
UID:4136-1762101000-1762117200@www.knowle-cricketclub.co.uk
SUMMARY:Fireworks Display 2025
DESCRIPTION:FIREWORKS DISPLAY – SUNDAY 3RD NOVEMBER \n KCC Broadwalk grounds\, BS4 2RD \n Gates open 4:30pm\, the display starts at 7pm. \n This event is popular. We recommend you arrive early to avoid disappointment. \n Tickets are pay on the gate (no advance) with card & cash payments accepted. \n\nAdult £7\nChild £4\nFamily £20 (2 x Adults\, 2 x Children)\n\n A range of food & drink options will be available for purchase on-site. \n If travelling\, we recommend public transport is used. \n There is no on-site car parking. Avoid parking in local residential areas. \n No sparklers are permitted at this event. \n Please respect local residents & do not obstruct local access roads & driveways. \n We look forward to seeing you!
URL:https://www.knowle-cricketclub.co.uk/event-details/fireworks-display-2025/
LOCATION:Knowle CC (Broadwalk)\, Knowle Cricket Club\, Bristol\, BS4 2RD\, United Kingdom
CATEGORIES:Social
END:VEVENT
BEGIN:VEVENT
DTSTART;TZID=Europe/London:20241103T163000
DTEND;TZID=Europe/London:20241103T200000
DTSTAMP:20260421T004152
CREATED:20241024T151137Z
LAST-MODIFIED:20241024T151137Z
UID:4103-1730651400-1730664000@www.knowle-cricketclub.co.uk
SUMMARY:Fireworks Display 2024
DESCRIPTION:KCC FIREWORKS DISPLAY – SUNDAY 3RD NOVEMBER \n KCC Broadwalk grounds\, BS4 2RD\n Gates open 4:30pm\, the display starts at 7pm.\n This event is popular. We recommend you arrive early to avoid disappointment.\n Tickets are pay on the gate (no advance) with card & cash payments accepted.\n A range of food & drink options will be available for purchase on-site.\n If travelling\, we recommend public transport is used.\n There is no on-site car parking. Avoid parking in local residential areas.\n Ample parking is available from the nearby Broadwalk Shopping Centre multi-storey.\n Please respect local residents & do not obstruct local access roads & driveways.\n We look forward to seeing you!
URL:https://www.knowle-cricketclub.co.uk/event-details/fireworks-display-2024/
LOCATION:Knowle CC (Broadwalk)\, Knowle Cricket Club\, Bristol\, BS4 2RD\, United Kingdom
END:VEVENT
BEGIN:VEVENT
DTSTART;TZID=Europe/London:20231105T163000
DTEND;TZID=Europe/London:20231105T210000
DTSTAMP:20260421T004152
CREATED:20231010T112326Z
LAST-MODIFIED:20231104T090800Z
UID:3973-1699201800-1699218000@www.knowle-cricketclub.co.uk
SUMMARY:Fireworks Display 2023
DESCRIPTION:KCC Fireworks 2023\n \n\nJoin us for our annual\, celebrated\, spectacular Fireworks Display at our Broadwalk grounds (BS4 2RD) on Sunday 5th November 2023.\nGates open at 4:30pm with the display starting at 7pm. This event is popular so we recommend you arrive early to avoid disappointment.\nTickets are pay on the gate only (no advance) with card and cash payments accepted.\nA range of food and drink options will be available for purchase on-site.\nIf travelling\, we recommend public transport is used. There is no on-site car parking. Avoid parking in local residential areas. Ample car parking is available from the nearby Broadwalk Shopping Centre multi-storey.\n\nPlease respect our local residents and do not obstruct local access roads and driveways. \nWe look forward to seeing you!
URL:https://www.knowle-cricketclub.co.uk/event-details/fireworks-display-2023/
LOCATION:Knowle CC (Broadwalk)\, Knowle Cricket Club\, Bristol\, BS4 2RD\, United Kingdom
CATEGORIES:Social
END:VEVENT
BEGIN:VEVENT
DTSTART;TZID=Europe/London:20230303T200000
DTEND;TZID=Europe/London:20230303T210000
DTSTAMP:20260421T004152
CREATED:20230124T164310Z
LAST-MODIFIED:20230124T164934Z
UID:3910-1677873600-1677877200@www.knowle-cricketclub.co.uk
SUMMARY:Annual General Meeting 2023
DESCRIPTION:The 2023 Annual General Meeting (AGM) of Knowle Cricket Club will be held at the Pavilion\, Broadwalk\, on Friday 3rd March 2023 at 8:00pm. All members are warmly invited to attend. \nAgenda:  \n\nIn Memoriam \nApologies for Absence \nMinutes of the last AGM (as displayed on the club noticeboard) \nAnnual Reports \nAmendments to Constitution \nElection of new Officers \nThanks to retiring Officers \nQuestions and Answers \nClose \n\nSubmitting Questions:  \nMembers are requested to forward\, in writing by Friday 3rd February 2023\, any questions related to club matters that they would like answered at the meeting.  \nAll correspondence should be addressed to the Honorary Secretary Knowle Cricket Club\, Broadwalk\, Bristol\, BS4 2RD or leave for his attention in an envelope behind the bar.  \nExecutive Officers and Sub-Committee Nominations:  \nExecutive Officers and Sub-Committee nominations\, duly seconded\, must be submitted using a nomination form\, available from the bar. All nominations must be received by Friday 3rd February 2023. Only fully paid-up members may stand for Executive Officer positions as well as propose or second a nomination.  \nWhere there are two or more nominations for the same officer position\, nominees shall be encouraged to explain their reasons for standing at the AGM. The number of votes cast for each nominee shall be recorded. 
URL:https://www.knowle-cricketclub.co.uk/event-details/annual-general-meeting-2023/
LOCATION:Knowle CC (Broadwalk)\, Knowle Cricket Club\, Bristol\, BS4 2RD\, United Kingdom
CATEGORIES:Administration,Disability Cricket,Junior Cricket,Senior Cricket,Social
END:VEVENT
BEGIN:VEVENT
DTSTART;TZID=Europe/London:20221106T043000
DTEND;TZID=Europe/London:20221106T200000
DTSTAMP:20260421T004152
CREATED:20220411T122248Z
LAST-MODIFIED:20221103T114328Z
UID:3290-1667709000-1667764800@www.knowle-cricketclub.co.uk
SUMMARY:Fireworks Display 2022
DESCRIPTION:We are hosting our annual fireworks display at our Broadwalk grounds on Sunday 6th November \n\n\nThe event is now in its 14th year and has proved to be a success thanks to the local community.\n\n\nGates open at 16:30\, the Display will commence between 18:45-19:00\n\n\n\n\nThe following will be available on the night:\n\n\n\nHot Food 🌭\nHot & Cold Drinks 🥤\nTuck Shop 🍭\nOutside Can Bars 🍺\n\n\n\nEntry prices are as follows: \n\n\n\n£7 per Adult 🎟\n£4 per Child 🎟\n£20 Family Ticket (2 x Adults & 2 x Children) 🎟\n\n\n\nThere are no advance ticket sales but both cash & card will be accepted on the gate\n\n\nAs there is no on-site parking\, we strongly advise you to walk to the event or use public transport.\nPlease also respect our neighbours. \n\n\n\n🙏 Thanks for all your support!
URL:https://www.knowle-cricketclub.co.uk/event-details/fireworks-display-2022/
LOCATION:Knowle CC (Broadwalk)\, Knowle Cricket Club\, Bristol\, BS4 2RD\, United Kingdom
CATEGORIES:Social
END:VEVENT
BEGIN:VEVENT
DTSTART;TZID=Europe/London:20220924T190000
DTEND;TZID=Europe/London:20220924T223000
DTSTAMP:20260421T004152
CREATED:20220411T122135Z
LAST-MODIFIED:20220411T145647Z
UID:3288-1664046000-1664058600@www.knowle-cricketclub.co.uk
SUMMARY:Annual Dinner 2022
DESCRIPTION:Our annual dinner for members to celebrate the 2022 cricket season. \nThis is a ticketed event – details to follow nearer the time.
URL:https://www.knowle-cricketclub.co.uk/event-details/annual-dinner-2022/
LOCATION:Knowle CC (Broadwalk)\, Knowle Cricket Club\, Bristol\, BS4 2RD\, United Kingdom
CATEGORIES:Social
END:VEVENT
BEGIN:VEVENT
DTSTART;TZID=Europe/London:20220904T140000
DTEND;TZID=Europe/London:20220904T160000
DTSTAMP:20260421T004152
CREATED:20220413T221739Z
LAST-MODIFIED:20220413T221739Z
UID:3775-1662300000-1662307200@www.knowle-cricketclub.co.uk
SUMMARY:Knowle CC Womens 1st XI v Bedminster CC Womens 1st XI
DESCRIPTION:Women’s Softball League Division 2 North
URL:https://www.knowle-cricketclub.co.uk/event-details/knowle-cc-womens-1st-xi-v-bedminster-cc-womens-1st-xi-2/
CATEGORIES:Senior Cricket
END:VEVENT
BEGIN:VEVENT
DTSTART;TZID=Europe/London:20220903T130000
DTEND;TZID=Europe/London:20220903T190000
DTSTAMP:20260421T004152
CREATED:20220413T221739Z
LAST-MODIFIED:20220413T221739Z
UID:3773-1662210000-1662231600@www.knowle-cricketclub.co.uk
SUMMARY:Lansdown CC 2nd XI v Knowle CC 2nd XI
DESCRIPTION:First Division
URL:https://www.knowle-cricketclub.co.uk/event-details/lansdown-cc-2nd-xi-v-knowle-cc-2nd-xi-2/
CATEGORIES:Senior Cricket
END:VEVENT
BEGIN:VEVENT
DTSTART;TZID=Europe/London:20220903T130000
DTEND;TZID=Europe/London:20220903T190000
DTSTAMP:20260421T004152
CREATED:20220413T221739Z
LAST-MODIFIED:20220413T221739Z
UID:3774-1662210000-1662231600@www.knowle-cricketclub.co.uk
SUMMARY:Keynsham CC 3rd XI v Knowle CC 3rd XI
DESCRIPTION:Sixth Division
URL:https://www.knowle-cricketclub.co.uk/event-details/keynsham-cc-3rd-xi-v-knowle-cc-3rd-xi-2/
CATEGORIES:Senior Cricket
END:VEVENT
BEGIN:VEVENT
DTSTART;TZID=Europe/London:20220903T123000
DTEND;TZID=Europe/London:20220903T190000
DTSTAMP:20260421T004152
CREATED:20220413T221739Z
LAST-MODIFIED:20220413T221739Z
UID:3772-1662208200-1662231600@www.knowle-cricketclub.co.uk
SUMMARY:Knowle CC 1st XI v Congresbury CC 1st XI
DESCRIPTION:WEPL Bristol & North Somerset
URL:https://www.knowle-cricketclub.co.uk/event-details/knowle-cc-1st-xi-v-congresbury-cc-1st-xi-6/
CATEGORIES:Senior Cricket
END:VEVENT
BEGIN:VEVENT
DTSTART;TZID=Europe/London:20220828T133000
DTEND;TZID=Europe/London:20220828T190000
DTSTAMP:20260421T004152
CREATED:20220413T221553Z
LAST-MODIFIED:20220413T221553Z
UID:3771-1661693400-1661713200@www.knowle-cricketclub.co.uk
SUMMARY:Knowle CC Sunday North Somerset XI v Charlton Super Kings CC 1st XI
DESCRIPTION:Sunday Conference Division 2
URL:https://www.knowle-cricketclub.co.uk/event-details/knowle-cc-sunday-north-somerset-xi-v-charlton-super-kings-cc-1st-xi-4/
CATEGORIES:Senior Cricket
END:VEVENT
BEGIN:VEVENT
DTSTART;TZID=Europe/London:20220828T130000
DTEND;TZID=Europe/London:20220828T220000
DTSTAMP:20260421T004152
CREATED:20220411T135303Z
LAST-MODIFIED:20220411T135807Z
UID:3296-1661691600-1661724000@www.knowle-cricketclub.co.uk
SUMMARY:Cider & Music Festival
DESCRIPTION:Our successful and popular Cider and Music Festival returns. \nThis is a ticketed event. Further Details to follow.
URL:https://www.knowle-cricketclub.co.uk/event-details/cider-music-festival/
LOCATION:Knowle CC (Broadwalk)\, Knowle Cricket Club\, Bristol\, BS4 2RD\, United Kingdom
CATEGORIES:Social
ATTACH;FMTTYPE=image/jpeg:https://www.knowle-cricketclub.co.uk/wp-content/uploads/2022/04/hard-apple-cider-ale.jpg
END:VEVENT
BEGIN:VEVENT
DTSTART;TZID=Europe/London:20220827T130000
DTEND;TZID=Europe/London:20220827T190000
DTSTAMP:20260421T004152
CREATED:20220413T221553Z
LAST-MODIFIED:20220413T221553Z
UID:3769-1661605200-1661626800@www.knowle-cricketclub.co.uk
SUMMARY:Knowle CC 2nd XI v Hampset CC 1st XI
DESCRIPTION:First Division
URL:https://www.knowle-cricketclub.co.uk/event-details/knowle-cc-2nd-xi-v-hampset-cc-1st-xi-2/
CATEGORIES:Senior Cricket
END:VEVENT
BEGIN:VEVENT
DTSTART;TZID=Europe/London:20220827T130000
DTEND;TZID=Europe/London:20220827T190000
DTSTAMP:20260421T004152
CREATED:20220413T221553Z
LAST-MODIFIED:20220413T221553Z
UID:3770-1661605200-1661626800@www.knowle-cricketclub.co.uk
SUMMARY:Knowle CC 3rd XI v Almondsbury CC (2019) 2nd XI
DESCRIPTION:Sixth Division
URL:https://www.knowle-cricketclub.co.uk/event-details/knowle-cc-3rd-xi-v-almondsbury-cc-2019-2nd-xi-2/
CATEGORIES:Senior Cricket
END:VEVENT
BEGIN:VEVENT
DTSTART;TZID=Europe/London:20220827T123000
DTEND;TZID=Europe/London:20220827T190000
DTSTAMP:20260421T004152
CREATED:20220413T221552Z
LAST-MODIFIED:20220413T221552Z
UID:3768-1661603400-1661626800@www.knowle-cricketclub.co.uk
SUMMARY:Bath CC 2nd XI v Knowle CC 1st XI
DESCRIPTION:WEPL Bristol & North Somerset
URL:https://www.knowle-cricketclub.co.uk/event-details/bath-cc-2nd-xi-v-knowle-cc-1st-xi-3/
CATEGORIES:Senior Cricket
END:VEVENT
BEGIN:VEVENT
DTSTART;TZID=Europe/London:20220822T100000
DTEND;TZID=Europe/London:20220822T130000
DTSTAMP:20260421T004152
CREATED:20220413T221552Z
LAST-MODIFIED:20220413T221552Z
UID:3767-1661162400-1661173200@www.knowle-cricketclub.co.uk
SUMMARY:Somerset U13 Boys v Gloucestershire Cricket Foundation U13
DESCRIPTION:
URL:https://www.knowle-cricketclub.co.uk/event-details/somerset-u13-boys-v-gloucestershire-cricket-foundation-u13-2/
CATEGORIES:Junior Cricket
END:VEVENT
BEGIN:VEVENT
DTSTART;TZID=Europe/London:20220821T140000
DTEND;TZID=Europe/London:20220821T160000
DTSTAMP:20260421T004152
CREATED:20220413T221350Z
LAST-MODIFIED:20220413T221350Z
UID:3766-1661090400-1661097600@www.knowle-cricketclub.co.uk
SUMMARY:Claverham (Yatton) CC Womens 1st XI v Knowle CC Womens 1st XI
DESCRIPTION:Women’s Softball League Division 2 North
URL:https://www.knowle-cricketclub.co.uk/event-details/claverham-yatton-cc-womens-1st-xi-v-knowle-cc-womens-1st-xi-3/
CATEGORIES:Senior Cricket
END:VEVENT
BEGIN:VEVENT
DTSTART;TZID=Europe/London:20220821T133000
DTEND;TZID=Europe/London:20220821T190000
DTSTAMP:20260421T004152
CREATED:20220413T221350Z
LAST-MODIFIED:20220413T221350Z
UID:3765-1661088600-1661108400@www.knowle-cricketclub.co.uk
SUMMARY:Easton Cuttlefish CC Sunday XI v Knowle CC Sunday North Somerset XI
DESCRIPTION:Sunday Conference Division 2
URL:https://www.knowle-cricketclub.co.uk/event-details/easton-cuttlefish-cc-sunday-xi-v-knowle-cc-sunday-north-somerset-xi-5/
CATEGORIES:Senior Cricket
END:VEVENT
BEGIN:VEVENT
DTSTART;TZID=Europe/London:20220820T130000
DTEND;TZID=Europe/London:20220820T190000
DTSTAMP:20260421T004152
CREATED:20220413T221350Z
LAST-MODIFIED:20220413T221350Z
UID:3763-1661000400-1661022000@www.knowle-cricketclub.co.uk
SUMMARY:Shirehampton CC 1st XI v Knowle CC 2nd XI
DESCRIPTION:First Division
URL:https://www.knowle-cricketclub.co.uk/event-details/shirehampton-cc-1st-xi-v-knowle-cc-2nd-xi-2/
CATEGORIES:Senior Cricket
END:VEVENT
BEGIN:VEVENT
DTSTART;TZID=Europe/London:20220820T130000
DTEND;TZID=Europe/London:20220820T190000
DTSTAMP:20260421T004152
CREATED:20220413T221350Z
LAST-MODIFIED:20220413T221350Z
UID:3764-1661000400-1661022000@www.knowle-cricketclub.co.uk
SUMMARY:Claverham (Yatton) CC 2nd XI v Knowle CC 3rd XI
DESCRIPTION:Sixth Division
URL:https://www.knowle-cricketclub.co.uk/event-details/claverham-yatton-cc-2nd-xi-v-knowle-cc-3rd-xi-2/
CATEGORIES:Senior Cricket
END:VEVENT
BEGIN:VEVENT
DTSTART;TZID=Europe/London:20220820T123000
DTEND;TZID=Europe/London:20220820T190000
DTSTAMP:20260421T004152
CREATED:20220413T221350Z
LAST-MODIFIED:20220413T221350Z
UID:3762-1660998600-1661022000@www.knowle-cricketclub.co.uk
SUMMARY:Knowle CC 1st XI v Keynsham CC 1st XI
DESCRIPTION:WEPL Bristol & North Somerset
URL:https://www.knowle-cricketclub.co.uk/event-details/knowle-cc-1st-xi-v-keynsham-cc-1st-xi-4/
CATEGORIES:Senior Cricket
END:VEVENT
BEGIN:VEVENT
DTSTART;TZID=Europe/London:20220817T100000
DTEND;TZID=Europe/London:20220817T130000
DTSTAMP:20260421T004152
CREATED:20220413T221334Z
LAST-MODIFIED:20220413T221334Z
UID:3761-1660730400-1660741200@www.knowle-cricketclub.co.uk
SUMMARY:Somerset U12 Boys v Dorset Cricket Board U12
DESCRIPTION:
URL:https://www.knowle-cricketclub.co.uk/event-details/somerset-u12-boys-v-dorset-cricket-board-u12-2/
CATEGORIES:Junior Cricket
END:VEVENT
BEGIN:VEVENT
DTSTART;TZID=Europe/London:20220814T140000
DTEND;TZID=Europe/London:20220814T160000
DTSTAMP:20260421T004152
CREATED:20220413T221334Z
LAST-MODIFIED:20220413T221334Z
UID:3760-1660485600-1660492800@www.knowle-cricketclub.co.uk
SUMMARY:Knowle CC Womens 1st XI v Weston-super-Mare CC Womens 1st XI
DESCRIPTION:Women’s Softball League Division 2 North
URL:https://www.knowle-cricketclub.co.uk/event-details/knowle-cc-womens-1st-xi-v-weston-super-mare-cc-womens-1st-xi-2/
CATEGORIES:Senior Cricket
END:VEVENT
BEGIN:VEVENT
DTSTART;TZID=Europe/London:20220814T133000
DTEND;TZID=Europe/London:20220814T190000
DTSTAMP:20260421T004152
CREATED:20220413T221334Z
LAST-MODIFIED:20220413T221334Z
UID:3759-1660483800-1660503600@www.knowle-cricketclub.co.uk
SUMMARY:Knowle CC Sunday North Somerset XI v Carsons & Mangotsfield CC Sunday 1st XI
DESCRIPTION:Sunday Conference Division 2
URL:https://www.knowle-cricketclub.co.uk/event-details/knowle-cc-sunday-north-somerset-xi-v-carsons-mangotsfield-cc-sunday-1st-xi-2/
CATEGORIES:Senior Cricket
END:VEVENT
BEGIN:VEVENT
DTSTART;TZID=Europe/London:20220813T130000
DTEND;TZID=Europe/London:20220813T190000
DTSTAMP:20260421T004152
CREATED:20220413T221334Z
LAST-MODIFIED:20220413T221334Z
UID:3757-1660395600-1660417200@www.knowle-cricketclub.co.uk
SUMMARY:Knowle CC 3rd XI v Bristol Pakistanis CC 2nd XI
DESCRIPTION:Sixth Division
URL:https://www.knowle-cricketclub.co.uk/event-details/knowle-cc-3rd-xi-v-bristol-pakistanis-cc-2nd-xi-2/
CATEGORIES:Senior Cricket
END:VEVENT
BEGIN:VEVENT
DTSTART;TZID=Europe/London:20220813T130000
DTEND;TZID=Europe/London:20220813T190000
DTSTAMP:20260421T004152
CREATED:20220413T221334Z
LAST-MODIFIED:20220413T221334Z
UID:3758-1660395600-1660417200@www.knowle-cricketclub.co.uk
SUMMARY:Carsons & Mangotsfield CC 4th XI v Knowle CC 4th XI
DESCRIPTION:Division 30
URL:https://www.knowle-cricketclub.co.uk/event-details/carsons-mangotsfield-cc-4th-xi-v-knowle-cc-4th-xi-5/
CATEGORIES:Senior Cricket
END:VEVENT
BEGIN:VEVENT
DTSTART;TZID=Europe/London:20220813T130000
DTEND;TZID=Europe/London:20220813T190000
DTSTAMP:20260421T004152
CREATED:20220413T221310Z
LAST-MODIFIED:20220413T221310Z
UID:3756-1660395600-1660417200@www.knowle-cricketclub.co.uk
SUMMARY:Knowle CC 2nd XI v Downend CC 2nd XI
DESCRIPTION:First Division
URL:https://www.knowle-cricketclub.co.uk/event-details/knowle-cc-2nd-xi-v-downend-cc-2nd-xi-4/
CATEGORIES:Senior Cricket
END:VEVENT
BEGIN:VEVENT
DTSTART;TZID=Europe/London:20220813T123000
DTEND;TZID=Europe/London:20220813T190000
DTSTAMP:20260421T004152
CREATED:20220413T221310Z
LAST-MODIFIED:20220413T221310Z
UID:3755-1660393800-1660417200@www.knowle-cricketclub.co.uk
SUMMARY:Old Bristolians Westbury CC 1st XI v Knowle CC 1st XI
DESCRIPTION:WEPL Bristol & North Somerset
URL:https://www.knowle-cricketclub.co.uk/event-details/old-bristolians-westbury-cc-1st-xi-v-knowle-cc-1st-xi-5/
CATEGORIES:Senior Cricket
END:VEVENT
BEGIN:VEVENT
DTSTART;TZID=Europe/London:20220810T181500
DTEND;TZID=Europe/London:20220810T203000
DTSTAMP:20260421T004152
CREATED:20220413T221310Z
LAST-MODIFIED:20220413T221310Z
UID:3754-1660155300-1660163400@www.knowle-cricketclub.co.uk
SUMMARY:Knowle CC Knight Riders v Bedminster CC Midweek XI
DESCRIPTION:Division 3
URL:https://www.knowle-cricketclub.co.uk/event-details/knowle-cc-knight-riders-v-bedminster-cc-midweek-xi-2/
CATEGORIES:Senior Cricket
END:VEVENT
BEGIN:VEVENT
DTSTART;TZID=Europe/London:20220807T133000
DTEND;TZID=Europe/London:20220807T190000
DTSTAMP:20260421T004152
CREATED:20220413T221310Z
LAST-MODIFIED:20220413T221310Z
UID:3753-1659879000-1659898800@www.knowle-cricketclub.co.uk
SUMMARY:Knowle CC Sunday North Somerset XI v Bristol Pakistanis CC Sunday 1st XI
DESCRIPTION:Sunday Conference Division 2
URL:https://www.knowle-cricketclub.co.uk/event-details/knowle-cc-sunday-north-somerset-xi-v-bristol-pakistanis-cc-sunday-1st-xi-2/
CATEGORIES:Senior Cricket
END:VEVENT
END:VCALENDAR