BEGIN:VCALENDAR
VERSION:2.0
PRODID:-//Knowle Cricket Club - ECPv6.15.20//NONSGML v1.0//EN
CALSCALE:GREGORIAN
METHOD:PUBLISH
X-WR-CALNAME:Knowle Cricket Club
X-ORIGINAL-URL:https://www.knowle-cricketclub.co.uk
X-WR-CALDESC:Events for Knowle Cricket Club
REFRESH-INTERVAL;VALUE=DURATION:PT1H
X-Robots-Tag:noindex
X-PUBLISHED-TTL:PT1H
BEGIN:VTIMEZONE
TZID:Europe/London
BEGIN:DAYLIGHT
TZOFFSETFROM:+0000
TZOFFSETTO:+0100
TZNAME:BST
DTSTART:20250330T010000
END:DAYLIGHT
BEGIN:STANDARD
TZOFFSETFROM:+0100
TZOFFSETTO:+0000
TZNAME:GMT
DTSTART:20251026T010000
END:STANDARD
BEGIN:DAYLIGHT
TZOFFSETFROM:+0000
TZOFFSETTO:+0100
TZNAME:BST
DTSTART:20260329T010000
END:DAYLIGHT
BEGIN:STANDARD
TZOFFSETFROM:+0100
TZOFFSETTO:+0000
TZNAME:GMT
DTSTART:20261025T010000
END:STANDARD
BEGIN:DAYLIGHT
TZOFFSETFROM:+0000
TZOFFSETTO:+0100
TZNAME:BST
DTSTART:20270328T010000
END:DAYLIGHT
BEGIN:STANDARD
TZOFFSETFROM:+0100
TZOFFSETTO:+0000
TZNAME:GMT
DTSTART:20271031T010000
END:STANDARD
END:VTIMEZONE
BEGIN:VEVENT
DTSTART;TZID=Europe/London:20260705T133000
DTEND;TZID=Europe/London:20260705T190000
DTSTAMP:20260420T231338
CREATED:20260206T184854Z
LAST-MODIFIED:20260206T184854Z
UID:4220-1783258200-1783278000@www.knowle-cricketclub.co.uk
SUMMARY:Knowle CC Sunday 1st XI v Bristol Pakistanis CC Sunday 1st XI
DESCRIPTION:League
URL:https://www.knowle-cricketclub.co.uk/event-details/knowle-cc-sunday-1st-xi-v-bristol-pakistanis-cc-sunday-1st-xi/
CATEGORIES:Senior Cricket
END:VEVENT
BEGIN:VEVENT
DTSTART;TZID=Europe/London:20260704T130000
DTEND;TZID=Europe/London:20260704T190000
DTSTAMP:20260420T231338
CREATED:20260206T184854Z
LAST-MODIFIED:20260206T184854Z
UID:4217-1783170000-1783191600@www.knowle-cricketclub.co.uk
SUMMARY:Old Down CC 1st XI v Knowle CC 2nd XI
DESCRIPTION:League
URL:https://www.knowle-cricketclub.co.uk/event-details/old-down-cc-1st-xi-v-knowle-cc-2nd-xi/
CATEGORIES:Senior Cricket
END:VEVENT
BEGIN:VEVENT
DTSTART;TZID=Europe/London:20260704T130000
DTEND;TZID=Europe/London:20260704T190000
DTSTAMP:20260420T231338
CREATED:20260206T184854Z
LAST-MODIFIED:20260206T184854Z
UID:4218-1783170000-1783191600@www.knowle-cricketclub.co.uk
SUMMARY:Stapleton CC\, Bristol 2nd XI v Knowle CC 3rd XI
DESCRIPTION:League
URL:https://www.knowle-cricketclub.co.uk/event-details/stapleton-cc-bristol-2nd-xi-v-knowle-cc-3rd-xi/
CATEGORIES:Senior Cricket
END:VEVENT
BEGIN:VEVENT
DTSTART;TZID=Europe/London:20260704T130000
DTEND;TZID=Europe/London:20260704T190000
DTSTAMP:20260420T231338
CREATED:20260206T184854Z
LAST-MODIFIED:20260206T184854Z
UID:4219-1783170000-1783191600@www.knowle-cricketclub.co.uk
SUMMARY:Chilcompton Sports CC 2nd XI v Knowle CC 4th XI
DESCRIPTION:League
URL:https://www.knowle-cricketclub.co.uk/event-details/chilcompton-sports-cc-2nd-xi-v-knowle-cc-4th-xi/
CATEGORIES:Senior Cricket
END:VEVENT
BEGIN:VEVENT
DTSTART;TZID=Europe/London:20260704T120000
DTEND;TZID=Europe/London:20260704T190000
DTSTAMP:20260420T231338
CREATED:20260206T184853Z
LAST-MODIFIED:20260206T184853Z
UID:4216-1783166400-1783191600@www.knowle-cricketclub.co.uk
SUMMARY:Knowle CC 1st XI v Bath CC 2nd XI
DESCRIPTION:League
URL:https://www.knowle-cricketclub.co.uk/event-details/knowle-cc-1st-xi-v-bath-cc-2nd-xi-3/
CATEGORIES:Senior Cricket
END:VEVENT
BEGIN:VEVENT
DTSTART;TZID=Europe/London:20260628T133000
DTEND;TZID=Europe/London:20260628T190000
DTSTAMP:20260420T231338
CREATED:20260206T184839Z
LAST-MODIFIED:20260206T184839Z
UID:4215-1782653400-1782673200@www.knowle-cricketclub.co.uk
SUMMARY:Knowle CC Sunday 1st XI v Lansdown CC Sunday Development XI
DESCRIPTION:League
URL:https://www.knowle-cricketclub.co.uk/event-details/knowle-cc-sunday-1st-xi-v-lansdown-cc-sunday-development-xi/
CATEGORIES:Senior Cricket
END:VEVENT
BEGIN:VEVENT
DTSTART;TZID=Europe/London:20260627T130000
DTEND;TZID=Europe/London:20260627T190000
DTSTAMP:20260420T231338
CREATED:20260206T184839Z
LAST-MODIFIED:20260206T184839Z
UID:4212-1782565200-1782586800@www.knowle-cricketclub.co.uk
SUMMARY:Twyford House CC 2nd XI v Knowle CC 2nd XI
DESCRIPTION:League
URL:https://www.knowle-cricketclub.co.uk/event-details/twyford-house-cc-2nd-xi-v-knowle-cc-2nd-xi/
CATEGORIES:Senior Cricket
END:VEVENT
BEGIN:VEVENT
DTSTART;TZID=Europe/London:20260627T130000
DTEND;TZID=Europe/London:20260627T190000
DTSTAMP:20260420T231338
CREATED:20260206T184839Z
LAST-MODIFIED:20260206T184839Z
UID:4213-1782565200-1782586800@www.knowle-cricketclub.co.uk
SUMMARY:Knowle CC 3rd XI v Lodway CC 2nd XI
DESCRIPTION:League
URL:https://www.knowle-cricketclub.co.uk/event-details/knowle-cc-3rd-xi-v-lodway-cc-2nd-xi/
CATEGORIES:Senior Cricket
END:VEVENT
BEGIN:VEVENT
DTSTART;TZID=Europe/London:20260627T130000
DTEND;TZID=Europe/London:20260627T190000
DTSTAMP:20260420T231338
CREATED:20260206T184839Z
LAST-MODIFIED:20260206T184839Z
UID:4214-1782565200-1782586800@www.knowle-cricketclub.co.uk
SUMMARY:Lansdown CC 3rd XI v Knowle CC 4th XI
DESCRIPTION:League
URL:https://www.knowle-cricketclub.co.uk/event-details/lansdown-cc-3rd-xi-v-knowle-cc-4th-xi-3/
CATEGORIES:Senior Cricket
END:VEVENT
BEGIN:VEVENT
DTSTART;TZID=Europe/London:20260627T120000
DTEND;TZID=Europe/London:20260627T190000
DTSTAMP:20260420T231338
CREATED:20260206T184838Z
LAST-MODIFIED:20260206T184838Z
UID:4211-1782561600-1782586800@www.knowle-cricketclub.co.uk
SUMMARY:Knowle CC 1st XI v Bishopston CC 1st XI
DESCRIPTION:League
URL:https://www.knowle-cricketclub.co.uk/event-details/knowle-cc-1st-xi-v-bishopston-cc-1st-xi/
CATEGORIES:Senior Cricket
END:VEVENT
BEGIN:VEVENT
DTSTART;TZID=Europe/London:20260624T181500
DTEND;TZID=Europe/London:20260624T203000
DTSTAMP:20260420T231338
CREATED:20260206T184824Z
LAST-MODIFIED:20260206T184824Z
UID:4210-1782324900-1782333000@www.knowle-cricketclub.co.uk
SUMMARY:Knowle Knight Riders v Stoke Bishop CC T20
DESCRIPTION:League
URL:https://www.knowle-cricketclub.co.uk/event-details/knowle-knight-riders-v-stoke-bishop-cc-t20/
CATEGORIES:Senior Cricket
END:VEVENT
BEGIN:VEVENT
DTSTART;TZID=Europe/London:20260621T133000
DTEND;TZID=Europe/London:20260621T190000
DTSTAMP:20260420T231338
CREATED:20260206T184824Z
LAST-MODIFIED:20260206T184824Z
UID:4208-1782048600-1782068400@www.knowle-cricketclub.co.uk
SUMMARY:West United CC Sunday 1st XI v Knowle CC Sunday 1st XI
DESCRIPTION:League
URL:https://www.knowle-cricketclub.co.uk/event-details/west-united-cc-sunday-1st-xi-v-knowle-cc-sunday-1st-xi/
CATEGORIES:Senior Cricket
END:VEVENT
BEGIN:VEVENT
DTSTART;TZID=Europe/London:20260621T100000
DTEND;TZID=Europe/London:20260621T130000
DTSTAMP:20260420T231338
CREATED:20260206T184824Z
LAST-MODIFIED:20260206T184824Z
UID:4209-1782036000-1782046800@www.knowle-cricketclub.co.uk
SUMMARY:Knowle CC Womens 1st XI v Chew Valley CC Womens 1st XI
DESCRIPTION:League
URL:https://www.knowle-cricketclub.co.uk/event-details/knowle-cc-womens-1st-xi-v-chew-valley-cc-womens-1st-xi/
CATEGORIES:Senior Cricket
END:VEVENT
BEGIN:VEVENT
DTSTART;TZID=Europe/London:20260620T130000
DTEND;TZID=Europe/London:20260620T190000
DTSTAMP:20260420T231338
CREATED:20260206T184824Z
LAST-MODIFIED:20260206T184824Z
UID:4206-1781960400-1781982000@www.knowle-cricketclub.co.uk
SUMMARY:Abbots Leigh CC 1st XI v Knowle CC 3rd XI
DESCRIPTION:League
URL:https://www.knowle-cricketclub.co.uk/event-details/abbots-leigh-cc-1st-xi-v-knowle-cc-3rd-xi/
CATEGORIES:Senior Cricket
END:VEVENT
BEGIN:VEVENT
DTSTART;TZID=Europe/London:20260620T130000
DTEND;TZID=Europe/London:20260620T190000
DTSTAMP:20260420T231338
CREATED:20260206T184824Z
LAST-MODIFIED:20260206T184824Z
UID:4207-1781960400-1781982000@www.knowle-cricketclub.co.uk
SUMMARY:Bristol United Banks CC 2nd XI v Knowle CC 4th XI
DESCRIPTION:League
URL:https://www.knowle-cricketclub.co.uk/event-details/bristol-united-banks-cc-2nd-xi-v-knowle-cc-4th-xi/
CATEGORIES:Senior Cricket
END:VEVENT
BEGIN:VEVENT
DTSTART;TZID=Europe/London:20260620T130000
DTEND;TZID=Europe/London:20260620T190000
DTSTAMP:20260420T231338
CREATED:20260206T184809Z
LAST-MODIFIED:20260206T184809Z
UID:4205-1781960400-1781982000@www.knowle-cricketclub.co.uk
SUMMARY:Knowle CC 2nd XI v Bishopston CC 2nd XI
DESCRIPTION:League
URL:https://www.knowle-cricketclub.co.uk/event-details/knowle-cc-2nd-xi-v-bishopston-cc-2nd-xi/
CATEGORIES:Senior Cricket
END:VEVENT
BEGIN:VEVENT
DTSTART;TZID=Europe/London:20260620T120000
DTEND;TZID=Europe/London:20260620T190000
DTSTAMP:20260420T231338
CREATED:20260206T184809Z
LAST-MODIFIED:20260206T184809Z
UID:4204-1781956800-1781982000@www.knowle-cricketclub.co.uk
SUMMARY:Bedminster CC 2nd XI v Knowle CC 1st XI
DESCRIPTION:League
URL:https://www.knowle-cricketclub.co.uk/event-details/bedminster-cc-2nd-xi-v-knowle-cc-1st-xi-3/
CATEGORIES:Senior Cricket
END:VEVENT
BEGIN:VEVENT
DTSTART;TZID=Europe/London:20260614T133000
DTEND;TZID=Europe/London:20260614T190000
DTSTAMP:20260420T231338
CREATED:20260206T184809Z
LAST-MODIFIED:20260206T184809Z
UID:4203-1781443800-1781463600@www.knowle-cricketclub.co.uk
SUMMARY:Knowle CC Sunday 1st XI v Bristol Indians CC 1st XI
DESCRIPTION:League
URL:https://www.knowle-cricketclub.co.uk/event-details/knowle-cc-sunday-1st-xi-v-bristol-indians-cc-1st-xi/
CATEGORIES:Senior Cricket
END:VEVENT
BEGIN:VEVENT
DTSTART;TZID=Europe/London:20260613T130000
DTEND;TZID=Europe/London:20260613T190000
DTSTAMP:20260420T231338
CREATED:20260206T184809Z
LAST-MODIFIED:20260206T184809Z
UID:4202-1781355600-1781377200@www.knowle-cricketclub.co.uk
SUMMARY:Timsbury CC 3rd XI v Knowle CC 4th XI
DESCRIPTION:League
URL:https://www.knowle-cricketclub.co.uk/event-details/timsbury-cc-3rd-xi-v-knowle-cc-4th-xi/
CATEGORIES:Senior Cricket
END:VEVENT
BEGIN:VEVENT
DTSTART;TZID=Europe/London:20260613T130000
DTEND;TZID=Europe/London:20260613T190000
DTSTAMP:20260420T231338
CREATED:20260206T184808Z
LAST-MODIFIED:20260206T184808Z
UID:4201-1781355600-1781377200@www.knowle-cricketclub.co.uk
SUMMARY:Knowle CC 3rd XI v Timsbury CC 2nd XI
DESCRIPTION:League
URL:https://www.knowle-cricketclub.co.uk/event-details/knowle-cc-3rd-xi-v-timsbury-cc-2nd-xi/
CATEGORIES:Senior Cricket
END:VEVENT
BEGIN:VEVENT
DTSTART;TZID=Europe/London:20260613T130000
DTEND;TZID=Europe/London:20260613T190000
DTSTAMP:20260420T231338
CREATED:20260206T184754Z
LAST-MODIFIED:20260206T184754Z
UID:4200-1781355600-1781377200@www.knowle-cricketclub.co.uk
SUMMARY:Bristol West Indian Phoenix CC 2nd XI v Knowle CC 2nd XI
DESCRIPTION:League
URL:https://www.knowle-cricketclub.co.uk/event-details/bristol-west-indian-phoenix-cc-2nd-xi-v-knowle-cc-2nd-xi/
CATEGORIES:Senior Cricket
END:VEVENT
BEGIN:VEVENT
DTSTART;TZID=Europe/London:20260613T120000
DTEND;TZID=Europe/London:20260613T190000
DTSTAMP:20260420T231338
CREATED:20260206T184754Z
LAST-MODIFIED:20260206T184754Z
UID:4199-1781352000-1781377200@www.knowle-cricketclub.co.uk
SUMMARY:Knowle CC 1st XI v Bristol West Indian Phoenix CC 1st XI
DESCRIPTION:League
URL:https://www.knowle-cricketclub.co.uk/event-details/knowle-cc-1st-xi-v-bristol-west-indian-phoenix-cc-1st-xi-4/
CATEGORIES:Senior Cricket
END:VEVENT
BEGIN:VEVENT
DTSTART;TZID=Europe/London:20260611T181500
DTEND;TZID=Europe/London:20260611T203000
DTSTAMP:20260420T231338
CREATED:20260206T184754Z
LAST-MODIFIED:20260206T184754Z
UID:4198-1781201700-1781209800@www.knowle-cricketclub.co.uk
SUMMARY:Bristol Kannada CC 1st XI v Knowle Knight Riders
DESCRIPTION:League
URL:https://www.knowle-cricketclub.co.uk/event-details/bristol-kannada-cc-1st-xi-v-knowle-knight-riders/
CATEGORIES:Senior Cricket
END:VEVENT
BEGIN:VEVENT
DTSTART;TZID=Europe/London:20260607T133000
DTEND;TZID=Europe/London:20260607T190000
DTSTAMP:20260420T231338
CREATED:20260206T184753Z
LAST-MODIFIED:20260206T184753Z
UID:4196-1780839000-1780858800@www.knowle-cricketclub.co.uk
SUMMARY:Hinton Charterhouse CC Sunday XI v Knowle CC Sunday 1st XI
DESCRIPTION:League
URL:https://www.knowle-cricketclub.co.uk/event-details/hinton-charterhouse-cc-sunday-xi-v-knowle-cc-sunday-1st-xi/
CATEGORIES:Senior Cricket
END:VEVENT
BEGIN:VEVENT
DTSTART;TZID=Europe/London:20260607T100000
DTEND;TZID=Europe/London:20260607T130000
DTSTAMP:20260420T231338
CREATED:20260206T184754Z
LAST-MODIFIED:20260206T184754Z
UID:4197-1780826400-1780837200@www.knowle-cricketclub.co.uk
SUMMARY:Shaftesbury Road CC Womens 1st XI v Knowle CC Womens 1st XI
DESCRIPTION:League
URL:https://www.knowle-cricketclub.co.uk/event-details/shaftesbury-road-cc-womens-1st-xi-v-knowle-cc-womens-1st-xi/
CATEGORIES:Senior Cricket
END:VEVENT
BEGIN:VEVENT
DTSTART;TZID=Europe/London:20260606T130000
DTEND;TZID=Europe/London:20260606T190000
DTSTAMP:20260420T231338
CREATED:20260206T184739Z
LAST-MODIFIED:20260206T184739Z
UID:4193-1780750800-1780772400@www.knowle-cricketclub.co.uk
SUMMARY:Knowle CC 2nd XI v Clevedon CC 2nd XI
DESCRIPTION:League
URL:https://www.knowle-cricketclub.co.uk/event-details/knowle-cc-2nd-xi-v-clevedon-cc-2nd-xi-3/
CATEGORIES:Senior Cricket
END:VEVENT
BEGIN:VEVENT
DTSTART;TZID=Europe/London:20260606T130000
DTEND;TZID=Europe/London:20260606T190000
DTSTAMP:20260420T231338
CREATED:20260206T184739Z
LAST-MODIFIED:20260206T184739Z
UID:4194-1780750800-1780772400@www.knowle-cricketclub.co.uk
SUMMARY:Bristol New Eleven CC 1st XI v Knowle CC 3rd XI
DESCRIPTION:League
URL:https://www.knowle-cricketclub.co.uk/event-details/bristol-new-eleven-cc-1st-xi-v-knowle-cc-3rd-xi/
CATEGORIES:Senior Cricket
END:VEVENT
BEGIN:VEVENT
DTSTART;TZID=Europe/London:20260606T130000
DTEND;TZID=Europe/London:20260606T190000
DTSTAMP:20260420T231338
CREATED:20260206T184739Z
LAST-MODIFIED:20260206T184739Z
UID:4195-1780750800-1780772400@www.knowle-cricketclub.co.uk
SUMMARY:Knowle CC 4th XI v Old Park CC\, Glos 1st XI
DESCRIPTION:League
URL:https://www.knowle-cricketclub.co.uk/event-details/knowle-cc-4th-xi-v-old-park-cc-glos-1st-xi/
CATEGORIES:Senior Cricket
END:VEVENT
BEGIN:VEVENT
DTSTART;TZID=Europe/London:20260606T120000
DTEND;TZID=Europe/London:20260606T190000
DTSTAMP:20260420T231338
CREATED:20260206T184739Z
LAST-MODIFIED:20260206T184739Z
UID:4192-1780747200-1780772400@www.knowle-cricketclub.co.uk
SUMMARY:Frenchay CC 1st XI v Knowle CC 1st XI
DESCRIPTION:League
URL:https://www.knowle-cricketclub.co.uk/event-details/frenchay-cc-1st-xi-v-knowle-cc-1st-xi/
CATEGORIES:Senior Cricket
END:VEVENT
BEGIN:VEVENT
DTSTART;TZID=Europe/London:20260531T133000
DTEND;TZID=Europe/London:20260531T190000
DTSTAMP:20260420T231338
CREATED:20260206T184738Z
LAST-MODIFIED:20260206T184738Z
UID:4191-1780234200-1780254000@www.knowle-cricketclub.co.uk
SUMMARY:The Star CC Sunday 1st XI v Knowle CC Sunday 1st XI
DESCRIPTION:League
URL:https://www.knowle-cricketclub.co.uk/event-details/the-star-cc-sunday-1st-xi-v-knowle-cc-sunday-1st-xi/
CATEGORIES:Senior Cricket
END:VEVENT
END:VCALENDAR