BEGIN:VCALENDAR
VERSION:2.0
PRODID:-//Knowle Cricket Club - ECPv6.15.20//NONSGML v1.0//EN
CALSCALE:GREGORIAN
METHOD:PUBLISH
X-WR-CALNAME:Knowle Cricket Club
X-ORIGINAL-URL:https://www.knowle-cricketclub.co.uk
X-WR-CALDESC:Events for Knowle Cricket Club
REFRESH-INTERVAL;VALUE=DURATION:PT1H
X-Robots-Tag:noindex
X-PUBLISHED-TTL:PT1H
BEGIN:VTIMEZONE
TZID:Europe/London
BEGIN:STANDARD
TZOFFSETFROM:+0100
TZOFFSETTO:+0000
TZNAME:GMT
DTSTART:19711031T020000
END:STANDARD
END:VTIMEZONE
BEGIN:VEVENT
DTSTART;TZID=Europe/London:20260421T162835
DTEND;TZID=Europe/London:20260421T162835
DTSTAMP:20260421T162835
CREATED:20210424T080223Z
LAST-MODIFIED:20220413T212151Z
UID:2332-0-0@www.knowle-cricketclub.co.uk
SUMMARY:Knowle CC Sunday North Somerset XI v Leema CC 1st XI
DESCRIPTION:League
URL:https://www.knowle-cricketclub.co.uk/event-details/knowle-cc-sunday-north-somerset-xi-v-leema-cc-1st-xi/
CATEGORIES:Senior Cricket
END:VEVENT
BEGIN:VEVENT
DTSTART;TZID=Europe/London:20260421T162835
DTEND;TZID=Europe/London:20260421T162835
DTSTAMP:20260421T162835
CREATED:20210424T080223Z
LAST-MODIFIED:20220413T213343Z
UID:2333-0-0@www.knowle-cricketclub.co.uk
SUMMARY:Claverham (Yatton) CC Womens 1st XI v Knowle CC Womens 1st XI
DESCRIPTION:League
URL:https://www.knowle-cricketclub.co.uk/event-details/claverham-yatton-cc-womens-1st-xi-v-knowle-cc-womens-1st-xi/
CATEGORIES:Senior Cricket
END:VEVENT
BEGIN:VEVENT
DTSTART;TZID=Europe/London:20260421T162835
DTEND;TZID=Europe/London:20260421T162835
DTSTAMP:20260421T162835
CREATED:20210424T080121Z
LAST-MODIFIED:20220413T212221Z
UID:2304-0-0@www.knowle-cricketclub.co.uk
SUMMARY:Knowle CC 1st XI v Bradley Stoke CC 1st XI
DESCRIPTION:League
URL:https://www.knowle-cricketclub.co.uk/event-details/knowle-cc-1st-xi-v-bradley-stoke-cc-1st-xi/
CATEGORIES:Senior Cricket
END:VEVENT
END:VCALENDAR