BEGIN:VCALENDAR
VERSION:2.0
PRODID:-//Knowle Cricket Club - ECPv6.15.20//NONSGML v1.0//EN
CALSCALE:GREGORIAN
METHOD:PUBLISH
X-WR-CALNAME:Knowle Cricket Club
X-ORIGINAL-URL:https://www.knowle-cricketclub.co.uk
X-WR-CALDESC:Events for Knowle Cricket Club
REFRESH-INTERVAL;VALUE=DURATION:PT1H
X-Robots-Tag:noindex
X-PUBLISHED-TTL:PT1H
BEGIN:VTIMEZONE
TZID:Europe/London
BEGIN:DAYLIGHT
TZOFFSETFROM:+0000
TZOFFSETTO:+0100
TZNAME:BST
DTSTART:20250330T010000
END:DAYLIGHT
BEGIN:STANDARD
TZOFFSETFROM:+0100
TZOFFSETTO:+0000
TZNAME:GMT
DTSTART:20251026T010000
END:STANDARD
BEGIN:DAYLIGHT
TZOFFSETFROM:+0000
TZOFFSETTO:+0100
TZNAME:BST
DTSTART:20260329T010000
END:DAYLIGHT
BEGIN:STANDARD
TZOFFSETFROM:+0100
TZOFFSETTO:+0000
TZNAME:GMT
DTSTART:20261025T010000
END:STANDARD
BEGIN:DAYLIGHT
TZOFFSETFROM:+0000
TZOFFSETTO:+0100
TZNAME:BST
DTSTART:20270328T010000
END:DAYLIGHT
BEGIN:STANDARD
TZOFFSETFROM:+0100
TZOFFSETTO:+0000
TZNAME:GMT
DTSTART:20271031T010000
END:STANDARD
END:VTIMEZONE
BEGIN:VEVENT
DTSTART;TZID=Europe/London:20260809T133000
DTEND;TZID=Europe/London:20260809T190000
DTSTAMP:20260421T004323
CREATED:20260206T185026Z
LAST-MODIFIED:20260206T185026Z
UID:4248-1786282200-1786302000@www.knowle-cricketclub.co.uk
SUMMARY:Knowle CC Sunday 1st XI v Hinton Charterhouse CC Sunday XI
DESCRIPTION:League
URL:https://www.knowle-cricketclub.co.uk/event-details/knowle-cc-sunday-1st-xi-v-hinton-charterhouse-cc-sunday-xi/
CATEGORIES:Senior Cricket
END:VEVENT
BEGIN:VEVENT
DTSTART;TZID=Europe/London:20260815T120000
DTEND;TZID=Europe/London:20260815T190000
DTSTAMP:20260421T004323
CREATED:20260206T185026Z
LAST-MODIFIED:20260206T185026Z
UID:4249-1786795200-1786820400@www.knowle-cricketclub.co.uk
SUMMARY:Bristol West Indian Phoenix CC 1st XI v Knowle CC 1st XI
DESCRIPTION:League
URL:https://www.knowle-cricketclub.co.uk/event-details/bristol-west-indian-phoenix-cc-1st-xi-v-knowle-cc-1st-xi-4/
CATEGORIES:Senior Cricket
END:VEVENT
BEGIN:VEVENT
DTSTART;TZID=Europe/London:20260815T130000
DTEND;TZID=Europe/London:20260815T190000
DTSTAMP:20260421T004323
CREATED:20260206T185026Z
LAST-MODIFIED:20260206T185026Z
UID:4250-1786798800-1786820400@www.knowle-cricketclub.co.uk
SUMMARY:Knowle CC 2nd XI v Bristol West Indian Phoenix CC 2nd XI
DESCRIPTION:League
URL:https://www.knowle-cricketclub.co.uk/event-details/knowle-cc-2nd-xi-v-bristol-west-indian-phoenix-cc-2nd-xi/
CATEGORIES:Senior Cricket
END:VEVENT
BEGIN:VEVENT
DTSTART;TZID=Europe/London:20260815T130000
DTEND;TZID=Europe/London:20260815T190000
DTSTAMP:20260421T004323
CREATED:20260206T185041Z
LAST-MODIFIED:20260206T185041Z
UID:4251-1786798800-1786820400@www.knowle-cricketclub.co.uk
SUMMARY:Timsbury CC 2nd XI v Knowle CC 3rd XI
DESCRIPTION:League
URL:https://www.knowle-cricketclub.co.uk/event-details/timsbury-cc-2nd-xi-v-knowle-cc-3rd-xi/
CATEGORIES:Senior Cricket
END:VEVENT
BEGIN:VEVENT
DTSTART;TZID=Europe/London:20260815T130000
DTEND;TZID=Europe/London:20260815T190000
DTSTAMP:20260421T004323
CREATED:20260206T185041Z
LAST-MODIFIED:20260206T185041Z
UID:4252-1786798800-1786820400@www.knowle-cricketclub.co.uk
SUMMARY:Knowle CC 4th XI v Timsbury CC 3rd XI
DESCRIPTION:League
URL:https://www.knowle-cricketclub.co.uk/event-details/knowle-cc-4th-xi-v-timsbury-cc-3rd-xi/
CATEGORIES:Senior Cricket
END:VEVENT
BEGIN:VEVENT
DTSTART;TZID=Europe/London:20260816T133000
DTEND;TZID=Europe/London:20260816T190000
DTSTAMP:20260421T004323
CREATED:20260206T185041Z
LAST-MODIFIED:20260206T185041Z
UID:4253-1786887000-1786906800@www.knowle-cricketclub.co.uk
SUMMARY:Bristol Indians CC 1st XI v Knowle CC Sunday 1st XI
DESCRIPTION:League
URL:https://www.knowle-cricketclub.co.uk/event-details/bristol-indians-cc-1st-xi-v-knowle-cc-sunday-1st-xi/
CATEGORIES:Senior Cricket
END:VEVENT
BEGIN:VEVENT
DTSTART;TZID=Europe/London:20260822T120000
DTEND;TZID=Europe/London:20260822T190000
DTSTAMP:20260421T004323
CREATED:20260206T185041Z
LAST-MODIFIED:20260206T185041Z
UID:4254-1787400000-1787425200@www.knowle-cricketclub.co.uk
SUMMARY:Knowle CC 1st XI v Bedminster CC 2nd XI
DESCRIPTION:League
URL:https://www.knowle-cricketclub.co.uk/event-details/knowle-cc-1st-xi-v-bedminster-cc-2nd-xi-3/
CATEGORIES:Senior Cricket
END:VEVENT
BEGIN:VEVENT
DTSTART;TZID=Europe/London:20260822T130000
DTEND;TZID=Europe/London:20260822T190000
DTSTAMP:20260421T004323
CREATED:20260206T185041Z
LAST-MODIFIED:20260206T185041Z
UID:4255-1787403600-1787425200@www.knowle-cricketclub.co.uk
SUMMARY:Bishopston CC 2nd XI v 2nd XI
DESCRIPTION:League
URL:https://www.knowle-cricketclub.co.uk/event-details/bishopston-cc-2nd-xi-v-2nd-xi/
CATEGORIES:Senior Cricket
END:VEVENT
BEGIN:VEVENT
DTSTART;TZID=Europe/London:20260822T130000
DTEND;TZID=Europe/London:20260822T190000
DTSTAMP:20260421T004323
CREATED:20260206T185056Z
LAST-MODIFIED:20260206T185056Z
UID:4256-1787403600-1787425200@www.knowle-cricketclub.co.uk
SUMMARY:Knowle CC 3rd XI v Abbots Leigh CC 1st XI
DESCRIPTION:League
URL:https://www.knowle-cricketclub.co.uk/event-details/knowle-cc-3rd-xi-v-abbots-leigh-cc-1st-xi/
CATEGORIES:Senior Cricket
END:VEVENT
BEGIN:VEVENT
DTSTART;TZID=Europe/London:20260822T130000
DTEND;TZID=Europe/London:20260822T190000
DTSTAMP:20260421T004323
CREATED:20260206T185056Z
LAST-MODIFIED:20260206T185056Z
UID:4257-1787403600-1787425200@www.knowle-cricketclub.co.uk
SUMMARY:Knowle CC 4th XI v Bristol United Banks CC 2nd XI
DESCRIPTION:League
URL:https://www.knowle-cricketclub.co.uk/event-details/knowle-cc-4th-xi-v-bristol-united-banks-cc-2nd-xi/
CATEGORIES:Senior Cricket
END:VEVENT
BEGIN:VEVENT
DTSTART;TZID=Europe/London:20260823T100000
DTEND;TZID=Europe/London:20260823T130000
DTSTAMP:20260421T004323
CREATED:20260206T185056Z
LAST-MODIFIED:20260206T185056Z
UID:4259-1787479200-1787490000@www.knowle-cricketclub.co.uk
SUMMARY:Knowle CC Womens 1st XI v Clevedon CC Womens soft ball
DESCRIPTION:League
URL:https://www.knowle-cricketclub.co.uk/event-details/knowle-cc-womens-1st-xi-v-clevedon-cc-womens-soft-ball/
CATEGORIES:Senior Cricket
END:VEVENT
BEGIN:VEVENT
DTSTART;TZID=Europe/London:20260823T133000
DTEND;TZID=Europe/London:20260823T190000
DTSTAMP:20260421T004323
CREATED:20260206T185056Z
LAST-MODIFIED:20260206T185056Z
UID:4258-1787491800-1787511600@www.knowle-cricketclub.co.uk
SUMMARY:Knowle CC Sunday 1st XI v West United CC Sunday 1st XI
DESCRIPTION:League
URL:https://www.knowle-cricketclub.co.uk/event-details/knowle-cc-sunday-1st-xi-v-west-united-cc-sunday-1st-xi/
CATEGORIES:Senior Cricket
END:VEVENT
BEGIN:VEVENT
DTSTART;TZID=Europe/London:20260829T120000
DTEND;TZID=Europe/London:20260829T190000
DTSTAMP:20260421T004323
CREATED:20260206T185056Z
LAST-MODIFIED:20260206T185056Z
UID:4260-1788004800-1788030000@www.knowle-cricketclub.co.uk
SUMMARY:Bishopston CC 1st XI v Knowle CC 1st XI
DESCRIPTION:League
URL:https://www.knowle-cricketclub.co.uk/event-details/bishopston-cc-1st-xi-v-knowle-cc-1st-xi/
CATEGORIES:Senior Cricket
END:VEVENT
BEGIN:VEVENT
DTSTART;TZID=Europe/London:20260829T130000
DTEND;TZID=Europe/London:20260829T190000
DTSTAMP:20260421T004323
CREATED:20260206T185111Z
LAST-MODIFIED:20260206T185111Z
UID:4261-1788008400-1788030000@www.knowle-cricketclub.co.uk
SUMMARY:Knowle CC 2nd XI v Twyford House CC 2nd XI
DESCRIPTION:League
URL:https://www.knowle-cricketclub.co.uk/event-details/knowle-cc-2nd-xi-v-twyford-house-cc-2nd-xi/
CATEGORIES:Senior Cricket
END:VEVENT
BEGIN:VEVENT
DTSTART;TZID=Europe/London:20260829T130000
DTEND;TZID=Europe/London:20260829T190000
DTSTAMP:20260421T004323
CREATED:20260206T185111Z
LAST-MODIFIED:20260206T185111Z
UID:4262-1788008400-1788030000@www.knowle-cricketclub.co.uk
SUMMARY:Lodway CC 2nd XI v Knowle CC 3rd XI
DESCRIPTION:League
URL:https://www.knowle-cricketclub.co.uk/event-details/lodway-cc-2nd-xi-v-knowle-cc-3rd-xi/
CATEGORIES:Senior Cricket
END:VEVENT
BEGIN:VEVENT
DTSTART;TZID=Europe/London:20260829T130000
DTEND;TZID=Europe/London:20260829T190000
DTSTAMP:20260421T004323
CREATED:20260206T185111Z
LAST-MODIFIED:20260206T185111Z
UID:4263-1788008400-1788030000@www.knowle-cricketclub.co.uk
SUMMARY:Knowle CC 4th XI v Lansdown CC 3rd XI
DESCRIPTION:League
URL:https://www.knowle-cricketclub.co.uk/event-details/knowle-cc-4th-xi-v-lansdown-cc-3rd-xi-5/
CATEGORIES:Senior Cricket
END:VEVENT
BEGIN:VEVENT
DTSTART;TZID=Europe/London:20260830T100000
DTEND;TZID=Europe/London:20260830T130000
DTSTAMP:20260421T004323
CREATED:20260206T185111Z
LAST-MODIFIED:20260206T185111Z
UID:4265-1788084000-1788094800@www.knowle-cricketclub.co.uk
SUMMARY:Lodway CC Womens soft ball v Knowle CC Womens 1st XI
DESCRIPTION:League
URL:https://www.knowle-cricketclub.co.uk/event-details/lodway-cc-womens-soft-ball-v-knowle-cc-womens-1st-xi/
CATEGORIES:Senior Cricket
END:VEVENT
BEGIN:VEVENT
DTSTART;TZID=Europe/London:20260830T133000
DTEND;TZID=Europe/London:20260830T190000
DTSTAMP:20260421T004323
CREATED:20260206T185111Z
LAST-MODIFIED:20260206T185111Z
UID:4264-1788096600-1788116400@www.knowle-cricketclub.co.uk
SUMMARY:Lansdown CC Sunday XI v Knowle CC Sunday 1st XI
DESCRIPTION:League
URL:https://www.knowle-cricketclub.co.uk/event-details/lansdown-cc-sunday-xi-v-knowle-cc-sunday-1st-xi/
CATEGORIES:Senior Cricket
END:VEVENT
END:VCALENDAR