BEGIN:VCALENDAR
VERSION:2.0
PRODID:-//Knowle Cricket Club - ECPv6.15.20//NONSGML v1.0//EN
CALSCALE:GREGORIAN
METHOD:PUBLISH
X-WR-CALNAME:Knowle Cricket Club
X-ORIGINAL-URL:https://www.knowle-cricketclub.co.uk
X-WR-CALDESC:Events for Knowle Cricket Club
REFRESH-INTERVAL;VALUE=DURATION:PT1H
X-Robots-Tag:noindex
X-PUBLISHED-TTL:PT1H
BEGIN:VTIMEZONE
TZID:Europe/London
BEGIN:DAYLIGHT
TZOFFSETFROM:+0000
TZOFFSETTO:+0100
TZNAME:BST
DTSTART:20210328T010000
END:DAYLIGHT
BEGIN:STANDARD
TZOFFSETFROM:+0100
TZOFFSETTO:+0000
TZNAME:GMT
DTSTART:20211031T010000
END:STANDARD
BEGIN:DAYLIGHT
TZOFFSETFROM:+0000
TZOFFSETTO:+0100
TZNAME:BST
DTSTART:20220327T010000
END:DAYLIGHT
BEGIN:STANDARD
TZOFFSETFROM:+0100
TZOFFSETTO:+0000
TZNAME:GMT
DTSTART:20221030T010000
END:STANDARD
BEGIN:DAYLIGHT
TZOFFSETFROM:+0000
TZOFFSETTO:+0100
TZNAME:BST
DTSTART:20230326T010000
END:DAYLIGHT
BEGIN:STANDARD
TZOFFSETFROM:+0100
TZOFFSETTO:+0000
TZNAME:GMT
DTSTART:20231029T010000
END:STANDARD
END:VTIMEZONE
BEGIN:VEVENT
DTSTART;TZID=Europe/London:20220714T180000
DTEND;TZID=Europe/London:20220714T200000
DTSTAMP:20260421T021349
CREATED:20220413T220854Z
LAST-MODIFIED:20220413T220854Z
UID:3722-1657821600-1657828800@www.knowle-cricketclub.co.uk
SUMMARY:Stoke Bishop CC\, Bristol U13 Strikers v Knowle CC U13 B
DESCRIPTION:U13s Participation Group 2
URL:https://www.knowle-cricketclub.co.uk/event-details/stoke-bishop-cc-bristol-u13-strikers-v-knowle-cc-u13-b-2/
CATEGORIES:Junior Cricket
END:VEVENT
BEGIN:VEVENT
DTSTART;TZID=Europe/London:20220714T180000
DTEND;TZID=Europe/London:20220714T200000
DTSTAMP:20260421T021349
CREATED:20220413T220854Z
LAST-MODIFIED:20220413T220854Z
UID:3723-1657821600-1657828800@www.knowle-cricketclub.co.uk
SUMMARY:Hanham CC U15 v Knowle CC U15 B
DESCRIPTION:U15s Participation Group 4
URL:https://www.knowle-cricketclub.co.uk/event-details/hanham-cc-u15-v-knowle-cc-u15-b-2/
CATEGORIES:Junior Cricket
END:VEVENT
BEGIN:VEVENT
DTSTART;TZID=Europe/London:20220713T103000
DTEND;TZID=Europe/London:20220713T123000
DTSTAMP:20260421T021349
CREATED:20220413T220854Z
LAST-MODIFIED:20220413T220854Z
UID:3721-1657708200-1657715400@www.knowle-cricketclub.co.uk
SUMMARY:Knowle CC U11 Super 8s v Whitchurch CC\, Somerset U11
DESCRIPTION:Super 8’s Group 5
URL:https://www.knowle-cricketclub.co.uk/event-details/knowle-cc-u11-super-8s-v-whitchurch-cc-somerset-u11-2/
CATEGORIES:Junior Cricket
END:VEVENT
BEGIN:VEVENT
DTSTART;TZID=Europe/London:20220711T180000
DTEND;TZID=Europe/London:20220711T200000
DTSTAMP:20260421T021349
CREATED:20220413T220854Z
LAST-MODIFIED:20220413T220854Z
UID:3720-1657562400-1657569600@www.knowle-cricketclub.co.uk
SUMMARY:Knowle CC U11 A v Twyford House CC U11
DESCRIPTION:U11s Participation Group 4
URL:https://www.knowle-cricketclub.co.uk/event-details/knowle-cc-u11-a-v-twyford-house-cc-u11-2/
CATEGORIES:Junior Cricket
END:VEVENT
BEGIN:VEVENT
DTSTART;TZID=Europe/London:20220710T140000
DTEND;TZID=Europe/London:20220710T180000
DTSTAMP:20260421T021349
CREATED:20220413T220839Z
LAST-MODIFIED:20220413T220839Z
UID:3719-1657461600-1657476000@www.knowle-cricketclub.co.uk
SUMMARY:Knowle CC U15 v Coalpit Heath CC U15
DESCRIPTION:U15 Performance 1
URL:https://www.knowle-cricketclub.co.uk/event-details/knowle-cc-u15-v-coalpit-heath-cc-u15-2/
CATEGORIES:Junior Cricket
END:VEVENT
BEGIN:VEVENT
DTSTART;TZID=Europe/London:20220710T133000
DTEND;TZID=Europe/London:20220710T190000
DTSTAMP:20260421T021349
CREATED:20220413T220839Z
LAST-MODIFIED:20220413T220839Z
UID:3718-1657459800-1657479600@www.knowle-cricketclub.co.uk
SUMMARY:Charlton Super Kings CC 1st XI v Knowle CC Sunday North Somerset XI
DESCRIPTION:Sunday Conference Division 2
URL:https://www.knowle-cricketclub.co.uk/event-details/charlton-super-kings-cc-1st-xi-v-knowle-cc-sunday-north-somerset-xi-2/
CATEGORIES:Senior Cricket
END:VEVENT
BEGIN:VEVENT
DTSTART;TZID=Europe/London:20220710T103000
DTEND;TZID=Europe/London:20220710T123000
DTSTAMP:20260421T021349
CREATED:20220413T220839Z
LAST-MODIFIED:20220413T220839Z
UID:3717-1657449000-1657456200@www.knowle-cricketclub.co.uk
SUMMARY:Lodway CC U13 v Knowle CC U13 B
DESCRIPTION:U13s Participation Group 2
URL:https://www.knowle-cricketclub.co.uk/event-details/lodway-cc-u13-v-knowle-cc-u13-b-2/
LOCATION:Lodway CC\, Lodway Cricket Club\, Macrae Rd\, Pill\, Bristol\, BS20 0HB\, United Kingdom
CATEGORIES:Junior Cricket
END:VEVENT
BEGIN:VEVENT
DTSTART;TZID=Europe/London:20220709T130000
DTEND;TZID=Europe/London:20220709T190000
DTSTAMP:20260421T021349
CREATED:20220413T220839Z
LAST-MODIFIED:20220413T220839Z
UID:3715-1657371600-1657393200@www.knowle-cricketclub.co.uk
SUMMARY:Knowle CC 3rd XI v Bristol Lions CC 1st XI
DESCRIPTION:Sixth Division
URL:https://www.knowle-cricketclub.co.uk/event-details/knowle-cc-3rd-xi-v-bristol-lions-cc-1st-xi-2/
CATEGORIES:Senior Cricket
END:VEVENT
BEGIN:VEVENT
DTSTART;TZID=Europe/London:20220709T130000
DTEND;TZID=Europe/London:20220709T190000
DTSTAMP:20260421T021349
CREATED:20220413T220839Z
LAST-MODIFIED:20220413T220839Z
UID:3716-1657371600-1657393200@www.knowle-cricketclub.co.uk
SUMMARY:Knowle CC 4th XI v Stoke Gifford CC 1st XI
DESCRIPTION:Division 30
URL:https://www.knowle-cricketclub.co.uk/event-details/knowle-cc-4th-xi-v-stoke-gifford-cc-1st-xi-2/
CATEGORIES:Senior Cricket
END:VEVENT
BEGIN:VEVENT
DTSTART;TZID=Europe/London:20220709T130000
DTEND;TZID=Europe/London:20220709T190000
DTSTAMP:20260421T021349
CREATED:20220413T220824Z
LAST-MODIFIED:20220413T220824Z
UID:3714-1657371600-1657393200@www.knowle-cricketclub.co.uk
SUMMARY:Knowle CC 2nd XI v Clevedon CC 2nd XI
DESCRIPTION:First Division
URL:https://www.knowle-cricketclub.co.uk/event-details/knowle-cc-2nd-xi-v-clevedon-cc-2nd-xi-2/
CATEGORIES:Senior Cricket
END:VEVENT
BEGIN:VEVENT
DTSTART;TZID=Europe/London:20220709T123000
DTEND;TZID=Europe/London:20220709T190000
DTSTAMP:20260421T021349
CREATED:20220413T220824Z
LAST-MODIFIED:20220413T220824Z
UID:3713-1657369800-1657393200@www.knowle-cricketclub.co.uk
SUMMARY:Bristol CC 2nd XI v Knowle CC 1st XI
DESCRIPTION:WEPL Bristol & North Somerset
URL:https://www.knowle-cricketclub.co.uk/event-details/bristol-cc-2nd-xi-v-knowle-cc-1st-xi-6/
CATEGORIES:Senior Cricket
END:VEVENT
BEGIN:VEVENT
DTSTART;TZID=Europe/London:20220706T181500
DTEND;TZID=Europe/London:20220706T203000
DTSTAMP:20260421T021349
CREATED:20220413T220824Z
LAST-MODIFIED:20220413T220824Z
UID:3712-1657131300-1657139400@www.knowle-cricketclub.co.uk
SUMMARY:Portishead CC Twenty20 v Knowle CC Knight Riders
DESCRIPTION:Division 3
URL:https://www.knowle-cricketclub.co.uk/event-details/portishead-cc-twenty20-v-knowle-cc-knight-riders-2/
CATEGORIES:Senior Cricket
END:VEVENT
BEGIN:VEVENT
DTSTART;TZID=Europe/London:20220705T180000
DTEND;TZID=Europe/London:20220705T200000
DTSTAMP:20260421T021349
CREATED:20220413T220824Z
LAST-MODIFIED:20220413T221133Z
UID:3711-1657044000-1657051200@www.knowle-cricketclub.co.uk
SUMMARY:Knowle CC U15 A v Rockhampton CC U15
DESCRIPTION:U15s Performance
URL:https://www.knowle-cricketclub.co.uk/event-details/knowle-cc-u15-a-v-rockhampton-cc-u15-4/
LOCATION:Knowle CC (Broadwalk)\, Knowle Cricket Club\, Bristol\, BS4 2RD\, United Kingdom
CATEGORIES:Junior Cricket,Juniors U15A
END:VEVENT
BEGIN:VEVENT
DTSTART;TZID=Europe/London:20220704T180000
DTEND;TZID=Europe/London:20220704T200000
DTSTAMP:20260421T021349
CREATED:20220413T220824Z
LAST-MODIFIED:20220413T220824Z
UID:3710-1656957600-1656964800@www.knowle-cricketclub.co.uk
SUMMARY:Golden Hill CC U13 Green v Knowle CC U13 A
DESCRIPTION:U13s Performance
URL:https://www.knowle-cricketclub.co.uk/event-details/golden-hill-cc-u13-green-v-knowle-cc-u13-a-4/
CATEGORIES:Junior Cricket
END:VEVENT
BEGIN:VEVENT
DTSTART;TZID=Europe/London:20220704T180000
DTEND;TZID=Europe/London:20220704T200000
DTSTAMP:20260421T021349
CREATED:20220413T220809Z
LAST-MODIFIED:20220413T220809Z
UID:3709-1656957600-1656964800@www.knowle-cricketclub.co.uk
SUMMARY:Knowle CC U11 A v Golden Hill CC U11 Yellow
DESCRIPTION:U11s Participation Group 4
URL:https://www.knowle-cricketclub.co.uk/event-details/knowle-cc-u11-a-v-golden-hill-cc-u11-yellow-2/
CATEGORIES:Junior Cricket
END:VEVENT
BEGIN:VEVENT
DTSTART;TZID=Europe/London:20220703T133000
DTEND;TZID=Europe/London:20220703T190000
DTSTAMP:20260421T021349
CREATED:20220413T220809Z
LAST-MODIFIED:20220413T220809Z
UID:3708-1656855000-1656874800@www.knowle-cricketclub.co.uk
SUMMARY:Knowle CC Sunday North Somerset XI v Easton Cuttlefish CC Sunday XI
DESCRIPTION:Sunday Conference Division 2
URL:https://www.knowle-cricketclub.co.uk/event-details/knowle-cc-sunday-north-somerset-xi-v-easton-cuttlefish-cc-sunday-xi-4/
CATEGORIES:Senior Cricket
END:VEVENT
BEGIN:VEVENT
DTSTART;TZID=Europe/London:20220703T103000
DTEND;TZID=Europe/London:20220703T123000
DTSTAMP:20260421T021349
CREATED:20220413T220809Z
LAST-MODIFIED:20220413T220809Z
UID:3707-1656844200-1656851400@www.knowle-cricketclub.co.uk
SUMMARY:Knowle CC U15 B v Whitchurch CC\, Somerset U15
DESCRIPTION:U15s Participation Group 4
URL:https://www.knowle-cricketclub.co.uk/event-details/knowle-cc-u15-b-v-whitchurch-cc-somerset-u15-2/
CATEGORIES:Junior Cricket
END:VEVENT
BEGIN:VEVENT
DTSTART;TZID=Europe/London:20220702T130000
DTEND;TZID=Europe/London:20220702T190000
DTSTAMP:20260421T021349
CREATED:20220413T220809Z
LAST-MODIFIED:20220413T220809Z
UID:3705-1656766800-1656788400@www.knowle-cricketclub.co.uk
SUMMARY:Knowle CC 3rd XI v Keynsham CC 3rd XI
DESCRIPTION:Sixth Division
URL:https://www.knowle-cricketclub.co.uk/event-details/knowle-cc-3rd-xi-v-keynsham-cc-3rd-xi-2/
CATEGORIES:Senior Cricket
END:VEVENT
BEGIN:VEVENT
DTSTART;TZID=Europe/London:20220702T130000
DTEND;TZID=Europe/London:20220702T190000
DTSTAMP:20260421T021349
CREATED:20220413T220809Z
LAST-MODIFIED:20220413T220809Z
UID:3706-1656766800-1656788400@www.knowle-cricketclub.co.uk
SUMMARY:Stapleton CC\, Bristol 4th XI v Knowle CC 4th XI
DESCRIPTION:Division 30
URL:https://www.knowle-cricketclub.co.uk/event-details/stapleton-cc-bristol-4th-xi-v-knowle-cc-4th-xi-2/
CATEGORIES:Senior Cricket
END:VEVENT
BEGIN:VEVENT
DTSTART;TZID=Europe/London:20220702T130000
DTEND;TZID=Europe/London:20220702T190000
DTSTAMP:20260421T021349
CREATED:20220413T220754Z
LAST-MODIFIED:20220413T220754Z
UID:3704-1656766800-1656788400@www.knowle-cricketclub.co.uk
SUMMARY:Knowle CC 2nd XI v Lansdown CC 2nd XI
DESCRIPTION:First Division
URL:https://www.knowle-cricketclub.co.uk/event-details/knowle-cc-2nd-xi-v-lansdown-cc-2nd-xi-2/
CATEGORIES:Senior Cricket
END:VEVENT
BEGIN:VEVENT
DTSTART;TZID=Europe/London:20220702T123000
DTEND;TZID=Europe/London:20220702T190000
DTSTAMP:20260421T021349
CREATED:20220413T220754Z
LAST-MODIFIED:20220413T220754Z
UID:3703-1656765000-1656788400@www.knowle-cricketclub.co.uk
SUMMARY:Congresbury CC 1st XI v Knowle CC 1st XI
DESCRIPTION:WEPL Bristol & North Somerset
URL:https://www.knowle-cricketclub.co.uk/event-details/congresbury-cc-1st-xi-v-knowle-cc-1st-xi-5/
CATEGORIES:Senior Cricket
END:VEVENT
BEGIN:VEVENT
DTSTART;TZID=Europe/London:20220630T180000
DTEND;TZID=Europe/London:20220630T200000
DTSTAMP:20260421T021349
CREATED:20220413T220754Z
LAST-MODIFIED:20220413T220754Z
UID:3702-1656612000-1656619200@www.knowle-cricketclub.co.uk
SUMMARY:Lodway CC U11 v Knowle CC U11 A
DESCRIPTION:U11s Participation Group 4
URL:https://www.knowle-cricketclub.co.uk/event-details/lodway-cc-u11-v-knowle-cc-u11-a-3/
CATEGORIES:Junior Cricket
END:VEVENT
BEGIN:VEVENT
DTSTART;TZID=Europe/London:20220629T180000
DTEND;TZID=Europe/London:20220629T200000
DTSTAMP:20260421T021349
CREATED:20220413T220754Z
LAST-MODIFIED:20220413T220754Z
UID:3700-1656525600-1656532800@www.knowle-cricketclub.co.uk
SUMMARY:Twyford House CC U11 S8 v Knowle CC U11 Super 8s
DESCRIPTION:Super 8’s Group 5
URL:https://www.knowle-cricketclub.co.uk/event-details/twyford-house-cc-u11-s8-v-knowle-cc-u11-super-8s-2/
CATEGORIES:Junior Cricket
END:VEVENT
BEGIN:VEVENT
DTSTART;TZID=Europe/London:20220629T180000
DTEND;TZID=Europe/London:20220629T200000
DTSTAMP:20260421T021349
CREATED:20220413T220754Z
LAST-MODIFIED:20220413T220754Z
UID:3701-1656525600-1656532800@www.knowle-cricketclub.co.uk
SUMMARY:Knowle CC U13 B v Bristol CC U13 Blues
DESCRIPTION:U13s Participation Group 2
URL:https://www.knowle-cricketclub.co.uk/event-details/knowle-cc-u13-b-v-bristol-cc-u13-blues-2/
CATEGORIES:Junior Cricket
END:VEVENT
BEGIN:VEVENT
DTSTART;TZID=Europe/London:20220628T180000
DTEND;TZID=Europe/London:20220628T200000
DTSTAMP:20260421T021349
CREATED:20220413T220739Z
LAST-MODIFIED:20220413T220739Z
UID:3699-1656439200-1656446400@www.knowle-cricketclub.co.uk
SUMMARY:Knowle CC U13 A v Winterbourne CC\, Glos U13
DESCRIPTION:U13s Performance
URL:https://www.knowle-cricketclub.co.uk/event-details/knowle-cc-u13-a-v-winterbourne-cc-glos-u13-2/
CATEGORIES:Junior Cricket
END:VEVENT
BEGIN:VEVENT
DTSTART;TZID=Europe/London:20220627T180000
DTEND;TZID=Europe/London:20220627T200000
DTSTAMP:20260421T021349
CREATED:20220413T220739Z
LAST-MODIFIED:20220413T220739Z
UID:3697-1656352800-1656360000@www.knowle-cricketclub.co.uk
SUMMARY:Knowle CC U19 v Frenchay CC U19
DESCRIPTION:Gloucestershire South Development
URL:https://www.knowle-cricketclub.co.uk/event-details/knowle-cc-u19-v-frenchay-cc-u19-2/
CATEGORIES:Junior Cricket
END:VEVENT
BEGIN:VEVENT
DTSTART;TZID=Europe/London:20220627T180000
DTEND;TZID=Europe/London:20220627T200000
DTSTAMP:20260421T021349
CREATED:20220413T220739Z
LAST-MODIFIED:20220413T220739Z
UID:3698-1656352800-1656360000@www.knowle-cricketclub.co.uk
SUMMARY:Knowle CC U15 A v Winterbourne CC\, Glos U15
DESCRIPTION:U15s Performance
URL:https://www.knowle-cricketclub.co.uk/event-details/knowle-cc-u15-a-v-winterbourne-cc-glos-u15-2/
CATEGORIES:Junior Cricket
END:VEVENT
BEGIN:VEVENT
DTSTART;TZID=Europe/London:20220626T140000
DTEND;TZID=Europe/London:20220626T160000
DTSTAMP:20260421T021349
CREATED:20220413T220739Z
LAST-MODIFIED:20220413T220739Z
UID:3696-1656252000-1656259200@www.knowle-cricketclub.co.uk
SUMMARY:Bedminster CC Womens 1st XI v Knowle CC Womens 1st XI
DESCRIPTION:Women’s Softball League Division 2 North
URL:https://www.knowle-cricketclub.co.uk/event-details/bedminster-cc-womens-1st-xi-v-knowle-cc-womens-1st-xi-2/
CATEGORIES:Senior Cricket
END:VEVENT
BEGIN:VEVENT
DTSTART;TZID=Europe/London:20220626T133000
DTEND;TZID=Europe/London:20220626T190000
DTSTAMP:20260421T021349
CREATED:20220413T220739Z
LAST-MODIFIED:20220413T220739Z
UID:3695-1656250200-1656270000@www.knowle-cricketclub.co.uk
SUMMARY:Knowle CC Sunday North Somerset XI v Bristol Aces CC Sunday 1st XI
DESCRIPTION:Sunday Conference Division 2
URL:https://www.knowle-cricketclub.co.uk/event-details/knowle-cc-sunday-north-somerset-xi-v-bristol-aces-cc-sunday-1st-xi-3/
CATEGORIES:Senior Cricket
END:VEVENT
BEGIN:VEVENT
DTSTART;TZID=Europe/London:20220625T130000
DTEND;TZID=Europe/London:20220625T190000
DTSTAMP:20260421T021349
CREATED:20220413T220724Z
LAST-MODIFIED:20220413T220724Z
UID:3692-1656162000-1656183600@www.knowle-cricketclub.co.uk
SUMMARY:Hampset CC 1st XI v Knowle CC 2nd XI
DESCRIPTION:First Division
URL:https://www.knowle-cricketclub.co.uk/event-details/hampset-cc-1st-xi-v-knowle-cc-2nd-xi-2/
CATEGORIES:Senior Cricket
END:VEVENT
END:VCALENDAR