BEGIN:VCALENDAR
VERSION:2.0
PRODID:-//Knowle Cricket Club - ECPv6.15.20//NONSGML v1.0//EN
CALSCALE:GREGORIAN
METHOD:PUBLISH
X-WR-CALNAME:Knowle Cricket Club
X-ORIGINAL-URL:https://www.knowle-cricketclub.co.uk
X-WR-CALDESC:Events for Knowle Cricket Club
REFRESH-INTERVAL;VALUE=DURATION:PT1H
X-Robots-Tag:noindex
X-PUBLISHED-TTL:PT1H
BEGIN:VTIMEZONE
TZID:Europe/London
BEGIN:DAYLIGHT
TZOFFSETFROM:+0000
TZOFFSETTO:+0100
TZNAME:BST
DTSTART:20200329T010000
END:DAYLIGHT
BEGIN:STANDARD
TZOFFSETFROM:+0100
TZOFFSETTO:+0000
TZNAME:GMT
DTSTART:20201025T010000
END:STANDARD
BEGIN:DAYLIGHT
TZOFFSETFROM:+0000
TZOFFSETTO:+0100
TZNAME:BST
DTSTART:20210328T010000
END:DAYLIGHT
BEGIN:STANDARD
TZOFFSETFROM:+0100
TZOFFSETTO:+0000
TZNAME:GMT
DTSTART:20211031T010000
END:STANDARD
BEGIN:DAYLIGHT
TZOFFSETFROM:+0000
TZOFFSETTO:+0100
TZNAME:BST
DTSTART:20220327T010000
END:DAYLIGHT
BEGIN:STANDARD
TZOFFSETFROM:+0100
TZOFFSETTO:+0000
TZNAME:GMT
DTSTART:20221030T010000
END:STANDARD
BEGIN:DAYLIGHT
TZOFFSETFROM:+0000
TZOFFSETTO:+0100
TZNAME:BST
DTSTART:20230326T010000
END:DAYLIGHT
BEGIN:STANDARD
TZOFFSETFROM:+0100
TZOFFSETTO:+0000
TZNAME:GMT
DTSTART:20231029T010000
END:STANDARD
END:VTIMEZONE
BEGIN:VEVENT
DTSTART;TZID=Europe/London:20220514T130000
DTEND;TZID=Europe/London:20220514T190000
DTSTAMP:20260420T184843
CREATED:20220413T213941Z
LAST-MODIFIED:20220413T213941Z
UID:3629-1652533200-1652554800@www.knowle-cricketclub.co.uk
SUMMARY:Knowle CC 2nd XI v Bristol Pakistanis CC 1st XI
DESCRIPTION:First Division
URL:https://www.knowle-cricketclub.co.uk/event-details/knowle-cc-2nd-xi-v-bristol-pakistanis-cc-1st-xi-3/
CATEGORIES:Senior Cricket
END:VEVENT
BEGIN:VEVENT
DTSTART;TZID=Europe/London:20220514T130000
DTEND;TZID=Europe/London:20220514T190000
DTSTAMP:20260420T184843
CREATED:20220413T213941Z
LAST-MODIFIED:20220413T213941Z
UID:3630-1652533200-1652554800@www.knowle-cricketclub.co.uk
SUMMARY:Knowle CC 3rd XI v Patchway CC 1st XI
DESCRIPTION:Sixth Division
URL:https://www.knowle-cricketclub.co.uk/event-details/knowle-cc-3rd-xi-v-patchway-cc-1st-xi-2/
CATEGORIES:Senior Cricket
END:VEVENT
BEGIN:VEVENT
DTSTART;TZID=Europe/London:20220514T123000
DTEND;TZID=Europe/London:20220514T190000
DTSTAMP:20260420T184843
CREATED:20220413T213927Z
LAST-MODIFIED:20220413T213927Z
UID:3628-1652531400-1652554800@www.knowle-cricketclub.co.uk
SUMMARY:Brislington CC 1st XI v Knowle CC 1st XI
DESCRIPTION:WEPL Bristol & North Somerset
URL:https://www.knowle-cricketclub.co.uk/event-details/brislington-cc-1st-xi-v-knowle-cc-1st-xi-4/
CATEGORIES:Senior Cricket
END:VEVENT
BEGIN:VEVENT
DTSTART;TZID=Europe/London:20220512T180000
DTEND;TZID=Europe/London:20220512T200000
DTSTAMP:20260420T184843
CREATED:20220413T213927Z
LAST-MODIFIED:20220413T213927Z
UID:3627-1652378400-1652385600@www.knowle-cricketclub.co.uk
SUMMARY:Bedminster CC U11 S8 v Knowle CC U11 Super 8s
DESCRIPTION:Super 8’s Group 5
URL:https://www.knowle-cricketclub.co.uk/event-details/bedminster-cc-u11-s8-v-knowle-cc-u11-super-8s-2/
CATEGORIES:Junior Cricket
END:VEVENT
BEGIN:VEVENT
DTSTART;TZID=Europe/London:20220511T181500
DTEND;TZID=Europe/London:20220511T203000
DTSTAMP:20260420T184843
CREATED:20220413T213927Z
LAST-MODIFIED:20220413T213927Z
UID:3626-1652292900-1652301000@www.knowle-cricketclub.co.uk
SUMMARY:Knowle CC Knight Riders v Portishead CC Twenty20
DESCRIPTION:Division 3
URL:https://www.knowle-cricketclub.co.uk/event-details/knowle-cc-knight-riders-v-portishead-cc-twenty20-2/
CATEGORIES:Senior Cricket
END:VEVENT
BEGIN:VEVENT
DTSTART;TZID=Europe/London:20220511T180000
DTEND;TZID=Europe/London:20220511T200000
DTSTAMP:20260420T184843
CREATED:20220413T213926Z
LAST-MODIFIED:20220413T213926Z
UID:3625-1652292000-1652299200@www.knowle-cricketclub.co.uk
SUMMARY:Knowle CC U13 B v Lodway CC U13
DESCRIPTION:U13s Participation Group 2
URL:https://www.knowle-cricketclub.co.uk/event-details/knowle-cc-u13-b-v-lodway-cc-u13-2/
CATEGORIES:Junior Cricket
END:VEVENT
BEGIN:VEVENT
DTSTART;TZID=Europe/London:20220509T180000
DTEND;TZID=Europe/London:20220509T200000
DTSTAMP:20260420T184843
CREATED:20220413T213926Z
LAST-MODIFIED:20220413T213926Z
UID:3624-1652119200-1652126400@www.knowle-cricketclub.co.uk
SUMMARY:Knowle CC U15 A v Rockhampton CC U15
DESCRIPTION:Vitality U15 National Cup
URL:https://www.knowle-cricketclub.co.uk/event-details/knowle-cc-u15-a-v-rockhampton-cc-u15-3/
CATEGORIES:Junior Cricket
END:VEVENT
BEGIN:VEVENT
DTSTART;TZID=Europe/London:20220509T180000
DTEND;TZID=Europe/London:20220509T200000
DTSTAMP:20260420T184843
CREATED:20220413T213912Z
LAST-MODIFIED:20220413T213912Z
UID:3623-1652119200-1652126400@www.knowle-cricketclub.co.uk
SUMMARY:Golden Hill CC U13 Green v Knowle CC U13 A
DESCRIPTION:Vitality U13 National Cup
URL:https://www.knowle-cricketclub.co.uk/event-details/golden-hill-cc-u13-green-v-knowle-cc-u13-a-3/
CATEGORIES:Junior Cricket
END:VEVENT
BEGIN:VEVENT
DTSTART;TZID=Europe/London:20220508T133000
DTEND;TZID=Europe/London:20220508T190000
DTSTAMP:20260420T184843
CREATED:20220413T213912Z
LAST-MODIFIED:20220413T213912Z
UID:3622-1652016600-1652036400@www.knowle-cricketclub.co.uk
SUMMARY:Knowle CC Sunday North Somerset XI v Charlton Super Kings CC 1st XI
DESCRIPTION:Sunday Conference Division 2
URL:https://www.knowle-cricketclub.co.uk/event-details/knowle-cc-sunday-north-somerset-xi-v-charlton-super-kings-cc-1st-xi-3/
CATEGORIES:Senior Cricket
END:VEVENT
BEGIN:VEVENT
DTSTART;TZID=Europe/London:20220507T193000
DTEND;TZID=Europe/London:20220507T223000
DTSTAMP:20260420T184843
CREATED:20220411T134909Z
LAST-MODIFIED:20220411T134909Z
UID:3294-1651951800-1651962600@www.knowle-cricketclub.co.uk
SUMMARY:iPod Shuffle Night
DESCRIPTION:Night of the first Cricket fixtures. \nFirst of our Saturday themed fortnights\, box of themes with one pulled out for the following date at that event.
URL:https://www.knowle-cricketclub.co.uk/event-details/ipod-shuffle-night/
LOCATION:Knowle CC (Broadwalk)\, Knowle Cricket Club\, Bristol\, BS4 2RD\, United Kingdom
CATEGORIES:Social
END:VEVENT
BEGIN:VEVENT
DTSTART;TZID=Europe/London:20220507T130000
DTEND;TZID=Europe/London:20220507T190000
DTSTAMP:20260420T184843
CREATED:20220413T213912Z
LAST-MODIFIED:20220413T213912Z
UID:3621-1651928400-1651950000@www.knowle-cricketclub.co.uk
SUMMARY:Bristol Lions CC 1st XI v Knowle CC 3rd XI
DESCRIPTION:Sixth Division
URL:https://www.knowle-cricketclub.co.uk/event-details/bristol-lions-cc-1st-xi-v-knowle-cc-3rd-xi-2/
CATEGORIES:Senior Cricket
END:VEVENT
BEGIN:VEVENT
DTSTART;TZID=Europe/London:20220507T130000
DTEND;TZID=Europe/London:20220507T190000
DTSTAMP:20260420T184843
CREATED:20220413T213911Z
LAST-MODIFIED:20220413T213911Z
UID:3620-1651928400-1651950000@www.knowle-cricketclub.co.uk
SUMMARY:Clevedon CC 2nd XI v Knowle CC 2nd XI
DESCRIPTION:First Division
URL:https://www.knowle-cricketclub.co.uk/event-details/clevedon-cc-2nd-xi-v-knowle-cc-2nd-xi-2/
CATEGORIES:Senior Cricket
END:VEVENT
BEGIN:VEVENT
DTSTART;TZID=Europe/London:20220507T123000
DTEND;TZID=Europe/London:20220507T190000
DTSTAMP:20260420T184843
CREATED:20220413T213911Z
LAST-MODIFIED:20220413T213911Z
UID:3619-1651926600-1651950000@www.knowle-cricketclub.co.uk
SUMMARY:Knowle CC 1st XI v Bristol CC 2nd XI
DESCRIPTION:WEPL Bristol & North Somerset
URL:https://www.knowle-cricketclub.co.uk/event-details/knowle-cc-1st-xi-v-bristol-cc-2nd-xi-6/
CATEGORIES:Senior Cricket
END:VEVENT
BEGIN:VEVENT
DTSTART;TZID=Europe/London:20220501T140000
DTEND;TZID=Europe/London:20220501T180000
DTSTAMP:20260420T184843
CREATED:20220413T213857Z
LAST-MODIFIED:20220413T213857Z
UID:3617-1651413600-1651428000@www.knowle-cricketclub.co.uk
SUMMARY:Bristol CC U15 v Knowle CC U15
DESCRIPTION:U15 Performance 1
URL:https://www.knowle-cricketclub.co.uk/event-details/bristol-cc-u15-v-knowle-cc-u15-2/
CATEGORIES:Junior Cricket
END:VEVENT
BEGIN:VEVENT
DTSTART;TZID=Europe/London:20220501T133000
DTEND;TZID=Europe/London:20220501T180000
DTSTAMP:20260420T184843
CREATED:20220413T213856Z
LAST-MODIFIED:20220413T213856Z
UID:3616-1651411800-1651428000@www.knowle-cricketclub.co.uk
SUMMARY:Easton Cuttlefish CC Sunday XI v Knowle CC Sunday North Somerset XI
DESCRIPTION:Sunday Conference Division 2
URL:https://www.knowle-cricketclub.co.uk/event-details/easton-cuttlefish-cc-sunday-xi-v-knowle-cc-sunday-north-somerset-xi-4/
CATEGORIES:Senior Cricket
END:VEVENT
BEGIN:VEVENT
DTSTART;TZID=Europe/London:20220501T100000
DTEND;TZID=Europe/London:20220501T120000
DTSTAMP:20260420T184843
CREATED:20220413T213857Z
LAST-MODIFIED:20220425T200108Z
UID:3618-1651399200-1651406400@www.knowle-cricketclub.co.uk
SUMMARY:Knowle CC Womens 1st XI v Congresbury CC Womens 1st XI
DESCRIPTION:Women’s Softball League Division 2 North
URL:https://www.knowle-cricketclub.co.uk/event-details/knowle-cc-womens-1st-xi-v-congresbury-cc-womens-1st-xi-4/
LOCATION:Knowle CC (Broadwalk)\, Knowle Cricket Club\, Bristol\, BS4 2RD\, United Kingdom
CATEGORIES:Senior Cricket,Seniors Ladies
END:VEVENT
BEGIN:VEVENT
DTSTART;TZID=Europe/London:20220430T193000
DTEND;TZID=Europe/London:20220430T233000
DTSTAMP:20260420T184843
CREATED:20220325T134427Z
LAST-MODIFIED:20220325T134510Z
UID:3190-1651347000-1651361400@www.knowle-cricketclub.co.uk
SUMMARY:Skittles end of Season Party
DESCRIPTION:Live Music expected\, timings and details to be confirmed.
URL:https://www.knowle-cricketclub.co.uk/event-details/skittles-end-of-season-party/
LOCATION:Knowle CC (Broadwalk)\, Knowle Cricket Club\, Bristol\, BS4 2RD\, United Kingdom
CATEGORIES:Social
END:VEVENT
BEGIN:VEVENT
DTSTART;TZID=Europe/London:20220428T180000
DTEND;TZID=Europe/London:20220428T200000
DTSTAMP:20260420T184843
CREATED:20220413T213856Z
LAST-MODIFIED:20220413T213856Z
UID:3615-1651168800-1651176000@www.knowle-cricketclub.co.uk
SUMMARY:Golden Hill CC U15 Green v Knowle CC U15 A
DESCRIPTION:U15s Performance
URL:https://www.knowle-cricketclub.co.uk/event-details/golden-hill-cc-u15-green-v-knowle-cc-u15-a-2/
CATEGORIES:Junior Cricket
END:VEVENT
BEGIN:VEVENT
DTSTART;TZID=Europe/London:20220426T180000
DTEND;TZID=Europe/London:20220426T200000
DTSTAMP:20260420T184843
CREATED:20220413T213856Z
LAST-MODIFIED:20220413T215118Z
UID:3614-1650996000-1651003200@www.knowle-cricketclub.co.uk
SUMMARY:Knowle CC U13 A v Rockhampton CC U13
DESCRIPTION:U13s Performance
URL:https://www.knowle-cricketclub.co.uk/event-details/knowle-cc-u13-a-v-rockhampton-cc-u13-2/
LOCATION:Knowle CC (Broadwalk)\, Knowle Cricket Club\, Bristol\, BS4 2RD\, United Kingdom
CATEGORIES:Junior Cricket
END:VEVENT
BEGIN:VEVENT
DTSTART;TZID=Europe/London:20220425T180000
DTEND;TZID=Europe/London:20220425T200000
DTSTAMP:20260420T184843
CREATED:20220413T213854Z
LAST-MODIFIED:20220413T213854Z
UID:3613-1650909600-1650916800@www.knowle-cricketclub.co.uk
SUMMARY:Bristol CC U13 Blues v Knowle CC U13 B
DESCRIPTION:U13s Participation Group 2
URL:https://www.knowle-cricketclub.co.uk/event-details/bristol-cc-u13-blues-v-knowle-cc-u13-b-2/
CATEGORIES:Junior Cricket
END:VEVENT
BEGIN:VEVENT
DTSTART;TZID=Europe/London:20220425T180000
DTEND;TZID=Europe/London:20220425T200000
DTSTAMP:20260420T184843
CREATED:20220413T213854Z
LAST-MODIFIED:20220413T213854Z
UID:3612-1650909600-1650916800@www.knowle-cricketclub.co.uk
SUMMARY:Knowle CC U11 A v Lodway CC U11
DESCRIPTION:U11s Participation Group 4
URL:https://www.knowle-cricketclub.co.uk/event-details/knowle-cc-u11-a-v-lodway-cc-u11-2/
CATEGORIES:Junior Cricket
END:VEVENT
BEGIN:VEVENT
DTSTART;TZID=Europe/London:20220417T130000
DTEND;TZID=Europe/London:20220417T170000
DTSTAMP:20260420T184843
CREATED:20220325T113826Z
LAST-MODIFIED:20220411T122733Z
UID:3188-1650200400-1650214800@www.knowle-cricketclub.co.uk
SUMMARY:Easter Family Fun Day
DESCRIPTION:Activities and timings to be confirmed.
URL:https://www.knowle-cricketclub.co.uk/event-details/easter-family-fun-day/
CATEGORIES:Social
ATTACH;FMTTYPE=image/jpeg:https://www.knowle-cricketclub.co.uk/wp-content/uploads/2022/03/ho-02b-easter-web.jpg
END:VEVENT
BEGIN:VEVENT
DTSTART;TZID=Europe/London:20220401T180000
DTEND;TZID=Europe/London:20220401T210000
DTSTAMP:20260420T184843
CREATED:20220325T113237Z
LAST-MODIFIED:20220325T134653Z
UID:3186-1648836000-1648846800@www.knowle-cricketclub.co.uk
SUMMARY:Junior Registration Night 2022
DESCRIPTION:Join us for our annual Junior Registration night at the pavilion from 6pm. \nThis is for hardball junior cricketers\, from the U11s team age range and upwards.
URL:https://www.knowle-cricketclub.co.uk/event-details/junior-registration-night-2022/
LOCATION:Knowle CC (Broadwalk)\, Knowle Cricket Club\, Bristol\, BS4 2RD\, United Kingdom
CATEGORIES:Junior Cricket
END:VEVENT
BEGIN:VEVENT
DTSTART;TZID=Europe/London:20220320T150000
DTEND;TZID=Europe/London:20220320T170000
DTSTAMP:20260420T184843
CREATED:20220413T213854Z
LAST-MODIFIED:20220413T213854Z
UID:3610-1647788400-1647795600@www.knowle-cricketclub.co.uk
SUMMARY:Knowle CC Women's indoor v Congresbury CC_Women's Indoor
DESCRIPTION:Women’s Indoor Cricket Festival Portishead (Gordano) 20th March
URL:https://www.knowle-cricketclub.co.uk/event-details/knowle-cc-womens-indoor-v-congresbury-cc_womens-indoor-2/
CATEGORIES:Senior Cricket
END:VEVENT
BEGIN:VEVENT
DTSTART;TZID=Europe/London:20220320T120000
DTEND;TZID=Europe/London:20220320T140000
DTSTAMP:20260420T184843
CREATED:20220413T213854Z
LAST-MODIFIED:20220413T213854Z
UID:3609-1647777600-1647784800@www.knowle-cricketclub.co.uk
SUMMARY:Knowle CC Women's indoor v Bedminster CC Womens Soft Ball Indoor
DESCRIPTION:Women’s Indoor Cricket Festival Portishead (Gordano) 20th March
URL:https://www.knowle-cricketclub.co.uk/event-details/knowle-cc-womens-indoor-v-bedminster-cc-womens-soft-ball-indoor-2/
CATEGORIES:Senior Cricket
END:VEVENT
BEGIN:VEVENT
DTSTART;TZID=Europe/London:20220225T200000
DTEND;TZID=Europe/London:20220225T220000
DTSTAMP:20260420T184843
CREATED:20220118T213622Z
LAST-MODIFIED:20220118T213622Z
UID:2978-1645819200-1645826400@www.knowle-cricketclub.co.uk
SUMMARY:KCC AGM 2022
DESCRIPTION:Notice of AGM 2022 \nThe 2022 Annual General Meeting (AGM) of Knowle Cricket Club will be held at the Pavilion\, Broadwalk\, on Friday 25th February 2022 at 8:00pm. \nAgenda: \n\nIn Memoriam\nApologies for Absence\nMinutes of the last AGM (as displayed on the club noticeboard)\nAnnual Reports\nAmendments to Constitution\nElection of new Officers\nThanks to retiring Officers\nQuestions and Answers\nClose\n\nSubmitting Questions: \nMembers are requested to forward\, in writing by 25th January 2022\, any questions related to club matters that they would like answered at the meeting. \nAll correspondence should be addressed to the Honorary Secretary Knowle Cricket Club\, Broadwalk\, Bristol\, BS4 2RD or leave for his attention in an envelope behind the bar. \nOfficer Nominations: \nOfficer nominations\, duly seconded\, must be submitted using a nomination form\, available from the bar. All nominations must be received by Tuesday 25th January 2022. \nOnly fully paid-up members may stand\, propose or second a nomination\, including sitting on any sub-committee. \nWhere there are two or more nominations for the same position\, nominees shall be encouraged to explain their reasons for standing at the AGM. The number of votes cast for each nominee shall be recorded. \nFurther Information related to the Executive Committee\, Officer roles and sub-committee members is available from the noticeboard at the clubhouse.
URL:https://www.knowle-cricketclub.co.uk/event-details/kcc-agm-2022/
LOCATION:Knowle CC (Broadwalk)\, Knowle Cricket Club\, Bristol\, BS4 2RD\, United Kingdom
CATEGORIES:Administration
END:VEVENT
BEGIN:VEVENT
DTSTART;TZID=Europe/London:20211226T103000
DTEND;TZID=Europe/London:20211226T120000
DTSTAMP:20260420T184843
CREATED:20211215T114236Z
LAST-MODIFIED:20211215T114320Z
UID:2963-1640514600-1640520000@www.knowle-cricketclub.co.uk
SUMMARY:Annual Boxing Day Football 2021
DESCRIPTION:Come along and support the biggest match of the year as the young guns take on the old uns at KCC with a  10:30 KO.\nThe kitchen and bar will also be open for breakfast baps  and refreshments \nIf you’re interested in playing\, contact Geoff\, Martin or Dale or put your name down on the list at the bar.\nThanks for your support!
URL:https://www.knowle-cricketclub.co.uk/event-details/annual-boxing-day-football-2021/
LOCATION:Knowle CC (Broadwalk)\, Knowle Cricket Club\, Bristol\, BS4 2RD\, United Kingdom
CATEGORIES:Social
END:VEVENT
BEGIN:VEVENT
DTSTART;TZID=Europe/London:20211107T163000
DTEND;TZID=Europe/London:20211107T210000
DTSTAMP:20260420T184843
CREATED:20211005T124723Z
LAST-MODIFIED:20211005T124723Z
UID:2927-1636302600-1636318800@www.knowle-cricketclub.co.uk
SUMMARY:Fireworks Display
DESCRIPTION:We are pleased to announce that our celebrated annual Fireworks Display returns on Sunday 7th November!\nGates Open from 4:30pm with the display commencing at 7pm. \nWe’ll have lots of options for food\, refreshments and fun as part of the evening. \nTickets on entry are priced: \n\n£5 Adults\n£3 Children\n£15 Family (2 x Adults\, 2 x Children)\n\nPlease\, no sparklers. \nSee you there\, thanks for your support!
URL:https://www.knowle-cricketclub.co.uk/event-details/fireworks-display/
LOCATION:Knowle CC (Broadwalk)\, Knowle Cricket Club\, Bristol\, BS4 2RD\, United Kingdom
CATEGORIES:Social
END:VEVENT
BEGIN:VEVENT
DTSTART;TZID=Europe/London:20211010T103000
DTEND;TZID=Europe/London:20211010T120000
DTSTAMP:20260420T184843
CREATED:20211005T160628Z
LAST-MODIFIED:20211005T160831Z
UID:2944-1633861800-1633867200@www.knowle-cricketclub.co.uk
SUMMARY:Bathelona v KCC FC
DESCRIPTION:
URL:https://www.knowle-cricketclub.co.uk/event-details/bathelona-v-kcc-fc/
LOCATION:Fry Club Somerdale\, Keynsham\, Bristol\, Bristol\, BS31 2AU\, United Kingdom
CATEGORIES:KCC Vets Football
END:VEVENT
BEGIN:VEVENT
DTSTART;TZID=Europe/London:20210926T103000
DTEND;TZID=Europe/London:20210926T120000
DTSTAMP:20260420T184843
CREATED:20210908T190343Z
LAST-MODIFIED:20210908T190624Z
UID:2901-1632652200-1632657600@www.knowle-cricketclub.co.uk
SUMMARY:Parson Street Vets FC v KCC FC
DESCRIPTION:
URL:https://www.knowle-cricketclub.co.uk/event-details/parson-st-vets-v-kcc-fc/
LOCATION:Parson Street FC\, 198 South Liberty Lane\, Bristol\, BS3 2TY\, United Kingdom
CATEGORIES:KCC Vets Football
END:VEVENT
END:VCALENDAR