BEGIN:VCALENDAR
VERSION:2.0
PRODID:-//Knowle Cricket Club - ECPv6.15.20//NONSGML v1.0//EN
CALSCALE:GREGORIAN
METHOD:PUBLISH
X-WR-CALNAME:Knowle Cricket Club
X-ORIGINAL-URL:https://www.knowle-cricketclub.co.uk
X-WR-CALDESC:Events for Knowle Cricket Club
REFRESH-INTERVAL;VALUE=DURATION:PT1H
X-Robots-Tag:noindex
X-PUBLISHED-TTL:PT1H
BEGIN:VTIMEZONE
TZID:Europe/London
BEGIN:DAYLIGHT
TZOFFSETFROM:+0000
TZOFFSETTO:+0100
TZNAME:BST
DTSTART:20210328T010000
END:DAYLIGHT
BEGIN:STANDARD
TZOFFSETFROM:+0100
TZOFFSETTO:+0000
TZNAME:GMT
DTSTART:20211031T010000
END:STANDARD
BEGIN:DAYLIGHT
TZOFFSETFROM:+0000
TZOFFSETTO:+0100
TZNAME:BST
DTSTART:20220327T010000
END:DAYLIGHT
BEGIN:STANDARD
TZOFFSETFROM:+0100
TZOFFSETTO:+0000
TZNAME:GMT
DTSTART:20221030T010000
END:STANDARD
BEGIN:DAYLIGHT
TZOFFSETFROM:+0000
TZOFFSETTO:+0100
TZNAME:BST
DTSTART:20230326T010000
END:DAYLIGHT
BEGIN:STANDARD
TZOFFSETFROM:+0100
TZOFFSETTO:+0000
TZNAME:GMT
DTSTART:20231029T010000
END:STANDARD
END:VTIMEZONE
BEGIN:VEVENT
DTSTART;TZID=Europe/London:20220611T130000
DTEND;TZID=Europe/London:20220611T190000
DTSTAMP:20260421T020348
CREATED:20220413T220624Z
LAST-MODIFIED:20220413T220624Z
UID:3672-1654952400-1654974000@www.knowle-cricketclub.co.uk
SUMMARY:Downend CC 2nd XI v Knowle CC 2nd XI
DESCRIPTION:First Division
URL:https://www.knowle-cricketclub.co.uk/event-details/downend-cc-2nd-xi-v-knowle-cc-2nd-xi-4/
CATEGORIES:Senior Cricket
END:VEVENT
BEGIN:VEVENT
DTSTART;TZID=Europe/London:20220611T130000
DTEND;TZID=Europe/London:20220611T190000
DTSTAMP:20260421T020348
CREATED:20220413T220624Z
LAST-MODIFIED:20220413T220624Z
UID:3673-1654952400-1654974000@www.knowle-cricketclub.co.uk
SUMMARY:Bristol Pakistanis CC 2nd XI v Knowle CC 3rd XI
DESCRIPTION:Sixth Division
URL:https://www.knowle-cricketclub.co.uk/event-details/bristol-pakistanis-cc-2nd-xi-v-knowle-cc-3rd-xi-2/
CATEGORIES:Senior Cricket
END:VEVENT
BEGIN:VEVENT
DTSTART;TZID=Europe/London:20220611T123000
DTEND;TZID=Europe/London:20220611T190000
DTSTAMP:20260421T020348
CREATED:20220413T220624Z
LAST-MODIFIED:20220413T220624Z
UID:3671-1654950600-1654974000@www.knowle-cricketclub.co.uk
SUMMARY:Knowle CC 1st XI v Old Bristolians Westbury CC 1st XI
DESCRIPTION:WEPL Bristol & North Somerset
URL:https://www.knowle-cricketclub.co.uk/event-details/knowle-cc-1st-xi-v-old-bristolians-westbury-cc-1st-xi-3/
CATEGORIES:Senior Cricket
END:VEVENT
BEGIN:VEVENT
DTSTART;TZID=Europe/London:20220607T180000
DTEND;TZID=Europe/London:20220607T200000
DTSTAMP:20260421T020348
CREATED:20220413T220623Z
LAST-MODIFIED:20220413T220623Z
UID:3670-1654624800-1654632000@www.knowle-cricketclub.co.uk
SUMMARY:Knowle CC U15 A v Bedminster CC U15
DESCRIPTION:U15s Performance
URL:https://www.knowle-cricketclub.co.uk/event-details/knowle-cc-u15-a-v-bedminster-cc-u15-2/
CATEGORIES:Junior Cricket
END:VEVENT
BEGIN:VEVENT
DTSTART;TZID=Europe/London:20220606T180000
DTEND;TZID=Europe/London:20220606T200000
DTSTAMP:20260421T020348
CREATED:20220413T212406Z
LAST-MODIFIED:20220413T215539Z
UID:3368-1654538400-1654545600@www.knowle-cricketclub.co.uk
SUMMARY:Knowle CC U19 v Bedminster CC Bedminster Bashers
DESCRIPTION:Gloucestershire South Development
URL:https://www.knowle-cricketclub.co.uk/event-details/knowle-cc-u19-v-bedminster-cc-bedminster-bashers/
LOCATION:Knowle CC (Broadwalk)\, Knowle Cricket Club\, Bristol\, BS4 2RD\, United Kingdom
CATEGORIES:Junior Cricket
END:VEVENT
BEGIN:VEVENT
DTSTART;TZID=Europe/London:20220605T180000
DTEND;TZID=Europe/London:20220605T200000
DTSTAMP:20260421T020348
CREATED:20220413T214909Z
LAST-MODIFIED:20220413T214909Z
UID:3667-1654452000-1654459200@www.knowle-cricketclub.co.uk
SUMMARY:Whitchurch CC\, Somerset U11 v Knowle CC U11 Super 8s
DESCRIPTION:Super 8’s Group 5
URL:https://www.knowle-cricketclub.co.uk/event-details/whitchurch-cc-somerset-u11-v-knowle-cc-u11-super-8s-2/
CATEGORIES:Junior Cricket
END:VEVENT
BEGIN:VEVENT
DTSTART;TZID=Europe/London:20220605T140000
DTEND;TZID=Europe/London:20220605T180000
DTSTAMP:20260421T020348
CREATED:20220413T213854Z
LAST-MODIFIED:20220421T211504Z
UID:3611-1654437600-1654452000@www.knowle-cricketclub.co.uk
SUMMARY:Knowle CC U15 v Thornbury CC\, Glos GYL U15
DESCRIPTION:U15 Performance 1
URL:https://www.knowle-cricketclub.co.uk/event-details/knowle-cc-u15-v-thornbury-cc-glos-gyl-u15-2/
CATEGORIES:Junior Cricket
END:VEVENT
BEGIN:VEVENT
DTSTART;TZID=Europe/London:20220605T133000
DTEND;TZID=Europe/London:20220605T190000
DTSTAMP:20260421T020348
CREATED:20220413T214909Z
LAST-MODIFIED:20220413T214909Z
UID:3666-1654435800-1654455600@www.knowle-cricketclub.co.uk
SUMMARY:Bristol Pakistanis CC Sunday 1st XI v Knowle CC Sunday North Somerset XI
DESCRIPTION:Sunday Conference Division 2
URL:https://www.knowle-cricketclub.co.uk/event-details/bristol-pakistanis-cc-sunday-1st-xi-v-knowle-cc-sunday-north-somerset-xi-2/
CATEGORIES:Senior Cricket
END:VEVENT
BEGIN:VEVENT
DTSTART;TZID=Europe/London:20220604T130000
DTEND;TZID=Europe/London:20220604T190000
DTSTAMP:20260421T020348
CREATED:20220413T214909Z
LAST-MODIFIED:20220413T214909Z
UID:3664-1654347600-1654369200@www.knowle-cricketclub.co.uk
SUMMARY:Whitchurch CC\, Somerset 2nd XI v Knowle CC 3rd XI
DESCRIPTION:Sixth Division
URL:https://www.knowle-cricketclub.co.uk/event-details/whitchurch-cc-somerset-2nd-xi-v-knowle-cc-3rd-xi-2/
CATEGORIES:Senior Cricket
END:VEVENT
BEGIN:VEVENT
DTSTART;TZID=Europe/London:20220604T130000
DTEND;TZID=Europe/London:20220604T190000
DTSTAMP:20260421T020348
CREATED:20220413T214909Z
LAST-MODIFIED:20220413T214909Z
UID:3665-1654347600-1654369200@www.knowle-cricketclub.co.uk
SUMMARY:Blagdon CC 2nd XI v Knowle CC 4th XI
DESCRIPTION:Division 30
URL:https://www.knowle-cricketclub.co.uk/event-details/blagdon-cc-2nd-xi-v-knowle-cc-4th-xi-4/
CATEGORIES:Senior Cricket
END:VEVENT
BEGIN:VEVENT
DTSTART;TZID=Europe/London:20220604T130000
DTEND;TZID=Europe/London:20220604T190000
DTSTAMP:20260421T020348
CREATED:20220413T214801Z
LAST-MODIFIED:20220413T214801Z
UID:3663-1654347600-1654369200@www.knowle-cricketclub.co.uk
SUMMARY:Knowle CC 2nd XI v Lodway CC Lodway CC 1st XI
DESCRIPTION:First Division
URL:https://www.knowle-cricketclub.co.uk/event-details/knowle-cc-2nd-xi-v-lodway-cc-lodway-cc-1st-xi-2/
CATEGORIES:Senior Cricket
END:VEVENT
BEGIN:VEVENT
DTSTART;TZID=Europe/London:20220604T123000
DTEND;TZID=Europe/London:20220604T190000
DTSTAMP:20260421T020348
CREATED:20220413T214801Z
LAST-MODIFIED:20220413T214801Z
UID:3662-1654345800-1654369200@www.knowle-cricketclub.co.uk
SUMMARY:Bedminster CC 2nd XI v Knowle CC 1st XI
DESCRIPTION:WEPL Bristol & North Somerset
URL:https://www.knowle-cricketclub.co.uk/event-details/bedminster-cc-2nd-xi-v-knowle-cc-1st-xi-2/
CATEGORIES:Senior Cricket
END:VEVENT
BEGIN:VEVENT
DTSTART;TZID=Europe/London:20220601T181500
DTEND;TZID=Europe/London:20220601T203000
DTSTAMP:20260421T020348
CREATED:20220413T214801Z
LAST-MODIFIED:20220413T214801Z
UID:3661-1654107300-1654115400@www.knowle-cricketclub.co.uk
SUMMARY:Failand & Portbury CC Midweek XI v Knowle CC Knight Riders
DESCRIPTION:Division 3
URL:https://www.knowle-cricketclub.co.uk/event-details/failand-portbury-cc-midweek-xi-v-knowle-cc-knight-riders-2/
CATEGORIES:Senior Cricket
END:VEVENT
BEGIN:VEVENT
DTSTART;TZID=Europe/London:20220531T180000
DTEND;TZID=Europe/London:20220531T200000
DTSTAMP:20260421T020348
CREATED:20220413T214801Z
LAST-MODIFIED:20220413T214801Z
UID:3659-1654020000-1654027200@www.knowle-cricketclub.co.uk
SUMMARY:Knowle CC U13 A v Bristol CC U13 Reds
DESCRIPTION:U13s Performance
URL:https://www.knowle-cricketclub.co.uk/event-details/knowle-cc-u13-a-v-bristol-cc-u13-reds-2/
CATEGORIES:Junior Cricket
END:VEVENT
BEGIN:VEVENT
DTSTART;TZID=Europe/London:20220531T140000
DTEND;TZID=Europe/London:20220531T160000
DTSTAMP:20260421T020348
CREATED:20220413T214801Z
LAST-MODIFIED:20220413T214801Z
UID:3660-1654005600-1654012800@www.knowle-cricketclub.co.uk
SUMMARY:Weston-super-Mare CC Womens 1st XI v Knowle CC Women's soft ball
DESCRIPTION:Somerset Soft Ball Main KO Cup
URL:https://www.knowle-cricketclub.co.uk/event-details/weston-super-mare-cc-womens-1st-xi-v-knowle-cc-womens-soft-ball-2/
CATEGORIES:Senior Cricket
END:VEVENT
BEGIN:VEVENT
DTSTART;TZID=Europe/London:20220530T180000
DTEND;TZID=Europe/London:20220530T200000
DTSTAMP:20260421T020348
CREATED:20220413T214615Z
LAST-MODIFIED:20220413T214615Z
UID:3658-1653933600-1653940800@www.knowle-cricketclub.co.uk
SUMMARY:Knowle CC U11 A v Bristol CC U11 Blues
DESCRIPTION:U11s Participation Group 4
URL:https://www.knowle-cricketclub.co.uk/event-details/knowle-cc-u11-a-v-bristol-cc-u11-blues-2/
CATEGORIES:Junior Cricket
END:VEVENT
BEGIN:VEVENT
DTSTART;TZID=Europe/London:20220530T100000
DTEND;TZID=Europe/London:20220530T133000
DTSTAMP:20260421T020348
CREATED:20220413T214615Z
LAST-MODIFIED:20220413T214615Z
UID:3657-1653904800-1653917400@www.knowle-cricketclub.co.uk
SUMMARY:Somerset U12 Boys v Somerset Cricket Foundation U13
DESCRIPTION:
URL:https://www.knowle-cricketclub.co.uk/event-details/somerset-u12-boys-v-somerset-cricket-foundation-u13-2/
CATEGORIES:Junior Cricket
END:VEVENT
BEGIN:VEVENT
DTSTART;TZID=Europe/London:20220529T133000
DTEND;TZID=Europe/London:20220529T190000
DTSTAMP:20260421T020348
CREATED:20220413T214615Z
LAST-MODIFIED:20220413T214615Z
UID:3656-1653831000-1653850800@www.knowle-cricketclub.co.uk
SUMMARY:Knowle CC Sunday North Somerset XI v Bristol New Eleven CC Sunday 1st XI
DESCRIPTION:Sunday Conference Division 2
URL:https://www.knowle-cricketclub.co.uk/event-details/knowle-cc-sunday-north-somerset-xi-v-bristol-new-eleven-cc-sunday-1st-xi-2/
CATEGORIES:Senior Cricket
END:VEVENT
BEGIN:VEVENT
DTSTART;TZID=Europe/London:20220529T103000
DTEND;TZID=Europe/London:20220529T123000
DTSTAMP:20260421T020348
CREATED:20220413T214615Z
LAST-MODIFIED:20220413T214615Z
UID:3655-1653820200-1653827400@www.knowle-cricketclub.co.uk
SUMMARY:Knowle CC U11 Super 8s v Twyford House CC U11 S8
DESCRIPTION:Super 8’s Group 5
URL:https://www.knowle-cricketclub.co.uk/event-details/knowle-cc-u11-super-8s-v-twyford-house-cc-u11-s8-2/
CATEGORIES:Junior Cricket
END:VEVENT
BEGIN:VEVENT
DTSTART;TZID=Europe/London:20220528T130000
DTEND;TZID=Europe/London:20220528T190000
DTSTAMP:20260421T020348
CREATED:20220413T214615Z
LAST-MODIFIED:20220413T214615Z
UID:3654-1653742800-1653764400@www.knowle-cricketclub.co.uk
SUMMARY:Knowle CC 4th XI v Carsons & Mangotsfield CC 4th XI
DESCRIPTION:Division 30
URL:https://www.knowle-cricketclub.co.uk/event-details/knowle-cc-4th-xi-v-carsons-mangotsfield-cc-4th-xi-2/
CATEGORIES:Senior Cricket
END:VEVENT
BEGIN:VEVENT
DTSTART;TZID=Europe/London:20220528T130000
DTEND;TZID=Europe/London:20220528T190000
DTSTAMP:20260421T020348
CREATED:20220413T214414Z
LAST-MODIFIED:20220413T214414Z
UID:3652-1653742800-1653764400@www.knowle-cricketclub.co.uk
SUMMARY:Knowle CC 2nd XI v Whitchurch CC\, Somerset 1st XI
DESCRIPTION:First Division
URL:https://www.knowle-cricketclub.co.uk/event-details/knowle-cc-2nd-xi-v-whitchurch-cc-somerset-1st-xi-4/
CATEGORIES:Senior Cricket
END:VEVENT
BEGIN:VEVENT
DTSTART;TZID=Europe/London:20220528T130000
DTEND;TZID=Europe/London:20220528T190000
DTSTAMP:20260421T020348
CREATED:20220413T214414Z
LAST-MODIFIED:20220413T214414Z
UID:3653-1653742800-1653764400@www.knowle-cricketclub.co.uk
SUMMARY:Knowle CC 3rd XI v Carsons & Mangotsfield CC 1st XI
DESCRIPTION:Sixth Division
URL:https://www.knowle-cricketclub.co.uk/event-details/knowle-cc-3rd-xi-v-carsons-mangotsfield-cc-1st-xi-2/
CATEGORIES:Senior Cricket
END:VEVENT
BEGIN:VEVENT
DTSTART;TZID=Europe/London:20220528T123000
DTEND;TZID=Europe/London:20220528T190000
DTSTAMP:20260421T020348
CREATED:20220413T214414Z
LAST-MODIFIED:20220413T214414Z
UID:3651-1653741000-1653764400@www.knowle-cricketclub.co.uk
SUMMARY:Twyford House CC 1st XI v Knowle CC 1st XI
DESCRIPTION:WEPL Bristol & North Somerset
URL:https://www.knowle-cricketclub.co.uk/event-details/twyford-house-cc-1st-xi-v-knowle-cc-1st-xi-6/
CATEGORIES:Senior Cricket
END:VEVENT
BEGIN:VEVENT
DTSTART;TZID=Europe/London:20220525T180000
DTEND;TZID=Europe/London:20220525T200000
DTSTAMP:20260421T020348
CREATED:20220413T214414Z
LAST-MODIFIED:20220413T214414Z
UID:3650-1653501600-1653508800@www.knowle-cricketclub.co.uk
SUMMARY:Knowle CC U13 B v Stoke Bishop CC\, Bristol U13 Strikers
DESCRIPTION:U13s Participation Group 2
URL:https://www.knowle-cricketclub.co.uk/event-details/knowle-cc-u13-b-v-stoke-bishop-cc-bristol-u13-strikers-2/
CATEGORIES:Junior Cricket
END:VEVENT
BEGIN:VEVENT
DTSTART;TZID=Europe/London:20220524T180000
DTEND;TZID=Europe/London:20220524T200000
DTSTAMP:20260421T020348
CREATED:20220413T214414Z
LAST-MODIFIED:20220413T214414Z
UID:3649-1653415200-1653422400@www.knowle-cricketclub.co.uk
SUMMARY:Whitchurch CC\, Somerset U15 v Knowle CC U15 B
DESCRIPTION:U15s Participation Group 4
URL:https://www.knowle-cricketclub.co.uk/event-details/whitchurch-cc-somerset-u15-v-knowle-cc-u15-b-2/
CATEGORIES:Junior Cricket
END:VEVENT
BEGIN:VEVENT
DTSTART;TZID=Europe/London:20220524T180000
DTEND;TZID=Europe/London:20220524T200000
DTSTAMP:20260421T020348
CREATED:20220413T214215Z
LAST-MODIFIED:20220413T214215Z
UID:3648-1653415200-1653422400@www.knowle-cricketclub.co.uk
SUMMARY:Bradley Stoke CC U13 Maroon v Knowle CC U13 A
DESCRIPTION:U13s Performance
URL:https://www.knowle-cricketclub.co.uk/event-details/bradley-stoke-cc-u13-maroon-v-knowle-cc-u13-a-2/
CATEGORIES:Junior Cricket
END:VEVENT
BEGIN:VEVENT
DTSTART;TZID=Europe/London:20220523T180000
DTEND;TZID=Europe/London:20220523T200000
DTSTAMP:20260421T020348
CREATED:20220413T214214Z
LAST-MODIFIED:20220413T214214Z
UID:3647-1653328800-1653336000@www.knowle-cricketclub.co.uk
SUMMARY:Bristol CC U15 Reds v Knowle CC U15 A
DESCRIPTION:U15s Performance
URL:https://www.knowle-cricketclub.co.uk/event-details/bristol-cc-u15-reds-v-knowle-cc-u15-a-2/
CATEGORIES:Junior Cricket
END:VEVENT
BEGIN:VEVENT
DTSTART;TZID=Europe/London:20220522T140000
DTEND;TZID=Europe/London:20220522T170000
DTSTAMP:20260421T020348
CREATED:20220413T214214Z
LAST-MODIFIED:20220413T214214Z
UID:3646-1653228000-1653238800@www.knowle-cricketclub.co.uk
SUMMARY:Hatherley & Reddings CC\, Glos HRCC U15 As v Knowle CC U15
DESCRIPTION:U15 Performance 1
URL:https://www.knowle-cricketclub.co.uk/event-details/hatherley-reddings-cc-glos-hrcc-u15-as-v-knowle-cc-u15-2/
CATEGORIES:Junior Cricket
END:VEVENT
BEGIN:VEVENT
DTSTART;TZID=Europe/London:20220522T133000
DTEND;TZID=Europe/London:20220522T190000
DTSTAMP:20260421T020348
CREATED:20220413T214214Z
LAST-MODIFIED:20220413T214214Z
UID:3645-1653226200-1653246000@www.knowle-cricketclub.co.uk
SUMMARY:Bristol Aces CC Sunday 1st XI v Knowle CC Sunday North Somerset XI
DESCRIPTION:Sunday Conference Division 2
URL:https://www.knowle-cricketclub.co.uk/event-details/bristol-aces-cc-sunday-1st-xi-v-knowle-cc-sunday-north-somerset-xi-4/
CATEGORIES:Senior Cricket
END:VEVENT
BEGIN:VEVENT
DTSTART;TZID=Europe/London:20220522T100000
DTEND;TZID=Europe/London:20220522T133000
DTSTAMP:20260421T020348
CREATED:20220413T214214Z
LAST-MODIFIED:20220413T214214Z
UID:3644-1653213600-1653226200@www.knowle-cricketclub.co.uk
SUMMARY:Somerset U15 Boys v Cricket Wales U15
DESCRIPTION:
URL:https://www.knowle-cricketclub.co.uk/event-details/somerset-u15-boys-v-cricket-wales-u15-2/
CATEGORIES:Junior Cricket
END:VEVENT
END:VCALENDAR