BEGIN:VCALENDAR
VERSION:2.0
PRODID:-//Knowle Cricket Club - ECPv6.15.20//NONSGML v1.0//EN
CALSCALE:GREGORIAN
METHOD:PUBLISH
X-WR-CALNAME:Knowle Cricket Club
X-ORIGINAL-URL:https://www.knowle-cricketclub.co.uk
X-WR-CALDESC:Events for Knowle Cricket Club
REFRESH-INTERVAL;VALUE=DURATION:PT1H
X-Robots-Tag:noindex
X-PUBLISHED-TTL:PT1H
BEGIN:VTIMEZONE
TZID:Europe/London
BEGIN:DAYLIGHT
TZOFFSETFROM:+0000
TZOFFSETTO:+0100
TZNAME:BST
DTSTART:20200329T010000
END:DAYLIGHT
BEGIN:STANDARD
TZOFFSETFROM:+0100
TZOFFSETTO:+0000
TZNAME:GMT
DTSTART:20201025T010000
END:STANDARD
BEGIN:DAYLIGHT
TZOFFSETFROM:+0000
TZOFFSETTO:+0100
TZNAME:BST
DTSTART:20210328T010000
END:DAYLIGHT
BEGIN:STANDARD
TZOFFSETFROM:+0100
TZOFFSETTO:+0000
TZNAME:GMT
DTSTART:20211031T010000
END:STANDARD
BEGIN:DAYLIGHT
TZOFFSETFROM:+0000
TZOFFSETTO:+0100
TZNAME:BST
DTSTART:20220327T010000
END:DAYLIGHT
BEGIN:STANDARD
TZOFFSETFROM:+0100
TZOFFSETTO:+0000
TZNAME:GMT
DTSTART:20221030T010000
END:STANDARD
END:VTIMEZONE
BEGIN:VEVENT
DTSTART;TZID=Europe/London:20210912T103000
DTEND;TZID=Europe/London:20210912T120000
DTSTAMP:20260421T020451
CREATED:20210908T185242Z
LAST-MODIFIED:20210908T185831Z
UID:2892-1631442600-1631448000@www.knowle-cricketclub.co.uk
SUMMARY:Clevedon Vets FC v KCC FC
DESCRIPTION:
URL:https://www.knowle-cricketclub.co.uk/event-details/clevedon-vets-v-kcc-vets/
LOCATION:Clevedon RFC\, Southey Road\, Clevedon\, BS21 6PF\, United Kingdom
CATEGORIES:KCC Vets Football
END:VEVENT
BEGIN:VEVENT
DTSTART;TZID=Europe/London:20210910T190000
DTEND;TZID=Europe/London:20210910T210000
DTSTAMP:20260421T020451
CREATED:20210908T185028Z
LAST-MODIFIED:20210908T185028Z
UID:2890-1631300400-1631307600@www.knowle-cricketclub.co.uk
SUMMARY:Junior Presentation Night
DESCRIPTION:Join us from 7pm at the club as we celebrate the achievements of our junior cricketers.
URL:https://www.knowle-cricketclub.co.uk/event-details/junior-presentation-night/
LOCATION:Knowle CC (Broadwalk)\, Knowle Cricket Club\, Bristol\, BS4 2RD\, United Kingdom
CATEGORIES:Junior Cricket
END:VEVENT
BEGIN:VEVENT
DTSTART;TZID=Europe/London:20210829T133000
DTEND;TZID=Europe/London:20210829T163000
DTSTAMP:20260421T020451
CREATED:20210428T202859Z
LAST-MODIFIED:20210428T202859Z
UID:2809-1630243800-1630254600@www.knowle-cricketclub.co.uk
SUMMARY:The Star CC\, Bath Sunday 1st XI v Sunday North Somerset XI
DESCRIPTION:League
URL:https://www.knowle-cricketclub.co.uk/event-details/the-star-cc-bath-sunday-1st-xi-v-sunday-north-somerset-xi-2/
END:VEVENT
BEGIN:VEVENT
DTSTART;TZID=Europe/London:20210828T130000
DTEND;TZID=Europe/London:20210828T190000
DTSTAMP:20260421T020451
CREATED:20210428T202748Z
LAST-MODIFIED:20210428T202748Z
UID:2807-1630155600-1630177200@www.knowle-cricketclub.co.uk
SUMMARY:Brislington CC 2nd XI v Knowle CC 2nd XI
DESCRIPTION:League
URL:https://www.knowle-cricketclub.co.uk/event-details/brislington-cc-2nd-xi-v-knowle-cc-2nd-xi-3/
END:VEVENT
BEGIN:VEVENT
DTSTART;TZID=Europe/London:20210828T130000
DTEND;TZID=Europe/London:20210828T190000
DTSTAMP:20260421T020451
CREATED:20210428T202748Z
LAST-MODIFIED:20210428T202748Z
UID:2808-1630155600-1630177200@www.knowle-cricketclub.co.uk
SUMMARY:Knowle CC (Woodpeckers) 3rd XI v Bristol Pakistanis CC 2nd XI
DESCRIPTION:League
URL:https://www.knowle-cricketclub.co.uk/event-details/knowle-cc-woodpeckers-3rd-xi-v-bristol-pakistanis-cc-2nd-xi-2/
END:VEVENT
BEGIN:VEVENT
DTSTART;TZID=Europe/London:20210828T123000
DTEND;TZID=Europe/London:20210828T190000
DTSTAMP:20260421T020451
CREATED:20210428T202748Z
LAST-MODIFIED:20210428T202748Z
UID:2806-1630153800-1630177200@www.knowle-cricketclub.co.uk
SUMMARY:Knowle CC 1st XI v Stapleton CC 1st XI
DESCRIPTION:League
URL:https://www.knowle-cricketclub.co.uk/event-details/knowle-cc-1st-xi-v-stapleton-cc-1st-xi-3/
END:VEVENT
BEGIN:VEVENT
DTSTART;TZID=Europe/London:20210822T133000
DTEND;TZID=Europe/London:20210822T163000
DTSTAMP:20260421T020451
CREATED:20210428T202748Z
LAST-MODIFIED:20210428T202748Z
UID:2805-1629639000-1629649800@www.knowle-cricketclub.co.uk
SUMMARY:Sunday North Somerset XI v Whitchurch CC Somerset Wanderers
DESCRIPTION:League
URL:https://www.knowle-cricketclub.co.uk/event-details/sunday-north-somerset-xi-v-whitchurch-cc-somerset-wanderers-2/
END:VEVENT
BEGIN:VEVENT
DTSTART;TZID=Europe/London:20210821T130000
DTEND;TZID=Europe/London:20210821T190000
DTSTAMP:20260421T020451
CREATED:20210428T202748Z
LAST-MODIFIED:20210428T202748Z
UID:2804-1629550800-1629572400@www.knowle-cricketclub.co.uk
SUMMARY:BAC CC 1st XI v Knowle CC (Woodpeckers) 3rd XI
DESCRIPTION:League
URL:https://www.knowle-cricketclub.co.uk/event-details/bac-cc-1st-xi-v-knowle-cc-woodpeckers-3rd-xi-2/
END:VEVENT
BEGIN:VEVENT
DTSTART;TZID=Europe/London:20210821T130000
DTEND;TZID=Europe/London:20210821T190000
DTSTAMP:20260421T020451
CREATED:20210428T202733Z
LAST-MODIFIED:20210428T202733Z
UID:2803-1629550800-1629572400@www.knowle-cricketclub.co.uk
SUMMARY:Knowle CC 2nd XI v Chew Magna CC 1st XI
DESCRIPTION:League
URL:https://www.knowle-cricketclub.co.uk/event-details/knowle-cc-2nd-xi-v-chew-magna-cc-1st-xi-2/
END:VEVENT
BEGIN:VEVENT
DTSTART;TZID=Europe/London:20210821T123000
DTEND;TZID=Europe/London:20210821T190000
DTSTAMP:20260421T020451
CREATED:20210428T202733Z
LAST-MODIFIED:20210428T202733Z
UID:2802-1629549000-1629572400@www.knowle-cricketclub.co.uk
SUMMARY:Brislington CC 1st XI v Knowle CC 1st XI
DESCRIPTION:League
URL:https://www.knowle-cricketclub.co.uk/event-details/brislington-cc-1st-xi-v-knowle-cc-1st-xi-3/
END:VEVENT
BEGIN:VEVENT
DTSTART;TZID=Europe/London:20210815T133000
DTEND;TZID=Europe/London:20210815T163000
DTSTAMP:20260421T020451
CREATED:20210428T202733Z
LAST-MODIFIED:20210428T202733Z
UID:2801-1629034200-1629045000@www.knowle-cricketclub.co.uk
SUMMARY:Knowle CC Sunday North Somerset XI v Easton Cuttlefish CC Sunday XI
DESCRIPTION:League
URL:https://www.knowle-cricketclub.co.uk/event-details/knowle-cc-sunday-north-somerset-xi-v-easton-cuttlefish-cc-sunday-xi-2/
END:VEVENT
BEGIN:VEVENT
DTSTART;TZID=Europe/London:20210814T130000
DTEND;TZID=Europe/London:20210814T190000
DTSTAMP:20260421T020451
CREATED:20210428T202733Z
LAST-MODIFIED:20210428T202733Z
UID:2799-1628946000-1628967600@www.knowle-cricketclub.co.uk
SUMMARY:Knowle CC (Woodpeckers) 3rd XI v Bristol United Banks CC 1st XI
DESCRIPTION:League
URL:https://www.knowle-cricketclub.co.uk/event-details/knowle-cc-woodpeckers-3rd-xi-v-bristol-united-banks-cc-1st-xi-2/
END:VEVENT
BEGIN:VEVENT
DTSTART;TZID=Europe/London:20210814T130000
DTEND;TZID=Europe/London:20210814T190000
DTSTAMP:20260421T020451
CREATED:20210428T202733Z
LAST-MODIFIED:20210428T202733Z
UID:2800-1628946000-1628967600@www.knowle-cricketclub.co.uk
SUMMARY:Thornbury CC Glos 5th XI v Knowle CC 4th XI
DESCRIPTION:League
URL:https://www.knowle-cricketclub.co.uk/event-details/thornbury-cc-glos-5th-xi-v-knowle-cc-4th-xi-4/
END:VEVENT
BEGIN:VEVENT
DTSTART;TZID=Europe/London:20210814T130000
DTEND;TZID=Europe/London:20210814T190000
DTSTAMP:20260421T020451
CREATED:20210428T202718Z
LAST-MODIFIED:20210428T202718Z
UID:2798-1628946000-1628967600@www.knowle-cricketclub.co.uk
SUMMARY:Downend CC 2nd XI v Knowle CC 2nd XI
DESCRIPTION:League
URL:https://www.knowle-cricketclub.co.uk/event-details/downend-cc-2nd-xi-v-knowle-cc-2nd-xi-2/
END:VEVENT
BEGIN:VEVENT
DTSTART;TZID=Europe/London:20210814T123000
DTEND;TZID=Europe/London:20210814T190000
DTSTAMP:20260421T020451
CREATED:20210428T202718Z
LAST-MODIFIED:20210428T202718Z
UID:2797-1628944200-1628967600@www.knowle-cricketclub.co.uk
SUMMARY:Knowle CC 1st XI v Keynsham CC 1st XI
DESCRIPTION:League
URL:https://www.knowle-cricketclub.co.uk/event-details/knowle-cc-1st-xi-v-keynsham-cc-1st-xi-3/
END:VEVENT
BEGIN:VEVENT
DTSTART;TZID=Europe/London:20210813T180000
DTEND;TZID=Europe/London:20210813T200000
DTSTAMP:20260421T020451
CREATED:20210428T202718Z
LAST-MODIFIED:20210428T202718Z
UID:2796-1628877600-1628884800@www.knowle-cricketclub.co.uk
SUMMARY:Stoke Bishop CC U17 Blades v Knowle CC U17
DESCRIPTION:League
URL:https://www.knowle-cricketclub.co.uk/event-details/stoke-bishop-cc-u17-blades-v-knowle-cc-u17-2/
END:VEVENT
BEGIN:VEVENT
DTSTART;TZID=Europe/London:20210808T133000
DTEND;TZID=Europe/London:20210808T163000
DTSTAMP:20260421T020451
CREATED:20210424T081407Z
LAST-MODIFIED:20210428T202718Z
UID:2460-1628429400-1628440200@www.knowle-cricketclub.co.uk
SUMMARY:Knowle CC Sunday North Somerset XI v West United CC Sunday 1st XI
DESCRIPTION:League
URL:https://www.knowle-cricketclub.co.uk/event-details/knowle-cc-sunday-north-somerset-xi-v-west-united-cc-sunday-1st-xi/
END:VEVENT
BEGIN:VEVENT
DTSTART;TZID=Europe/London:20210807T130000
DTEND;TZID=Europe/London:20210807T190000
DTSTAMP:20260421T020451
CREATED:20210428T202718Z
LAST-MODIFIED:20210428T202718Z
UID:2795-1628341200-1628362800@www.knowle-cricketclub.co.uk
SUMMARY:Knowle CC 4th XI v Lansdown CC 3rd XI
DESCRIPTION:League
URL:https://www.knowle-cricketclub.co.uk/event-details/knowle-cc-4th-xi-v-lansdown-cc-3rd-xi-2/
END:VEVENT
BEGIN:VEVENT
DTSTART;TZID=Europe/London:20210807T130000
DTEND;TZID=Europe/London:20210807T190000
DTSTAMP:20260421T020451
CREATED:20210428T202703Z
LAST-MODIFIED:20210428T202703Z
UID:2793-1628341200-1628362800@www.knowle-cricketclub.co.uk
SUMMARY:Knowle CC 2nd XI v Whitchurch CC\, Somerset 1st XI
DESCRIPTION:League
URL:https://www.knowle-cricketclub.co.uk/event-details/knowle-cc-2nd-xi-v-whitchurch-cc-somerset-1st-xi-2/
END:VEVENT
BEGIN:VEVENT
DTSTART;TZID=Europe/London:20210807T130000
DTEND;TZID=Europe/London:20210807T190000
DTSTAMP:20260421T020451
CREATED:20210428T202703Z
LAST-MODIFIED:20210428T202703Z
UID:2794-1628341200-1628362800@www.knowle-cricketclub.co.uk
SUMMARY:Pucklechurch CC 1st XI v Knowle CC (Woodpeckers) 3rd XI
DESCRIPTION:League
URL:https://www.knowle-cricketclub.co.uk/event-details/pucklechurch-cc-1st-xi-v-knowle-cc-woodpeckers-3rd-xi-2/
END:VEVENT
BEGIN:VEVENT
DTSTART;TZID=Europe/London:20210807T123000
DTEND;TZID=Europe/London:20210807T190000
DTSTAMP:20260421T020451
CREATED:20210428T202703Z
LAST-MODIFIED:20210428T202703Z
UID:2792-1628339400-1628362800@www.knowle-cricketclub.co.uk
SUMMARY:Old Bristolians Westbury CC 1st XI v Knowle CC 1st XI
DESCRIPTION:League
URL:https://www.knowle-cricketclub.co.uk/event-details/old-bristolians-westbury-cc-1st-xi-v-knowle-cc-1st-xi-3/
END:VEVENT
BEGIN:VEVENT
DTSTART;TZID=Europe/London:20210802T180000
DTEND;TZID=Europe/London:20210802T200000
DTSTAMP:20260421T020451
CREATED:20210428T202703Z
LAST-MODIFIED:20210428T202703Z
UID:2791-1627927200-1627934400@www.knowle-cricketclub.co.uk
SUMMARY:Golden Hill CC U19 B v Knowle CC U19
DESCRIPTION:League
URL:https://www.knowle-cricketclub.co.uk/event-details/golden-hill-cc-u19-b-v-knowle-cc-u19-2/
END:VEVENT
BEGIN:VEVENT
DTSTART;TZID=Europe/London:20210801T180000
DTEND;TZID=Europe/London:20210801T200000
DTSTAMP:20260421T020451
CREATED:20210428T202703Z
LAST-MODIFIED:20210428T202703Z
UID:2790-1627840800-1627848000@www.knowle-cricketclub.co.uk
SUMMARY:Knowle CC U17 v Portishead CC U17
DESCRIPTION:League
URL:https://www.knowle-cricketclub.co.uk/event-details/knowle-cc-u17-v-portishead-cc-u17-2/
END:VEVENT
BEGIN:VEVENT
DTSTART;TZID=Europe/London:20210801T140000
DTEND;TZID=Europe/London:20210801T160000
DTSTAMP:20260421T020451
CREATED:20210428T202648Z
LAST-MODIFIED:20210428T202648Z
UID:2789-1627826400-1627833600@www.knowle-cricketclub.co.uk
SUMMARY:Knowle CC Womens 1st XI v Claverham (Yatton) CC Womens 1st XI
DESCRIPTION:League
URL:https://www.knowle-cricketclub.co.uk/event-details/knowle-cc-womens-1st-xi-v-claverham-yatton-cc-womens-1st-xi-2/
END:VEVENT
BEGIN:VEVENT
DTSTART;TZID=Europe/London:20210801T133000
DTEND;TZID=Europe/London:20210801T163000
DTSTAMP:20260421T020451
CREATED:20210428T202648Z
LAST-MODIFIED:20210428T202648Z
UID:2788-1627824600-1627835400@www.knowle-cricketclub.co.uk
SUMMARY:Bristol Aces CC Sunday 1st XI v Knowle CC Sunday North Somerset XI
DESCRIPTION:League
URL:https://www.knowle-cricketclub.co.uk/event-details/bristol-aces-cc-sunday-1st-xi-v-knowle-cc-sunday-north-somerset-xi-2/
END:VEVENT
BEGIN:VEVENT
DTSTART;TZID=Europe/London:20210801T130000
DTEND;TZID=Europe/London:20210801T150000
DTSTAMP:20260421T020451
CREATED:20210428T202648Z
LAST-MODIFIED:20210428T202648Z
UID:2787-1627822800-1627830000@www.knowle-cricketclub.co.uk
SUMMARY:Knowle CC U13 A v Golden Hill CC U13 B
DESCRIPTION:League
URL:https://www.knowle-cricketclub.co.uk/event-details/knowle-cc-u13-a-v-golden-hill-cc-u13-b-2/
END:VEVENT
BEGIN:VEVENT
DTSTART;TZID=Europe/London:20210731T130000
DTEND;TZID=Europe/London:20210731T190000
DTSTAMP:20260421T020451
CREATED:20210428T202648Z
LAST-MODIFIED:20210428T202648Z
UID:2785-1627736400-1627758000@www.knowle-cricketclub.co.uk
SUMMARY:Knowle CC (Woodpeckers) 3rd XI v Whitchurch CC\, Somerset 2nd XI
DESCRIPTION:League
URL:https://www.knowle-cricketclub.co.uk/event-details/knowle-cc-woodpeckers-3rd-xi-v-whitchurch-cc-somerset-2nd-xi-2/
END:VEVENT
BEGIN:VEVENT
DTSTART;TZID=Europe/London:20210731T130000
DTEND;TZID=Europe/London:20210731T190000
DTSTAMP:20260421T020451
CREATED:20210428T202648Z
LAST-MODIFIED:20210428T202648Z
UID:2786-1627736400-1627758000@www.knowle-cricketclub.co.uk
SUMMARY:Carsons & Mangotsfield CC 4th XI v Knowle CC 4th XI
DESCRIPTION:League
URL:https://www.knowle-cricketclub.co.uk/event-details/carsons-mangotsfield-cc-4th-xi-v-knowle-cc-4th-xi-4/
END:VEVENT
BEGIN:VEVENT
DTSTART;TZID=Europe/London:20210731T130000
DTEND;TZID=Europe/London:20210731T190000
DTSTAMP:20260421T020451
CREATED:20210428T202633Z
LAST-MODIFIED:20210428T202633Z
UID:2784-1627736400-1627758000@www.knowle-cricketclub.co.uk
SUMMARY:Lodway CC 1st XI v Knowle CC 2nd XI
DESCRIPTION:League
URL:https://www.knowle-cricketclub.co.uk/event-details/lodway-cc-1st-xi-v-knowle-cc-2nd-xi-2/
END:VEVENT
BEGIN:VEVENT
DTSTART;TZID=Europe/London:20210731T123000
DTEND;TZID=Europe/London:20210731T190000
DTSTAMP:20260421T020451
CREATED:20210428T202633Z
LAST-MODIFIED:20210428T202633Z
UID:2783-1627734600-1627758000@www.knowle-cricketclub.co.uk
SUMMARY:Knowle CC 1st XI v Congresbury CC 1st XI
DESCRIPTION:League
URL:https://www.knowle-cricketclub.co.uk/event-details/knowle-cc-1st-xi-v-congresbury-cc-1st-xi-4/
END:VEVENT
END:VCALENDAR