BEGIN:VCALENDAR
VERSION:2.0
PRODID:-//Knowle Cricket Club - ECPv6.15.20//NONSGML v1.0//EN
CALSCALE:GREGORIAN
METHOD:PUBLISH
X-WR-CALNAME:Knowle Cricket Club
X-ORIGINAL-URL:https://www.knowle-cricketclub.co.uk
X-WR-CALDESC:Events for Knowle Cricket Club
REFRESH-INTERVAL;VALUE=DURATION:PT1H
X-Robots-Tag:noindex
X-PUBLISHED-TTL:PT1H
BEGIN:VTIMEZONE
TZID:Europe/London
BEGIN:DAYLIGHT
TZOFFSETFROM:+0000
TZOFFSETTO:+0100
TZNAME:BST
DTSTART:20200329T010000
END:DAYLIGHT
BEGIN:STANDARD
TZOFFSETFROM:+0100
TZOFFSETTO:+0000
TZNAME:GMT
DTSTART:20201025T010000
END:STANDARD
BEGIN:DAYLIGHT
TZOFFSETFROM:+0000
TZOFFSETTO:+0100
TZNAME:BST
DTSTART:20210328T010000
END:DAYLIGHT
BEGIN:STANDARD
TZOFFSETFROM:+0100
TZOFFSETTO:+0000
TZNAME:GMT
DTSTART:20211031T010000
END:STANDARD
BEGIN:DAYLIGHT
TZOFFSETFROM:+0000
TZOFFSETTO:+0100
TZNAME:BST
DTSTART:20220327T010000
END:DAYLIGHT
BEGIN:STANDARD
TZOFFSETFROM:+0100
TZOFFSETTO:+0000
TZNAME:GMT
DTSTART:20221030T010000
END:STANDARD
END:VTIMEZONE
BEGIN:VEVENT
DTSTART;TZID=Europe/London:20210724T130000
DTEND;TZID=Europe/London:20210724T190000
DTSTAMP:20260421T114835
CREATED:20210428T202618Z
LAST-MODIFIED:20210428T202618Z
UID:2776-1627131600-1627153200@www.knowle-cricketclub.co.uk
SUMMARY:Almondsbury CC (2019) 2nd XI v Knowle CC (Woodpeckers) 3rd XI
DESCRIPTION:League
URL:https://www.knowle-cricketclub.co.uk/event-details/almondsbury-cc-2019-2nd-xi-v-knowle-cc-woodpeckers-3rd-xi-2/
END:VEVENT
BEGIN:VEVENT
DTSTART;TZID=Europe/London:20210724T130000
DTEND;TZID=Europe/London:20210724T190000
DTSTAMP:20260421T114835
CREATED:20210428T202618Z
LAST-MODIFIED:20210428T202618Z
UID:2777-1627131600-1627153200@www.knowle-cricketclub.co.uk
SUMMARY:Knowle CC 4th XI v Hanham CC 4th XI
DESCRIPTION:League
URL:https://www.knowle-cricketclub.co.uk/event-details/knowle-cc-4th-xi-v-hanham-cc-4th-xi-2/
END:VEVENT
BEGIN:VEVENT
DTSTART;TZID=Europe/London:20210724T123000
DTEND;TZID=Europe/London:20210724T190000
DTSTAMP:20260421T114835
CREATED:20210428T202603Z
LAST-MODIFIED:20210428T202603Z
UID:2774-1627129800-1627153200@www.knowle-cricketclub.co.uk
SUMMARY:Knowle CC 1st XI v Golden Hill CC 1st XI
DESCRIPTION:League
URL:https://www.knowle-cricketclub.co.uk/event-details/knowle-cc-1st-xi-v-golden-hill-cc-1st-xi-3/
END:VEVENT
BEGIN:VEVENT
DTSTART;TZID=Europe/London:20210722T180000
DTEND;TZID=Europe/London:20210722T200000
DTSTAMP:20260421T114835
CREATED:20210428T202603Z
LAST-MODIFIED:20210428T202603Z
UID:2772-1626976800-1626984000@www.knowle-cricketclub.co.uk
SUMMARY:Whitchurch CC U13 v Knowle CC U13 Blue
DESCRIPTION:League
URL:https://www.knowle-cricketclub.co.uk/event-details/whitchurch-cc-u13-v-knowle-cc-u13-blue-2/
END:VEVENT
BEGIN:VEVENT
DTSTART;TZID=Europe/London:20210722T180000
DTEND;TZID=Europe/London:20210722T200000
DTSTAMP:20260421T114835
CREATED:20210428T202603Z
LAST-MODIFIED:20210428T202603Z
UID:2773-1626976800-1626984000@www.knowle-cricketclub.co.uk
SUMMARY:Frenchay CC U11A v Knowle CC U11 Blue
DESCRIPTION:League
URL:https://www.knowle-cricketclub.co.uk/event-details/frenchay-cc-u11a-v-knowle-cc-u11-blue-2/
END:VEVENT
BEGIN:VEVENT
DTSTART;TZID=Europe/London:20210719T180000
DTEND;TZID=Europe/London:20210719T200000
DTSTAMP:20260421T114835
CREATED:20210428T202603Z
LAST-MODIFIED:20210428T202603Z
UID:2770-1626717600-1626724800@www.knowle-cricketclub.co.uk
SUMMARY:Whitchurch CC U15 v Knowle CC U15
DESCRIPTION:League
URL:https://www.knowle-cricketclub.co.uk/event-details/whitchurch-cc-u15-v-knowle-cc-u15-4/
END:VEVENT
BEGIN:VEVENT
DTSTART;TZID=Europe/London:20210719T180000
DTEND;TZID=Europe/London:20210719T200000
DTSTAMP:20260421T114835
CREATED:20210428T202603Z
LAST-MODIFIED:20210428T202603Z
UID:2771-1626717600-1626724800@www.knowle-cricketclub.co.uk
SUMMARY:Knowle CC U19 v Carsons & Mangotsfield CC U19
DESCRIPTION:League
URL:https://www.knowle-cricketclub.co.uk/event-details/knowle-cc-u19-v-carsons-mangotsfield-cc-u19-2/
END:VEVENT
BEGIN:VEVENT
DTSTART;TZID=Europe/London:20210718T133000
DTEND;TZID=Europe/London:20210718T163000
DTSTAMP:20260421T114835
CREATED:20210428T202548Z
LAST-MODIFIED:20210428T202548Z
UID:2769-1626615000-1626625800@www.knowle-cricketclub.co.uk
SUMMARY:Leema CC 1st XI v Knowle CC Sunday North Somerset XI
DESCRIPTION:League
URL:https://www.knowle-cricketclub.co.uk/event-details/leema-cc-1st-xi-v-knowle-cc-sunday-north-somerset-xi-3/
END:VEVENT
BEGIN:VEVENT
DTSTART;TZID=Europe/London:20210718T130000
DTEND;TZID=Europe/London:20210718T150000
DTSTAMP:20260421T114835
CREATED:20210428T202548Z
LAST-MODIFIED:20210428T202548Z
UID:2768-1626613200-1626620400@www.knowle-cricketclub.co.uk
SUMMARY:Knowle CC U13 A v Chipping Sodbury CC U13
DESCRIPTION:League
URL:https://www.knowle-cricketclub.co.uk/event-details/knowle-cc-u13-a-v-chipping-sodbury-cc-u13-2/
END:VEVENT
BEGIN:VEVENT
DTSTART;TZID=Europe/London:20210717T130000
DTEND;TZID=Europe/London:20210717T190000
DTSTAMP:20260421T114835
CREATED:20210428T202548Z
LAST-MODIFIED:20210428T202548Z
UID:2765-1626526800-1626548400@www.knowle-cricketclub.co.uk
SUMMARY:Knowle CC 2nd XI v Winterbourne CC 2nd XI
DESCRIPTION:League
URL:https://www.knowle-cricketclub.co.uk/event-details/knowle-cc-2nd-xi-v-winterbourne-cc-2nd-xi-2/
END:VEVENT
BEGIN:VEVENT
DTSTART;TZID=Europe/London:20210717T130000
DTEND;TZID=Europe/London:20210717T190000
DTSTAMP:20260421T114835
CREATED:20210428T202548Z
LAST-MODIFIED:20210428T202548Z
UID:2766-1626526800-1626548400@www.knowle-cricketclub.co.uk
SUMMARY:Knowle CC (Woodpeckers) 3rd XI v Bristol Sri Lankans CC 1st XI
DESCRIPTION:League
URL:https://www.knowle-cricketclub.co.uk/event-details/knowle-cc-woodpeckers-3rd-xi-v-bristol-sri-lankans-cc-1st-xi-2/
END:VEVENT
BEGIN:VEVENT
DTSTART;TZID=Europe/London:20210717T130000
DTEND;TZID=Europe/London:20210717T190000
DTSTAMP:20260421T114835
CREATED:20210428T202548Z
LAST-MODIFIED:20210428T202548Z
UID:2767-1626526800-1626548400@www.knowle-cricketclub.co.uk
SUMMARY:Lansdown CC 3rd XI v Knowle CC 4th XI
DESCRIPTION:League
URL:https://www.knowle-cricketclub.co.uk/event-details/lansdown-cc-3rd-xi-v-knowle-cc-4th-xi-2/
END:VEVENT
BEGIN:VEVENT
DTSTART;TZID=Europe/London:20210717T123000
DTEND;TZID=Europe/London:20210717T190000
DTSTAMP:20260421T114835
CREATED:20210428T202533Z
LAST-MODIFIED:20210428T202533Z
UID:2764-1626525000-1626548400@www.knowle-cricketclub.co.uk
SUMMARY:Bristol West Indian Phoenix CC 1st XI v Knowle CC 1st XI
DESCRIPTION:League
URL:https://www.knowle-cricketclub.co.uk/event-details/bristol-west-indian-phoenix-cc-1st-xi-v-knowle-cc-1st-xi-3/
END:VEVENT
BEGIN:VEVENT
DTSTART;TZID=Europe/London:20210714T180000
DTEND;TZID=Europe/London:20210714T200000
DTSTAMP:20260421T114835
CREATED:20210428T202533Z
LAST-MODIFIED:20210428T202533Z
UID:2762-1626285600-1626292800@www.knowle-cricketclub.co.uk
SUMMARY:Knowle CC U15 v Bedminster CC U15
DESCRIPTION:League
URL:https://www.knowle-cricketclub.co.uk/event-details/knowle-cc-u15-v-bedminster-cc-u15-2/
END:VEVENT
BEGIN:VEVENT
DTSTART;TZID=Europe/London:20210714T180000
DTEND;TZID=Europe/London:20210714T200000
DTSTAMP:20260421T114835
CREATED:20210428T202533Z
LAST-MODIFIED:20210428T202533Z
UID:2763-1626285600-1626292800@www.knowle-cricketclub.co.uk
SUMMARY:Knowle CC U11 Super 8s v Stapleton CC U11 Green
DESCRIPTION:League
URL:https://www.knowle-cricketclub.co.uk/event-details/knowle-cc-u11-super-8s-v-stapleton-cc-u11-green-2/
END:VEVENT
BEGIN:VEVENT
DTSTART;TZID=Europe/London:20210713T180000
DTEND;TZID=Europe/London:20210713T200000
DTSTAMP:20260421T114835
CREATED:20210428T202533Z
LAST-MODIFIED:20210428T202533Z
UID:2760-1626199200-1626206400@www.knowle-cricketclub.co.uk
SUMMARY:Frenchay CC U13A v Knowle CC U13 Red
DESCRIPTION:League
URL:https://www.knowle-cricketclub.co.uk/event-details/frenchay-cc-u13a-v-knowle-cc-u13-red-2/
END:VEVENT
BEGIN:VEVENT
DTSTART;TZID=Europe/London:20210713T180000
DTEND;TZID=Europe/London:20210713T200000
DTSTAMP:20260421T114835
CREATED:20210428T202533Z
LAST-MODIFIED:20210428T202533Z
UID:2761-1626199200-1626206400@www.knowle-cricketclub.co.uk
SUMMARY:Knowle CC U11 Blue v Hanham CC U11
DESCRIPTION:League
URL:https://www.knowle-cricketclub.co.uk/event-details/knowle-cc-u11-blue-v-hanham-cc-u11-2/
END:VEVENT
BEGIN:VEVENT
DTSTART;TZID=Europe/London:20210712T180000
DTEND;TZID=Europe/London:20210712T200000
DTSTAMP:20260421T114835
CREATED:20210428T202518Z
LAST-MODIFIED:20210428T202518Z
UID:2757-1626112800-1626120000@www.knowle-cricketclub.co.uk
SUMMARY:Knowle CC U13 Blue v Bristol CC U12
DESCRIPTION:League
URL:https://www.knowle-cricketclub.co.uk/event-details/knowle-cc-u13-blue-v-bristol-cc-u12-2/
END:VEVENT
BEGIN:VEVENT
DTSTART;TZID=Europe/London:20210712T180000
DTEND;TZID=Europe/London:20210712T200000
DTSTAMP:20260421T114835
CREATED:20210428T202518Z
LAST-MODIFIED:20210428T202518Z
UID:2758-1626112800-1626120000@www.knowle-cricketclub.co.uk
SUMMARY:Knowle CC U11 Red v Bristol CC U11
DESCRIPTION:League
URL:https://www.knowle-cricketclub.co.uk/event-details/knowle-cc-u11-red-v-bristol-cc-u11-2/
END:VEVENT
BEGIN:VEVENT
DTSTART;TZID=Europe/London:20210712T180000
DTEND;TZID=Europe/London:20210712T200000
DTSTAMP:20260421T114835
CREATED:20210428T202518Z
LAST-MODIFIED:20210428T202518Z
UID:2759-1626112800-1626120000@www.knowle-cricketclub.co.uk
SUMMARY:Keynsham CC U17 v Knowle CC U17
DESCRIPTION:League
URL:https://www.knowle-cricketclub.co.uk/event-details/keynsham-cc-u17-v-knowle-cc-u17-2/
END:VEVENT
BEGIN:VEVENT
DTSTART;TZID=Europe/London:20210711T180000
DTEND;TZID=Europe/London:20210711T200000
DTSTAMP:20260421T114835
CREATED:20210428T202518Z
LAST-MODIFIED:20210428T202518Z
UID:2756-1626026400-1626033600@www.knowle-cricketclub.co.uk
SUMMARY:Stapleton CC\, Bristol U17 v Knowle CC U17
DESCRIPTION:Cup
URL:https://www.knowle-cricketclub.co.uk/event-details/stapleton-cc-bristol-u17-v-knowle-cc-u17-2/
END:VEVENT
BEGIN:VEVENT
DTSTART;TZID=Europe/London:20210711T133000
DTEND;TZID=Europe/London:20210711T163000
DTSTAMP:20260421T114835
CREATED:20210428T202518Z
LAST-MODIFIED:20210428T202518Z
UID:2755-1626010200-1626021000@www.knowle-cricketclub.co.uk
SUMMARY:Knowle CC Sunday North Somerset XI v The Star CC\, Bath Sunday 1st XI
DESCRIPTION:League
URL:https://www.knowle-cricketclub.co.uk/event-details/knowle-cc-sunday-north-somerset-xi-v-the-star-cc-bath-sunday-1st-xi-2/
END:VEVENT
BEGIN:VEVENT
DTSTART;TZID=Europe/London:20210710T130000
DTEND;TZID=Europe/London:20210710T190000
DTSTAMP:20260421T114835
CREATED:20210428T202503Z
LAST-MODIFIED:20210428T202503Z
UID:2752-1625922000-1625943600@www.knowle-cricketclub.co.uk
SUMMARY:Bath CC 3rd XI v Knowle CC 2nd XI
DESCRIPTION:League
URL:https://www.knowle-cricketclub.co.uk/event-details/bath-cc-3rd-xi-v-knowle-cc-2nd-xi-2/
END:VEVENT
BEGIN:VEVENT
DTSTART;TZID=Europe/London:20210710T130000
DTEND;TZID=Europe/London:20210710T190000
DTSTAMP:20260421T114835
CREATED:20210428T202503Z
LAST-MODIFIED:20210428T202503Z
UID:2753-1625922000-1625943600@www.knowle-cricketclub.co.uk
SUMMARY:Knowle CC (Woodpeckers) 3rd XI v Timsbury CC 2nd XI
DESCRIPTION:League
URL:https://www.knowle-cricketclub.co.uk/event-details/knowle-cc-woodpeckers-3rd-xi-v-timsbury-cc-2nd-xi-2/
END:VEVENT
BEGIN:VEVENT
DTSTART;TZID=Europe/London:20210710T130000
DTEND;TZID=Europe/London:20210710T190000
DTSTAMP:20260421T114835
CREATED:20210428T202503Z
LAST-MODIFIED:20210428T202503Z
UID:2754-1625922000-1625943600@www.knowle-cricketclub.co.uk
SUMMARY:Knowle CC 4th XI v Stoke Bishop CC 1st XI
DESCRIPTION:League
URL:https://www.knowle-cricketclub.co.uk/event-details/knowle-cc-4th-xi-v-stoke-bishop-cc-1st-xi-4/
END:VEVENT
BEGIN:VEVENT
DTSTART;TZID=Europe/London:20210710T123000
DTEND;TZID=Europe/London:20210710T190000
DTSTAMP:20260421T114835
CREATED:20210428T202503Z
LAST-MODIFIED:20210428T202503Z
UID:2751-1625920200-1625943600@www.knowle-cricketclub.co.uk
SUMMARY:Knowle CC 1st XI v Twyford House CC 1st XI
DESCRIPTION:League
URL:https://www.knowle-cricketclub.co.uk/event-details/knowle-cc-1st-xi-v-twyford-house-cc-1st-xi-4/
END:VEVENT
BEGIN:VEVENT
DTSTART;TZID=Europe/London:20210707T180000
DTEND;TZID=Europe/London:20210707T200000
DTSTAMP:20260421T114835
CREATED:20210424T081152Z
LAST-MODIFIED:20210428T202503Z
UID:2414-1625680800-1625688000@www.knowle-cricketclub.co.uk
SUMMARY:Twyford House CC U11 v Knowle CC U11 Red
DESCRIPTION:League
URL:https://www.knowle-cricketclub.co.uk/event-details/twyford-house-cc-u11-v-knowle-cc-u11-red/
END:VEVENT
BEGIN:VEVENT
DTSTART;TZID=Europe/London:20210707T180000
DTEND;TZID=Europe/London:20210707T200000
DTSTAMP:20260421T114835
CREATED:20210424T081137Z
LAST-MODIFIED:20210428T202448Z
UID:2413-1625680800-1625688000@www.knowle-cricketclub.co.uk
SUMMARY:Knowle CC U15 v Twyford House CC U15
DESCRIPTION:League
URL:https://www.knowle-cricketclub.co.uk/event-details/knowle-cc-u15-v-twyford-house-cc-u15/
END:VEVENT
BEGIN:VEVENT
DTSTART;TZID=Europe/London:20210706T180000
DTEND;TZID=Europe/London:20210706T200000
DTSTAMP:20260421T114835
CREATED:20210428T202448Z
LAST-MODIFIED:20210428T202448Z
UID:2749-1625594400-1625601600@www.knowle-cricketclub.co.uk
SUMMARY:Knowle CC U13 Red v Golden Hill CC U13 Yellow
DESCRIPTION:League
URL:https://www.knowle-cricketclub.co.uk/event-details/knowle-cc-u13-red-v-golden-hill-cc-u13-yellow-2/
END:VEVENT
BEGIN:VEVENT
DTSTART;TZID=Europe/London:20210706T180000
DTEND;TZID=Europe/London:20210706T200000
DTSTAMP:20260421T114835
CREATED:20210428T202448Z
LAST-MODIFIED:20210428T202448Z
UID:2750-1625594400-1625601600@www.knowle-cricketclub.co.uk
SUMMARY:Whitchurch CC U11 v Knowle CC U11 Super 8s
DESCRIPTION:League
URL:https://www.knowle-cricketclub.co.uk/event-details/whitchurch-cc-u11-v-knowle-cc-u11-super-8s-2/
END:VEVENT
END:VCALENDAR