BEGIN:VCALENDAR
VERSION:2.0
PRODID:-//Knowle Cricket Club - ECPv6.15.20//NONSGML v1.0//EN
CALSCALE:GREGORIAN
METHOD:PUBLISH
X-WR-CALNAME:Knowle Cricket Club
X-ORIGINAL-URL:https://www.knowle-cricketclub.co.uk
X-WR-CALDESC:Events for Knowle Cricket Club
REFRESH-INTERVAL;VALUE=DURATION:PT1H
X-Robots-Tag:noindex
X-PUBLISHED-TTL:PT1H
BEGIN:VTIMEZONE
TZID:Europe/London
BEGIN:STANDARD
TZOFFSETFROM:+0100
TZOFFSETTO:+0000
TZNAME:GMT
DTSTART:19711031T020000
END:STANDARD
BEGIN:DAYLIGHT
TZOFFSETFROM:+0000
TZOFFSETTO:+0100
TZNAME:BST
DTSTART:19720319T020000
END:DAYLIGHT
BEGIN:STANDARD
TZOFFSETFROM:+0100
TZOFFSETTO:+0000
TZNAME:GMT
DTSTART:19721029T020000
END:STANDARD
BEGIN:DAYLIGHT
TZOFFSETFROM:+0000
TZOFFSETTO:+0100
TZNAME:BST
DTSTART:19730318T020000
END:DAYLIGHT
BEGIN:STANDARD
TZOFFSETFROM:+0100
TZOFFSETTO:+0000
TZNAME:GMT
DTSTART:19731028T020000
END:STANDARD
BEGIN:DAYLIGHT
TZOFFSETFROM:+0000
TZOFFSETTO:+0100
TZNAME:BST
DTSTART:19740317T020000
END:DAYLIGHT
BEGIN:STANDARD
TZOFFSETFROM:+0100
TZOFFSETTO:+0000
TZNAME:GMT
DTSTART:19741027T020000
END:STANDARD
BEGIN:DAYLIGHT
TZOFFSETFROM:+0000
TZOFFSETTO:+0100
TZNAME:BST
DTSTART:19750316T020000
END:DAYLIGHT
BEGIN:STANDARD
TZOFFSETFROM:+0100
TZOFFSETTO:+0000
TZNAME:GMT
DTSTART:19751026T020000
END:STANDARD
BEGIN:DAYLIGHT
TZOFFSETFROM:+0000
TZOFFSETTO:+0100
TZNAME:BST
DTSTART:19760321T020000
END:DAYLIGHT
BEGIN:STANDARD
TZOFFSETFROM:+0100
TZOFFSETTO:+0000
TZNAME:GMT
DTSTART:19761024T020000
END:STANDARD
BEGIN:DAYLIGHT
TZOFFSETFROM:+0000
TZOFFSETTO:+0100
TZNAME:BST
DTSTART:19770320T020000
END:DAYLIGHT
BEGIN:STANDARD
TZOFFSETFROM:+0100
TZOFFSETTO:+0000
TZNAME:GMT
DTSTART:19771023T020000
END:STANDARD
BEGIN:DAYLIGHT
TZOFFSETFROM:+0000
TZOFFSETTO:+0100
TZNAME:BST
DTSTART:19780319T020000
END:DAYLIGHT
BEGIN:STANDARD
TZOFFSETFROM:+0100
TZOFFSETTO:+0000
TZNAME:GMT
DTSTART:19781029T020000
END:STANDARD
BEGIN:DAYLIGHT
TZOFFSETFROM:+0000
TZOFFSETTO:+0100
TZNAME:BST
DTSTART:19790318T020000
END:DAYLIGHT
BEGIN:STANDARD
TZOFFSETFROM:+0100
TZOFFSETTO:+0000
TZNAME:GMT
DTSTART:19791028T020000
END:STANDARD
BEGIN:DAYLIGHT
TZOFFSETFROM:+0000
TZOFFSETTO:+0100
TZNAME:BST
DTSTART:19800316T020000
END:DAYLIGHT
BEGIN:STANDARD
TZOFFSETFROM:+0100
TZOFFSETTO:+0000
TZNAME:GMT
DTSTART:19801026T020000
END:STANDARD
BEGIN:DAYLIGHT
TZOFFSETFROM:+0000
TZOFFSETTO:+0100
TZNAME:BST
DTSTART:19810329T010000
END:DAYLIGHT
BEGIN:STANDARD
TZOFFSETFROM:+0100
TZOFFSETTO:+0000
TZNAME:GMT
DTSTART:19811025T010000
END:STANDARD
BEGIN:DAYLIGHT
TZOFFSETFROM:+0000
TZOFFSETTO:+0100
TZNAME:BST
DTSTART:19820328T010000
END:DAYLIGHT
BEGIN:STANDARD
TZOFFSETFROM:+0100
TZOFFSETTO:+0000
TZNAME:GMT
DTSTART:19821024T010000
END:STANDARD
BEGIN:DAYLIGHT
TZOFFSETFROM:+0000
TZOFFSETTO:+0100
TZNAME:BST
DTSTART:19830327T010000
END:DAYLIGHT
BEGIN:STANDARD
TZOFFSETFROM:+0100
TZOFFSETTO:+0000
TZNAME:GMT
DTSTART:19831023T010000
END:STANDARD
BEGIN:DAYLIGHT
TZOFFSETFROM:+0000
TZOFFSETTO:+0100
TZNAME:BST
DTSTART:19840325T010000
END:DAYLIGHT
BEGIN:STANDARD
TZOFFSETFROM:+0100
TZOFFSETTO:+0000
TZNAME:GMT
DTSTART:19841028T010000
END:STANDARD
BEGIN:DAYLIGHT
TZOFFSETFROM:+0000
TZOFFSETTO:+0100
TZNAME:BST
DTSTART:19850331T010000
END:DAYLIGHT
BEGIN:STANDARD
TZOFFSETFROM:+0100
TZOFFSETTO:+0000
TZNAME:GMT
DTSTART:19851027T010000
END:STANDARD
BEGIN:DAYLIGHT
TZOFFSETFROM:+0000
TZOFFSETTO:+0100
TZNAME:BST
DTSTART:19860330T010000
END:DAYLIGHT
BEGIN:STANDARD
TZOFFSETFROM:+0100
TZOFFSETTO:+0000
TZNAME:GMT
DTSTART:19861026T010000
END:STANDARD
BEGIN:DAYLIGHT
TZOFFSETFROM:+0000
TZOFFSETTO:+0100
TZNAME:BST
DTSTART:19870329T010000
END:DAYLIGHT
BEGIN:STANDARD
TZOFFSETFROM:+0100
TZOFFSETTO:+0000
TZNAME:GMT
DTSTART:19871025T010000
END:STANDARD
BEGIN:DAYLIGHT
TZOFFSETFROM:+0000
TZOFFSETTO:+0100
TZNAME:BST
DTSTART:19880327T010000
END:DAYLIGHT
BEGIN:STANDARD
TZOFFSETFROM:+0100
TZOFFSETTO:+0000
TZNAME:GMT
DTSTART:19881023T010000
END:STANDARD
BEGIN:DAYLIGHT
TZOFFSETFROM:+0000
TZOFFSETTO:+0100
TZNAME:BST
DTSTART:19890326T010000
END:DAYLIGHT
BEGIN:STANDARD
TZOFFSETFROM:+0100
TZOFFSETTO:+0000
TZNAME:GMT
DTSTART:19891029T010000
END:STANDARD
BEGIN:DAYLIGHT
TZOFFSETFROM:+0000
TZOFFSETTO:+0100
TZNAME:BST
DTSTART:19900325T010000
END:DAYLIGHT
BEGIN:STANDARD
TZOFFSETFROM:+0100
TZOFFSETTO:+0000
TZNAME:GMT
DTSTART:19901028T010000
END:STANDARD
BEGIN:DAYLIGHT
TZOFFSETFROM:+0000
TZOFFSETTO:+0100
TZNAME:BST
DTSTART:19910331T010000
END:DAYLIGHT
BEGIN:STANDARD
TZOFFSETFROM:+0100
TZOFFSETTO:+0000
TZNAME:GMT
DTSTART:19911027T010000
END:STANDARD
BEGIN:DAYLIGHT
TZOFFSETFROM:+0000
TZOFFSETTO:+0100
TZNAME:BST
DTSTART:19920329T010000
END:DAYLIGHT
BEGIN:STANDARD
TZOFFSETFROM:+0100
TZOFFSETTO:+0000
TZNAME:GMT
DTSTART:19921025T010000
END:STANDARD
BEGIN:DAYLIGHT
TZOFFSETFROM:+0000
TZOFFSETTO:+0100
TZNAME:BST
DTSTART:19930328T010000
END:DAYLIGHT
BEGIN:STANDARD
TZOFFSETFROM:+0100
TZOFFSETTO:+0000
TZNAME:GMT
DTSTART:19931024T010000
END:STANDARD
BEGIN:DAYLIGHT
TZOFFSETFROM:+0000
TZOFFSETTO:+0100
TZNAME:BST
DTSTART:19940327T010000
END:DAYLIGHT
BEGIN:STANDARD
TZOFFSETFROM:+0100
TZOFFSETTO:+0000
TZNAME:GMT
DTSTART:19941023T010000
END:STANDARD
BEGIN:DAYLIGHT
TZOFFSETFROM:+0000
TZOFFSETTO:+0100
TZNAME:BST
DTSTART:19950326T010000
END:DAYLIGHT
BEGIN:STANDARD
TZOFFSETFROM:+0100
TZOFFSETTO:+0000
TZNAME:GMT
DTSTART:19951022T010000
END:STANDARD
BEGIN:DAYLIGHT
TZOFFSETFROM:+0000
TZOFFSETTO:+0100
TZNAME:BST
DTSTART:19960331T010000
END:DAYLIGHT
BEGIN:STANDARD
TZOFFSETFROM:+0100
TZOFFSETTO:+0000
TZNAME:GMT
DTSTART:19961027T010000
END:STANDARD
BEGIN:DAYLIGHT
TZOFFSETFROM:+0000
TZOFFSETTO:+0100
TZNAME:BST
DTSTART:19970330T010000
END:DAYLIGHT
BEGIN:STANDARD
TZOFFSETFROM:+0100
TZOFFSETTO:+0000
TZNAME:GMT
DTSTART:19971026T010000
END:STANDARD
BEGIN:DAYLIGHT
TZOFFSETFROM:+0000
TZOFFSETTO:+0100
TZNAME:BST
DTSTART:19980329T010000
END:DAYLIGHT
BEGIN:STANDARD
TZOFFSETFROM:+0100
TZOFFSETTO:+0000
TZNAME:GMT
DTSTART:19981025T010000
END:STANDARD
BEGIN:DAYLIGHT
TZOFFSETFROM:+0000
TZOFFSETTO:+0100
TZNAME:BST
DTSTART:19990328T010000
END:DAYLIGHT
BEGIN:STANDARD
TZOFFSETFROM:+0100
TZOFFSETTO:+0000
TZNAME:GMT
DTSTART:19991031T010000
END:STANDARD
BEGIN:DAYLIGHT
TZOFFSETFROM:+0000
TZOFFSETTO:+0100
TZNAME:BST
DTSTART:20000326T010000
END:DAYLIGHT
BEGIN:STANDARD
TZOFFSETFROM:+0100
TZOFFSETTO:+0000
TZNAME:GMT
DTSTART:20001029T010000
END:STANDARD
BEGIN:DAYLIGHT
TZOFFSETFROM:+0000
TZOFFSETTO:+0100
TZNAME:BST
DTSTART:20010325T010000
END:DAYLIGHT
BEGIN:STANDARD
TZOFFSETFROM:+0100
TZOFFSETTO:+0000
TZNAME:GMT
DTSTART:20011028T010000
END:STANDARD
BEGIN:DAYLIGHT
TZOFFSETFROM:+0000
TZOFFSETTO:+0100
TZNAME:BST
DTSTART:20020331T010000
END:DAYLIGHT
BEGIN:STANDARD
TZOFFSETFROM:+0100
TZOFFSETTO:+0000
TZNAME:GMT
DTSTART:20021027T010000
END:STANDARD
BEGIN:DAYLIGHT
TZOFFSETFROM:+0000
TZOFFSETTO:+0100
TZNAME:BST
DTSTART:20030330T010000
END:DAYLIGHT
BEGIN:STANDARD
TZOFFSETFROM:+0100
TZOFFSETTO:+0000
TZNAME:GMT
DTSTART:20031026T010000
END:STANDARD
BEGIN:DAYLIGHT
TZOFFSETFROM:+0000
TZOFFSETTO:+0100
TZNAME:BST
DTSTART:20040328T010000
END:DAYLIGHT
BEGIN:STANDARD
TZOFFSETFROM:+0100
TZOFFSETTO:+0000
TZNAME:GMT
DTSTART:20041031T010000
END:STANDARD
BEGIN:DAYLIGHT
TZOFFSETFROM:+0000
TZOFFSETTO:+0100
TZNAME:BST
DTSTART:20050327T010000
END:DAYLIGHT
BEGIN:STANDARD
TZOFFSETFROM:+0100
TZOFFSETTO:+0000
TZNAME:GMT
DTSTART:20051030T010000
END:STANDARD
BEGIN:DAYLIGHT
TZOFFSETFROM:+0000
TZOFFSETTO:+0100
TZNAME:BST
DTSTART:20060326T010000
END:DAYLIGHT
BEGIN:STANDARD
TZOFFSETFROM:+0100
TZOFFSETTO:+0000
TZNAME:GMT
DTSTART:20061029T010000
END:STANDARD
BEGIN:DAYLIGHT
TZOFFSETFROM:+0000
TZOFFSETTO:+0100
TZNAME:BST
DTSTART:20070325T010000
END:DAYLIGHT
BEGIN:STANDARD
TZOFFSETFROM:+0100
TZOFFSETTO:+0000
TZNAME:GMT
DTSTART:20071028T010000
END:STANDARD
BEGIN:DAYLIGHT
TZOFFSETFROM:+0000
TZOFFSETTO:+0100
TZNAME:BST
DTSTART:20080330T010000
END:DAYLIGHT
BEGIN:STANDARD
TZOFFSETFROM:+0100
TZOFFSETTO:+0000
TZNAME:GMT
DTSTART:20081026T010000
END:STANDARD
BEGIN:DAYLIGHT
TZOFFSETFROM:+0000
TZOFFSETTO:+0100
TZNAME:BST
DTSTART:20090329T010000
END:DAYLIGHT
BEGIN:STANDARD
TZOFFSETFROM:+0100
TZOFFSETTO:+0000
TZNAME:GMT
DTSTART:20091025T010000
END:STANDARD
BEGIN:DAYLIGHT
TZOFFSETFROM:+0000
TZOFFSETTO:+0100
TZNAME:BST
DTSTART:20100328T010000
END:DAYLIGHT
BEGIN:STANDARD
TZOFFSETFROM:+0100
TZOFFSETTO:+0000
TZNAME:GMT
DTSTART:20101031T010000
END:STANDARD
BEGIN:DAYLIGHT
TZOFFSETFROM:+0000
TZOFFSETTO:+0100
TZNAME:BST
DTSTART:20110327T010000
END:DAYLIGHT
BEGIN:STANDARD
TZOFFSETFROM:+0100
TZOFFSETTO:+0000
TZNAME:GMT
DTSTART:20111030T010000
END:STANDARD
BEGIN:DAYLIGHT
TZOFFSETFROM:+0000
TZOFFSETTO:+0100
TZNAME:BST
DTSTART:20120325T010000
END:DAYLIGHT
BEGIN:STANDARD
TZOFFSETFROM:+0100
TZOFFSETTO:+0000
TZNAME:GMT
DTSTART:20121028T010000
END:STANDARD
BEGIN:DAYLIGHT
TZOFFSETFROM:+0000
TZOFFSETTO:+0100
TZNAME:BST
DTSTART:20130331T010000
END:DAYLIGHT
BEGIN:STANDARD
TZOFFSETFROM:+0100
TZOFFSETTO:+0000
TZNAME:GMT
DTSTART:20131027T010000
END:STANDARD
BEGIN:DAYLIGHT
TZOFFSETFROM:+0000
TZOFFSETTO:+0100
TZNAME:BST
DTSTART:20140330T010000
END:DAYLIGHT
BEGIN:STANDARD
TZOFFSETFROM:+0100
TZOFFSETTO:+0000
TZNAME:GMT
DTSTART:20141026T010000
END:STANDARD
BEGIN:DAYLIGHT
TZOFFSETFROM:+0000
TZOFFSETTO:+0100
TZNAME:BST
DTSTART:20150329T010000
END:DAYLIGHT
BEGIN:STANDARD
TZOFFSETFROM:+0100
TZOFFSETTO:+0000
TZNAME:GMT
DTSTART:20151025T010000
END:STANDARD
BEGIN:DAYLIGHT
TZOFFSETFROM:+0000
TZOFFSETTO:+0100
TZNAME:BST
DTSTART:20160327T010000
END:DAYLIGHT
BEGIN:STANDARD
TZOFFSETFROM:+0100
TZOFFSETTO:+0000
TZNAME:GMT
DTSTART:20161030T010000
END:STANDARD
BEGIN:DAYLIGHT
TZOFFSETFROM:+0000
TZOFFSETTO:+0100
TZNAME:BST
DTSTART:20170326T010000
END:DAYLIGHT
BEGIN:STANDARD
TZOFFSETFROM:+0100
TZOFFSETTO:+0000
TZNAME:GMT
DTSTART:20171029T010000
END:STANDARD
BEGIN:DAYLIGHT
TZOFFSETFROM:+0000
TZOFFSETTO:+0100
TZNAME:BST
DTSTART:20180325T010000
END:DAYLIGHT
BEGIN:STANDARD
TZOFFSETFROM:+0100
TZOFFSETTO:+0000
TZNAME:GMT
DTSTART:20181028T010000
END:STANDARD
BEGIN:DAYLIGHT
TZOFFSETFROM:+0000
TZOFFSETTO:+0100
TZNAME:BST
DTSTART:20190331T010000
END:DAYLIGHT
BEGIN:STANDARD
TZOFFSETFROM:+0100
TZOFFSETTO:+0000
TZNAME:GMT
DTSTART:20191027T010000
END:STANDARD
BEGIN:DAYLIGHT
TZOFFSETFROM:+0000
TZOFFSETTO:+0100
TZNAME:BST
DTSTART:20200329T010000
END:DAYLIGHT
BEGIN:STANDARD
TZOFFSETFROM:+0100
TZOFFSETTO:+0000
TZNAME:GMT
DTSTART:20201025T010000
END:STANDARD
BEGIN:DAYLIGHT
TZOFFSETFROM:+0000
TZOFFSETTO:+0100
TZNAME:BST
DTSTART:20210328T010000
END:DAYLIGHT
BEGIN:STANDARD
TZOFFSETFROM:+0100
TZOFFSETTO:+0000
TZNAME:GMT
DTSTART:20211031T010000
END:STANDARD
BEGIN:DAYLIGHT
TZOFFSETFROM:+0000
TZOFFSETTO:+0100
TZNAME:BST
DTSTART:20220327T010000
END:DAYLIGHT
BEGIN:STANDARD
TZOFFSETFROM:+0100
TZOFFSETTO:+0000
TZNAME:GMT
DTSTART:20221030T010000
END:STANDARD
END:VTIMEZONE
BEGIN:VEVENT
DTSTART;TZID=Europe/London:20210511T180000
DTEND;TZID=Europe/London:20210511T200000
DTSTAMP:20260421T145610
CREATED:20210428T202015Z
LAST-MODIFIED:20210428T202015Z
UID:2664-1620756000-1620763200@www.knowle-cricketclub.co.uk
SUMMARY:Knowle CC U11 Blue v Stoke Bishop CC U11 Bears
DESCRIPTION:League
URL:https://www.knowle-cricketclub.co.uk/event-details/knowle-cc-u11-blue-v-stoke-bishop-cc-u11-bears-2/
END:VEVENT
BEGIN:VEVENT
DTSTART;TZID=Europe/London:20210511T180000
DTEND;TZID=Europe/London:20210511T200000
DTSTAMP:20260421T145610
CREATED:20210428T202000Z
LAST-MODIFIED:20210505T111508Z
UID:2663-1620756000-1620763200@www.knowle-cricketclub.co.uk
SUMMARY:Knowle CC U11 Red v Lodway CC U11
DESCRIPTION:League
URL:https://www.knowle-cricketclub.co.uk/event-details/knowle-cc-u11-red-v-lodway-cc-u11-2/
CATEGORIES:Junior Cricket,Juniors U11A
END:VEVENT
BEGIN:VEVENT
DTSTART;TZID=Europe/London:20210510T180000
DTEND;TZID=Europe/London:20210510T200000
DTSTAMP:20260421T145610
CREATED:20210428T202000Z
LAST-MODIFIED:20210428T202000Z
UID:2662-1620669600-1620676800@www.knowle-cricketclub.co.uk
SUMMARY:Knowle CC U13 Blue v Whitchurch CC U13
DESCRIPTION:Cup
URL:https://www.knowle-cricketclub.co.uk/event-details/knowle-cc-u13-blue-v-whitchurch-cc-u13-3/
END:VEVENT
BEGIN:VEVENT
DTSTART;TZID=Europe/London:20210509T133000
DTEND;TZID=Europe/London:20210509T163000
DTSTAMP:20260421T145610
CREATED:20210428T202000Z
LAST-MODIFIED:20210428T202000Z
UID:2661-1620567000-1620577800@www.knowle-cricketclub.co.uk
SUMMARY:The Star CC Bath Sunday 1st XI v Knowle CC Sunday North Somerset XI
DESCRIPTION:League
URL:https://www.knowle-cricketclub.co.uk/event-details/the-star-cc-bath-sunday-1st-xi-v-knowle-cc-sunday-north-somerset-xi-2/
END:VEVENT
BEGIN:VEVENT
DTSTART;TZID=Europe/London:20210508T130000
DTEND;TZID=Europe/London:20210508T190000
DTSTAMP:20260421T145610
CREATED:20210428T202000Z
LAST-MODIFIED:20210428T202000Z
UID:2659-1620478800-1620500400@www.knowle-cricketclub.co.uk
SUMMARY:Knowle CC 2nd XI v Bath CC 3rd XI
DESCRIPTION:League
URL:https://www.knowle-cricketclub.co.uk/event-details/knowle-cc-2nd-xi-v-bath-cc-3rd-xi-2/
END:VEVENT
BEGIN:VEVENT
DTSTART;TZID=Europe/London:20210508T130000
DTEND;TZID=Europe/London:20210508T190000
DTSTAMP:20260421T145610
CREATED:20210428T202000Z
LAST-MODIFIED:20210428T202000Z
UID:2660-1620478800-1620500400@www.knowle-cricketclub.co.uk
SUMMARY:Timsbury CC 2nd XI v Knowle CC (Woodpeckers) 3rd XI
DESCRIPTION:League
URL:https://www.knowle-cricketclub.co.uk/event-details/timsbury-cc-2nd-xi-v-knowle-cc-woodpeckers-3rd-xi-3/
END:VEVENT
BEGIN:VEVENT
DTSTART;TZID=Europe/London:20210508T123000
DTEND;TZID=Europe/London:20210508T190000
DTSTAMP:20260421T145610
CREATED:20210428T201945Z
LAST-MODIFIED:20210428T201945Z
UID:2658-1620477000-1620500400@www.knowle-cricketclub.co.uk
SUMMARY:Twyford House CC 1st XI v Knowle CC 1st XI
DESCRIPTION:League
URL:https://www.knowle-cricketclub.co.uk/event-details/twyford-house-cc-1st-xi-v-knowle-cc-1st-xi-4/
END:VEVENT
BEGIN:VEVENT
DTSTART;TZID=Europe/London:20210506T180000
DTEND;TZID=Europe/London:20210506T200000
DTSTAMP:20260421T145610
CREATED:20210428T201945Z
LAST-MODIFIED:20210428T201945Z
UID:2657-1620324000-1620331200@www.knowle-cricketclub.co.uk
SUMMARY:Golden Hill CC U15 Yellow v Knowle CC U15
DESCRIPTION:Cup
URL:https://www.knowle-cricketclub.co.uk/event-details/golden-hill-cc-u15-yellow-v-knowle-cc-u15-2/
END:VEVENT
BEGIN:VEVENT
DTSTART;TZID=Europe/London:20210505T180000
DTEND;TZID=Europe/London:20210505T200000
DTSTAMP:20260421T145610
CREATED:20210424T080138Z
LAST-MODIFIED:20210428T201945Z
UID:2316-1620237600-1620244800@www.knowle-cricketclub.co.uk
SUMMARY:Knowle CC U11 Super 8s v Lodway CC U11
DESCRIPTION:League
URL:https://www.knowle-cricketclub.co.uk/event-details/knowle-cc-u11-super-8s-v-lodway-cc-u11/
END:VEVENT
BEGIN:VEVENT
DTSTART;TZID=Europe/London:20210504T180000
DTEND;TZID=Europe/London:20210504T200000
DTSTAMP:20260421T145610
CREATED:20210428T201945Z
LAST-MODIFIED:20210428T201945Z
UID:2656-1620151200-1620158400@www.knowle-cricketclub.co.uk
SUMMARY:Knowle CC U11 Blue v Golden Hill CC U11 Hurricane
DESCRIPTION:Cup
URL:https://www.knowle-cricketclub.co.uk/event-details/knowle-cc-u11-blue-v-golden-hill-cc-u11-hurricane-2/
END:VEVENT
BEGIN:VEVENT
DTSTART;TZID=Europe/London:20210504T180000
DTEND;TZID=Europe/London:20210504T200000
DTSTAMP:20260421T145610
CREATED:20210428T201945Z
LAST-MODIFIED:20210428T201945Z
UID:2655-1620151200-1620158400@www.knowle-cricketclub.co.uk
SUMMARY:Knowle CC U13 Red v Bristol CC U13
DESCRIPTION:League
URL:https://www.knowle-cricketclub.co.uk/event-details/knowle-cc-u13-red-v-bristol-cc-u13-2/
END:VEVENT
BEGIN:VEVENT
DTSTART;TZID=Europe/London:20210502T140000
DTEND;TZID=Europe/London:20210502T160000
DTSTAMP:20260421T145610
CREATED:20210428T201930Z
LAST-MODIFIED:20210428T201930Z
UID:2653-1619964000-1619971200@www.knowle-cricketclub.co.uk
SUMMARY:Knowle CC Womens 1st XI v Brislington CC Womens 1st XI
DESCRIPTION:Cup
URL:https://www.knowle-cricketclub.co.uk/event-details/knowle-cc-womens-1st-xi-v-brislington-cc-womens-1st-xi-3/
END:VEVENT
BEGIN:VEVENT
DTSTART;TZID=Europe/London:20210502T133000
DTEND;TZID=Europe/London:20210502T163000
DTSTAMP:20260421T145610
CREATED:20210428T201930Z
LAST-MODIFIED:20210428T201930Z
UID:2652-1619962200-1619973000@www.knowle-cricketclub.co.uk
SUMMARY:Whitchurch CC Somerset Wanderers v Knowle CC Sunday North Somerset XI
DESCRIPTION:League
URL:https://www.knowle-cricketclub.co.uk/event-details/whitchurch-cc-somerset-wanderers-v-knowle-cc-sunday-north-somerset-xi-3/
END:VEVENT
BEGIN:VEVENT
DTSTART;TZID=Europe/London:20210501T130000
DTEND;TZID=Europe/London:20210501T190000
DTSTAMP:20260421T145610
CREATED:20210428T201930Z
LAST-MODIFIED:20210428T201930Z
UID:2650-1619874000-1619895600@www.knowle-cricketclub.co.uk
SUMMARY:Hanham CC 1st XI v Knowle CC 2nd XI
DESCRIPTION:League
URL:https://www.knowle-cricketclub.co.uk/event-details/hanham-cc-1st-xi-v-knowle-cc-2nd-xi-2/
END:VEVENT
BEGIN:VEVENT
DTSTART;TZID=Europe/London:20210501T130000
DTEND;TZID=Europe/London:20210501T190000
DTSTAMP:20260421T145610
CREATED:20210428T201930Z
LAST-MODIFIED:20210428T201930Z
UID:2651-1619874000-1619895600@www.knowle-cricketclub.co.uk
SUMMARY:Knowle CC (Woodpeckers) 3rd XI v Patchway CC 1st XI
DESCRIPTION:League
URL:https://www.knowle-cricketclub.co.uk/event-details/knowle-cc-woodpeckers-3rd-xi-v-patchway-cc-1st-xi-2/
END:VEVENT
BEGIN:VEVENT
DTSTART;TZID=Europe/London:20210501T123000
DTEND;TZID=Europe/London:20210501T190000
DTSTAMP:20260421T145610
CREATED:20210428T201928Z
LAST-MODIFIED:20210428T201928Z
UID:2649-1619872200-1619895600@www.knowle-cricketclub.co.uk
SUMMARY:Knowle CC 1st XI v Bristol CC 2nd XI
DESCRIPTION:League
URL:https://www.knowle-cricketclub.co.uk/event-details/knowle-cc-1st-xi-v-bristol-cc-2nd-xi-4/
END:VEVENT
BEGIN:VEVENT
DTSTART;TZID=Europe/London:20210429T180000
DTEND;TZID=Europe/London:20210429T200000
DTSTAMP:20260421T145610
CREATED:20210428T201928Z
LAST-MODIFIED:20210428T201928Z
UID:2648-1619719200-1619726400@www.knowle-cricketclub.co.uk
SUMMARY:Bedminster CC U11 Lions v Knowle CC U11 Red
DESCRIPTION:League
URL:https://www.knowle-cricketclub.co.uk/event-details/bedminster-cc-u11-lions-v-knowle-cc-u11-red-2/
END:VEVENT
BEGIN:VEVENT
DTSTART;TZID=Europe/London:20210426T180000
DTEND;TZID=Europe/London:20210426T200000
DTSTAMP:20260421T145610
CREATED:20210428T201928Z
LAST-MODIFIED:20210428T201928Z
UID:2647-1619460000-1619467200@www.knowle-cricketclub.co.uk
SUMMARY:Bristol CC U10 v Knowle CC U11 Blue
DESCRIPTION:League
URL:https://www.knowle-cricketclub.co.uk/event-details/bristol-cc-u10-v-knowle-cc-u11-blue-2/
END:VEVENT
BEGIN:VEVENT
DTSTART;TZID=Europe/London:20210426T180000
DTEND;TZID=Europe/London:20210426T200000
DTSTAMP:20260421T145610
CREATED:20210424T080121Z
LAST-MODIFIED:20210428T201928Z
UID:2305-1619460000-1619467200@www.knowle-cricketclub.co.uk
SUMMARY:Knowle CC U13 Blue v Golden Hill CC U13 Blue
DESCRIPTION:Cup
URL:https://www.knowle-cricketclub.co.uk/event-details/knowle-cc-u13-blue-v-golden-hill-cc-u13-blue/
LOCATION:Knowle CC (Broadwalk)\, Knowle Cricket Club\, Bristol\, BS4 2RD\, United Kingdom
CATEGORIES:Junior Cricket,Juniors U13B
END:VEVENT
BEGIN:VEVENT
DTSTART;TZID=Europe/London:20210424T140000
DTEND;TZID=Europe/London:20210424T190000
DTSTAMP:20260421T145610
CREATED:20210428T201928Z
LAST-MODIFIED:20210428T201928Z
UID:2646-1619272800-1619290800@www.knowle-cricketclub.co.uk
SUMMARY:Knowle CC 1st XI v Bradley Stoke CC 1st XI
DESCRIPTION:Friendly
URL:https://www.knowle-cricketclub.co.uk/event-details/knowle-cc-1st-xi-v-bradley-stoke-cc-1st-xi-2/
END:VEVENT
BEGIN:VEVENT
DTSTART;TZID=Europe/London:20200726T140000
DTEND;TZID=Europe/London:20200726T163000
DTSTAMP:20260421T145610
CREATED:20200722T143103Z
LAST-MODIFIED:20200722T143103Z
UID:2230-1595772000-1595781000@www.knowle-cricketclub.co.uk
SUMMARY:Knowle CC U13A v Whitchurch CC U13
DESCRIPTION:
URL:https://www.knowle-cricketclub.co.uk/event-details/knowle-cc-u13a-v-whitchurch-cc-u13/
LOCATION:Knowle CC (Broadwalk)\, Knowle Cricket Club\, Bristol\, BS4 2RD\, United Kingdom
CATEGORIES:Junior Cricket,Juniors U13A
END:VEVENT
BEGIN:VEVENT
DTSTART;TZID=Europe/London:20200726T101500
DTEND;TZID=Europe/London:20200726T130000
DTSTAMP:20260421T145610
CREATED:20200717T125323Z
LAST-MODIFIED:20200722T142929Z
UID:2132-1595758500-1595768400@www.knowle-cricketclub.co.uk
SUMMARY:Knowle CC U19 v Stroud CC U19
DESCRIPTION:
URL:https://www.knowle-cricketclub.co.uk/event-details/stroud-cc-u19-v-knowle-cc-u19/
LOCATION:Knowle CC (Broadwalk)\, Knowle Cricket Club\, Bristol\, BS4 2RD\, United Kingdom
CATEGORIES:Juniors U19
END:VEVENT
BEGIN:VEVENT
DTSTART;TZID=Europe/London:20200725T123000
DTEND;TZID=Europe/London:20200725T190000
DTSTAMP:20260421T145610
CREATED:20200717T125323Z
LAST-MODIFIED:20200717T133332Z
UID:2131-1595680200-1595703600@www.knowle-cricketclub.co.uk
SUMMARY:Knowle CC 1st XI v Brislington CC 1st XI
DESCRIPTION:
URL:https://www.knowle-cricketclub.co.uk/event-details/knowle-cc-1st-xi-v-brislington-cc-1st-xi/
LOCATION:Knowle CC (Broadwalk)\, Knowle Cricket Club\, Bristol\, BS4 2RD\, United Kingdom
CATEGORIES:Seniors Saturday 1st XI
END:VEVENT
BEGIN:VEVENT
DTSTART;TZID=Europe/London:20200723T180000
DTEND;TZID=Europe/London:20200723T200000
DTSTAMP:20260421T145610
CREATED:20200717T125323Z
LAST-MODIFIED:20200717T133205Z
UID:2129-1595527200-1595534400@www.knowle-cricketclub.co.uk
SUMMARY:Knowle CC U17 v Chipping Sodbury CC U17
DESCRIPTION:
URL:https://www.knowle-cricketclub.co.uk/event-details/knowle-cc-u17-v-chipping-sodbury-cc-u17/
LOCATION:Knowle CC (Broadwalk)\, Knowle Cricket Club\, Bristol\, BS4 2RD\, United Kingdom
CATEGORIES:Juniors U17
END:VEVENT
BEGIN:VEVENT
DTSTART;TZID=Europe/London:20200723T180000
DTEND;TZID=Europe/London:20200723T200000
DTSTAMP:20260421T145610
CREATED:20200717T125323Z
LAST-MODIFIED:20200721T153646Z
UID:2134-1595527200-1595534400@www.knowle-cricketclub.co.uk
SUMMARY:Stoke Bishop CC U11 B v Knowle CC U11 A
DESCRIPTION:
URL:https://www.knowle-cricketclub.co.uk/event-details/stoke-bishop-cc-u11-b-v-knowle-cc-u11-a/
LOCATION:Stoke Bishop CC\, Coombe Dingle Sports Complex\, Coombe Lane\, Bristol\, BS9 2BJ\, United Kingdom
CATEGORIES:Juniors U11A
END:VEVENT
BEGIN:VEVENT
DTSTART;TZID=Europe/London:20200722T180000
DTEND;TZID=Europe/London:20200722T200000
DTSTAMP:20260421T145610
CREATED:20200717T125323Z
LAST-MODIFIED:20200717T133137Z
UID:2128-1595440800-1595448000@www.knowle-cricketclub.co.uk
SUMMARY:Knowle CC U15 v Carsons & Mangotsfield CC U15
DESCRIPTION:
URL:https://www.knowle-cricketclub.co.uk/event-details/knowle-cc-u15-v-carsons-mangotsfield-cc-u15/
LOCATION:Knowle CC (Broadwalk)\, Knowle Cricket Club\, Bristol\, BS4 2RD\, United Kingdom
CATEGORIES:Juniors U15A
END:VEVENT
BEGIN:VEVENT
DTSTART;TZID=Europe/London:20200720T180000
DTEND;TZID=Europe/London:20200720T200000
DTSTAMP:20260421T145610
CREATED:20200717T125320Z
LAST-MODIFIED:20200720T094900Z
UID:2124-1595268000-1595275200@www.knowle-cricketclub.co.uk
SUMMARY:Knowle CC U11 A v Knowle CC U13 Eagles
DESCRIPTION:
URL:https://www.knowle-cricketclub.co.uk/event-details/knowle-cc-u11-a-v-old-bristolians-cc-u11-a/
LOCATION:Knowle CC (Broadwalk)\, Knowle Cricket Club\, Bristol\, BS4 2RD\, United Kingdom
CATEGORIES:Juniors U11A
END:VEVENT
BEGIN:VEVENT
DTSTART;TZID=Europe/London:20200719T130000
DTEND;TZID=Europe/London:20200719T150000
DTSTAMP:20260421T145610
CREATED:20200717T125320Z
LAST-MODIFIED:20200717T125954Z
UID:2123-1595163600-1595170800@www.knowle-cricketclub.co.uk
SUMMARY:Knowle CC U13 A v Bedminster CC U13
DESCRIPTION:
URL:https://www.knowle-cricketclub.co.uk/event-details/knowle-cc-u13-a-v-bedminster-cc-u13/
LOCATION:Knowle CC (Broadwalk)\, Knowle Cricket Club\, Bristol\, BS4 2RD\, United Kingdom
CATEGORIES:Juniors U13A
END:VEVENT
BEGIN:VEVENT
DTSTART;TZID=Europe/London:20260421T145610
DTEND;TZID=Europe/London:20260421T145610
DTSTAMP:20260421T145610
CREATED:20210424T081422Z
LAST-MODIFIED:20220413T212136Z
UID:2467-0-0@www.knowle-cricketclub.co.uk
SUMMARY:Brislington CC 1st XI v Knowle CC 1st XI
DESCRIPTION:League
URL:https://www.knowle-cricketclub.co.uk/event-details/brislington-cc-1st-xi-v-knowle-cc-1st-xi/
CATEGORIES:Senior Cricket
END:VEVENT
BEGIN:VEVENT
DTSTART;TZID=Europe/London:20260421T145610
DTEND;TZID=Europe/London:20260421T145610
DTSTAMP:20260421T145610
CREATED:20210424T081407Z
LAST-MODIFIED:20220413T213343Z
UID:2462-0-0@www.knowle-cricketclub.co.uk
SUMMARY:Knowle CC 1st XI v Keynsham CC 1st XI
DESCRIPTION:League
URL:https://www.knowle-cricketclub.co.uk/event-details/knowle-cc-1st-xi-v-keynsham-cc-1st-xi/
CATEGORIES:Senior Cricket
END:VEVENT
END:VCALENDAR