BEGIN:VCALENDAR
VERSION:2.0
PRODID:-//Knowle Cricket Club - ECPv6.15.20//NONSGML v1.0//EN
CALSCALE:GREGORIAN
METHOD:PUBLISH
X-WR-CALNAME:Knowle Cricket Club
X-ORIGINAL-URL:https://www.knowle-cricketclub.co.uk
X-WR-CALDESC:Events for Knowle Cricket Club
REFRESH-INTERVAL;VALUE=DURATION:PT1H
X-Robots-Tag:noindex
X-PUBLISHED-TTL:PT1H
BEGIN:VTIMEZONE
TZID:Europe/London
BEGIN:DAYLIGHT
TZOFFSETFROM:+0000
TZOFFSETTO:+0100
TZNAME:BST
DTSTART:20210328T010000
END:DAYLIGHT
BEGIN:STANDARD
TZOFFSETFROM:+0100
TZOFFSETTO:+0000
TZNAME:GMT
DTSTART:20211031T010000
END:STANDARD
BEGIN:DAYLIGHT
TZOFFSETFROM:+0000
TZOFFSETTO:+0100
TZNAME:BST
DTSTART:20220327T010000
END:DAYLIGHT
BEGIN:STANDARD
TZOFFSETFROM:+0100
TZOFFSETTO:+0000
TZNAME:GMT
DTSTART:20221030T010000
END:STANDARD
BEGIN:DAYLIGHT
TZOFFSETFROM:+0000
TZOFFSETTO:+0100
TZNAME:BST
DTSTART:20230326T010000
END:DAYLIGHT
BEGIN:STANDARD
TZOFFSETFROM:+0100
TZOFFSETTO:+0000
TZNAME:GMT
DTSTART:20231029T010000
END:STANDARD
END:VTIMEZONE
BEGIN:VEVENT
DTSTART;TZID=Europe/London:20221106T043000
DTEND;TZID=Europe/London:20221106T200000
DTSTAMP:20260424T212809
CREATED:20220411T122248Z
LAST-MODIFIED:20221103T114328Z
UID:3290-1667709000-1667764800@www.knowle-cricketclub.co.uk
SUMMARY:Fireworks Display 2022
DESCRIPTION:We are hosting our annual fireworks display at our Broadwalk grounds on Sunday 6th November \n\n\nThe event is now in its 14th year and has proved to be a success thanks to the local community.\n\n\nGates open at 16:30\, the Display will commence between 18:45-19:00\n\n\n\n\nThe following will be available on the night:\n\n\n\nHot Food 🌭\nHot & Cold Drinks 🥤\nTuck Shop 🍭\nOutside Can Bars 🍺\n\n\n\nEntry prices are as follows: \n\n\n\n£7 per Adult 🎟\n£4 per Child 🎟\n£20 Family Ticket (2 x Adults & 2 x Children) 🎟\n\n\n\nThere are no advance ticket sales but both cash & card will be accepted on the gate\n\n\nAs there is no on-site parking\, we strongly advise you to walk to the event or use public transport.\nPlease also respect our neighbours. \n\n\n\n🙏 Thanks for all your support!
URL:https://www.knowle-cricketclub.co.uk/event-details/fireworks-display-2022/
LOCATION:Knowle CC (Broadwalk)\, Knowle Cricket Club\, Bristol\, BS4 2RD\, United Kingdom
CATEGORIES:Social
END:VEVENT
END:VCALENDAR